BEGIN:VCALENDAR
VERSION:2.0
PRODID:-//TASA Online - ECPv6.15.15//NONSGML v1.0//EN
CALSCALE:GREGORIAN
METHOD:PUBLISH
X-ORIGINAL-URL:https://tasaonline.org.au
X-WR-CALDESC:Events for TASA Online
REFRESH-INTERVAL;VALUE=DURATION:PT1H
X-Robots-Tag:noindex
X-PUBLISHED-TTL:PT1H
BEGIN:VTIMEZONE
TZID:Australia/Adelaide
BEGIN:STANDARD
TZOFFSETFROM:+1030
TZOFFSETTO:+0930
TZNAME:ACST
DTSTART:20180331T163000
END:STANDARD
BEGIN:DAYLIGHT
TZOFFSETFROM:+0930
TZOFFSETTO:+1030
TZNAME:ACDT
DTSTART:20181006T163000
END:DAYLIGHT
BEGIN:STANDARD
TZOFFSETFROM:+1030
TZOFFSETTO:+0930
TZNAME:ACST
DTSTART:20190406T163000
END:STANDARD
BEGIN:DAYLIGHT
TZOFFSETFROM:+0930
TZOFFSETTO:+1030
TZNAME:ACDT
DTSTART:20191005T163000
END:DAYLIGHT
BEGIN:STANDARD
TZOFFSETFROM:+1030
TZOFFSETTO:+0930
TZNAME:ACST
DTSTART:20200404T163000
END:STANDARD
BEGIN:DAYLIGHT
TZOFFSETFROM:+0930
TZOFFSETTO:+1030
TZNAME:ACDT
DTSTART:20201003T163000
END:DAYLIGHT
BEGIN:STANDARD
TZOFFSETFROM:+1030
TZOFFSETTO:+0930
TZNAME:ACST
DTSTART:20210403T163000
END:STANDARD
BEGIN:DAYLIGHT
TZOFFSETFROM:+0930
TZOFFSETTO:+1030
TZNAME:ACDT
DTSTART:20211002T163000
END:DAYLIGHT
END:VTIMEZONE
BEGIN:VEVENT
DTSTART;TZID=Australia/Adelaide:20200117T090000
DTEND;TZID=Australia/Adelaide:20200117T160000
DTSTAMP:20260425T132417
CREATED:20191211T133929Z
LAST-MODIFIED:20200105T131959Z
UID:10015496-1579251600-1579276800@tasaonline.org.au
SUMMARY:Broadway Bootcamp 2020
DESCRIPTION:Calling all theatre kids! Join us for our 1\, 3\, 5 or 10 day program. Open to ages 5-18\, this year we are offering a wider range of age groups and different performance troupes to suit the needs of a variety of ages and skill levels. \nThose participating in the full 10 days will be able to perform in the showcase on the final day and also have the option to take part in an Adelaide Fringe performance. \nAsk for an information pack today!\n \n\n 
URL:https://tasaonline.org.au/events/broadway-bootcamp-2020/2020-01-17/
LOCATION:The Parks Theatre: Theatre One\, 46 Cowan St\, Angle Park\, SA\, 5010\, Australia
CATEGORIES:Workshop/ AGM/ Fundraisers
END:VEVENT
BEGIN:VEVENT
DTSTART;TZID=Australia/Adelaide:20200116T090000
DTEND;TZID=Australia/Adelaide:20200116T160000
DTSTAMP:20260425T132417
CREATED:20191211T133929Z
LAST-MODIFIED:20200105T131959Z
UID:10015495-1579165200-1579190400@tasaonline.org.au
SUMMARY:Broadway Bootcamp 2020
DESCRIPTION:Calling all theatre kids! Join us for our 1\, 3\, 5 or 10 day program. Open to ages 5-18\, this year we are offering a wider range of age groups and different performance troupes to suit the needs of a variety of ages and skill levels. \nThose participating in the full 10 days will be able to perform in the showcase on the final day and also have the option to take part in an Adelaide Fringe performance. \nAsk for an information pack today!\n \n\n 
URL:https://tasaonline.org.au/events/broadway-bootcamp-2020/2020-01-16/
LOCATION:The Parks Theatre: Theatre One\, 46 Cowan St\, Angle Park\, SA\, 5010\, Australia
CATEGORIES:Workshop/ AGM/ Fundraisers
END:VEVENT
BEGIN:VEVENT
DTSTART;TZID=Australia/Adelaide:20200115T090000
DTEND;TZID=Australia/Adelaide:20200115T160000
DTSTAMP:20260425T132417
CREATED:20191211T133929Z
LAST-MODIFIED:20200105T131959Z
UID:10015494-1579078800-1579104000@tasaonline.org.au
SUMMARY:Broadway Bootcamp 2020
DESCRIPTION:Calling all theatre kids! Join us for our 1\, 3\, 5 or 10 day program. Open to ages 5-18\, this year we are offering a wider range of age groups and different performance troupes to suit the needs of a variety of ages and skill levels. \nThose participating in the full 10 days will be able to perform in the showcase on the final day and also have the option to take part in an Adelaide Fringe performance. \nAsk for an information pack today!\n \n\n 
URL:https://tasaonline.org.au/events/broadway-bootcamp-2020/2020-01-15/
LOCATION:The Parks Theatre: Theatre One\, 46 Cowan St\, Angle Park\, SA\, 5010\, Australia
CATEGORIES:Workshop/ AGM/ Fundraisers
END:VEVENT
BEGIN:VEVENT
DTSTART;TZID=Australia/Adelaide:20200114T090000
DTEND;TZID=Australia/Adelaide:20200114T160000
DTSTAMP:20260425T132417
CREATED:20191211T133929Z
LAST-MODIFIED:20200105T131959Z
UID:10015493-1578992400-1579017600@tasaonline.org.au
SUMMARY:Broadway Bootcamp 2020
DESCRIPTION:Calling all theatre kids! Join us for our 1\, 3\, 5 or 10 day program. Open to ages 5-18\, this year we are offering a wider range of age groups and different performance troupes to suit the needs of a variety of ages and skill levels. \nThose participating in the full 10 days will be able to perform in the showcase on the final day and also have the option to take part in an Adelaide Fringe performance. \nAsk for an information pack today!\n \n\n 
URL:https://tasaonline.org.au/events/broadway-bootcamp-2020/2020-01-14/
LOCATION:The Parks Theatre: Theatre One\, 46 Cowan St\, Angle Park\, SA\, 5010\, Australia
CATEGORIES:Workshop/ AGM/ Fundraisers
END:VEVENT
BEGIN:VEVENT
DTSTART;TZID=Australia/Adelaide:20200113T090000
DTEND;TZID=Australia/Adelaide:20200113T160000
DTSTAMP:20260425T132417
CREATED:20191211T133929Z
LAST-MODIFIED:20200105T131959Z
UID:10015492-1578906000-1578931200@tasaonline.org.au
SUMMARY:Broadway Bootcamp 2020
DESCRIPTION:Calling all theatre kids! Join us for our 1\, 3\, 5 or 10 day program. Open to ages 5-18\, this year we are offering a wider range of age groups and different performance troupes to suit the needs of a variety of ages and skill levels. \nThose participating in the full 10 days will be able to perform in the showcase on the final day and also have the option to take part in an Adelaide Fringe performance. \nAsk for an information pack today!\n \n\n 
URL:https://tasaonline.org.au/events/broadway-bootcamp-2020/2020-01-13/
LOCATION:The Parks Theatre: Theatre One\, 46 Cowan St\, Angle Park\, SA\, 5010\, Australia
CATEGORIES:Workshop/ AGM/ Fundraisers
END:VEVENT
BEGIN:VEVENT
DTSTART;TZID=Australia/Adelaide:20200110T090000
DTEND;TZID=Australia/Adelaide:20200110T160000
DTSTAMP:20260425T132417
CREATED:20191211T133929Z
LAST-MODIFIED:20200105T131959Z
UID:10015491-1578646800-1578672000@tasaonline.org.au
SUMMARY:Broadway Bootcamp 2020
DESCRIPTION:Calling all theatre kids! Join us for our 1\, 3\, 5 or 10 day program. Open to ages 5-18\, this year we are offering a wider range of age groups and different performance troupes to suit the needs of a variety of ages and skill levels. \nThose participating in the full 10 days will be able to perform in the showcase on the final day and also have the option to take part in an Adelaide Fringe performance. \nAsk for an information pack today!\n \n\n 
URL:https://tasaonline.org.au/events/broadway-bootcamp-2020/2020-01-10/
LOCATION:The Parks Theatre: Theatre One\, 46 Cowan St\, Angle Park\, SA\, 5010\, Australia
CATEGORIES:Workshop/ AGM/ Fundraisers
END:VEVENT
BEGIN:VEVENT
DTSTART;TZID=Australia/Adelaide:20200109T090000
DTEND;TZID=Australia/Adelaide:20200109T160000
DTSTAMP:20260425T132417
CREATED:20191211T133929Z
LAST-MODIFIED:20200105T131959Z
UID:10015490-1578560400-1578585600@tasaonline.org.au
SUMMARY:Broadway Bootcamp 2020
DESCRIPTION:Calling all theatre kids! Join us for our 1\, 3\, 5 or 10 day program. Open to ages 5-18\, this year we are offering a wider range of age groups and different performance troupes to suit the needs of a variety of ages and skill levels. \nThose participating in the full 10 days will be able to perform in the showcase on the final day and also have the option to take part in an Adelaide Fringe performance. \nAsk for an information pack today!\n \n\n 
URL:https://tasaonline.org.au/events/broadway-bootcamp-2020/2020-01-09/
LOCATION:The Parks Theatre: Theatre One\, 46 Cowan St\, Angle Park\, SA\, 5010\, Australia
CATEGORIES:Workshop/ AGM/ Fundraisers
END:VEVENT
BEGIN:VEVENT
DTSTART;TZID=Australia/Adelaide:20200108T090000
DTEND;TZID=Australia/Adelaide:20200108T160000
DTSTAMP:20260425T132417
CREATED:20191211T133929Z
LAST-MODIFIED:20200105T131959Z
UID:10015489-1578474000-1578499200@tasaonline.org.au
SUMMARY:Broadway Bootcamp 2020
DESCRIPTION:Calling all theatre kids! Join us for our 1\, 3\, 5 or 10 day program. Open to ages 5-18\, this year we are offering a wider range of age groups and different performance troupes to suit the needs of a variety of ages and skill levels. \nThose participating in the full 10 days will be able to perform in the showcase on the final day and also have the option to take part in an Adelaide Fringe performance. \nAsk for an information pack today!\n \n\n 
URL:https://tasaonline.org.au/events/broadway-bootcamp-2020/2020-01-08/
LOCATION:The Parks Theatre: Theatre One\, 46 Cowan St\, Angle Park\, SA\, 5010\, Australia
CATEGORIES:Workshop/ AGM/ Fundraisers
END:VEVENT
BEGIN:VEVENT
DTSTART;TZID=Australia/Adelaide:20200107T090000
DTEND;TZID=Australia/Adelaide:20200107T160000
DTSTAMP:20260425T132417
CREATED:20191211T133929Z
LAST-MODIFIED:20200105T131959Z
UID:10015488-1578387600-1578412800@tasaonline.org.au
SUMMARY:Broadway Bootcamp 2020
DESCRIPTION:Calling all theatre kids! Join us for our 1\, 3\, 5 or 10 day program. Open to ages 5-18\, this year we are offering a wider range of age groups and different performance troupes to suit the needs of a variety of ages and skill levels. \nThose participating in the full 10 days will be able to perform in the showcase on the final day and also have the option to take part in an Adelaide Fringe performance. \nAsk for an information pack today!\n \n\n 
URL:https://tasaonline.org.au/events/broadway-bootcamp-2020/2020-01-07/
LOCATION:The Parks Theatre: Theatre One\, 46 Cowan St\, Angle Park\, SA\, 5010\, Australia
CATEGORIES:Workshop/ AGM/ Fundraisers
END:VEVENT
BEGIN:VEVENT
DTSTART;TZID=Australia/Adelaide:20200106T090000
DTEND;TZID=Australia/Adelaide:20200106T160000
DTSTAMP:20260425T132417
CREATED:20191211T133929Z
LAST-MODIFIED:20200105T131959Z
UID:10015487-1578301200-1578326400@tasaonline.org.au
SUMMARY:Broadway Bootcamp 2020
DESCRIPTION:Calling all theatre kids! Join us for our 1\, 3\, 5 or 10 day program. Open to ages 5-18\, this year we are offering a wider range of age groups and different performance troupes to suit the needs of a variety of ages and skill levels. \nThose participating in the full 10 days will be able to perform in the showcase on the final day and also have the option to take part in an Adelaide Fringe performance. \nAsk for an information pack today!\n \n\n 
URL:https://tasaonline.org.au/events/broadway-bootcamp-2020/2020-01-06/
LOCATION:The Parks Theatre: Theatre One\, 46 Cowan St\, Angle Park\, SA\, 5010\, Australia
CATEGORIES:Workshop/ AGM/ Fundraisers
END:VEVENT
BEGIN:VEVENT
DTSTART;TZID=Australia/Adelaide:20191221T183000
DTEND;TZID=Australia/Adelaide:20191221T203000
DTSTAMP:20260425T132417
CREATED:20191128T141525Z
LAST-MODIFIED:20200104T050818Z
UID:10015483-1576953000-1576960200@tasaonline.org.au
SUMMARY:The Dragon of Wantly
DESCRIPTION:Pantomime!\nBased on an English legend involving real people\, this panto was beloved by Victorian audiences and has now been adapted for the 21st century by that master of pantomime – Norman Robbins. With vengeful fairies\, knock-a-bout bailiffs\, a romantic leading lady and a handsome Squire\, plus the outrageous Dame\, all the ingredients are here for a wonderful evening’s entertainment! \n 
URL:https://tasaonline.org.au/events/the-dragon-of-wantly/2019-12-21/2/
LOCATION:The Parks Theatre: Theatre One\, 46 Cowan St\, Angle Park\, SA\, 5010\, Australia
CATEGORIES:Productions
END:VEVENT
BEGIN:VEVENT
DTSTART;TZID=Australia/Adelaide:20191221T100000
DTEND;TZID=Australia/Adelaide:20191221T120000
DTSTAMP:20260425T132417
CREATED:20191128T141525Z
LAST-MODIFIED:20200104T050818Z
UID:10015482-1576922400-1576929600@tasaonline.org.au
SUMMARY:The Dragon of Wantly
DESCRIPTION:Pantomime!\nBased on an English legend involving real people\, this panto was beloved by Victorian audiences and has now been adapted for the 21st century by that master of pantomime – Norman Robbins. With vengeful fairies\, knock-a-bout bailiffs\, a romantic leading lady and a handsome Squire\, plus the outrageous Dame\, all the ingredients are here for a wonderful evening’s entertainment! \n 
URL:https://tasaonline.org.au/events/the-dragon-of-wantly/2019-12-21/1/
LOCATION:The Parks Theatre: Theatre One\, 46 Cowan St\, Angle Park\, SA\, 5010\, Australia
CATEGORIES:Productions
END:VEVENT
BEGIN:VEVENT
DTSTART;TZID=Australia/Adelaide:20191220T100000
DTEND;TZID=Australia/Adelaide:20191220T120000
DTSTAMP:20260425T132417
CREATED:20191128T141525Z
LAST-MODIFIED:20200104T050818Z
UID:10015481-1576836000-1576843200@tasaonline.org.au
SUMMARY:The Dragon of Wantly
DESCRIPTION:Pantomime!\nBased on an English legend involving real people\, this panto was beloved by Victorian audiences and has now been adapted for the 21st century by that master of pantomime – Norman Robbins. With vengeful fairies\, knock-a-bout bailiffs\, a romantic leading lady and a handsome Squire\, plus the outrageous Dame\, all the ingredients are here for a wonderful evening’s entertainment! \n 
URL:https://tasaonline.org.au/events/the-dragon-of-wantly/2019-12-20/
LOCATION:The Parks Theatre: Theatre One\, 46 Cowan St\, Angle Park\, SA\, 5010\, Australia
CATEGORIES:Productions
END:VEVENT
BEGIN:VEVENT
DTSTART;TZID=Australia/Adelaide:20191108T124500
DTEND;TZID=Australia/Adelaide:20191108T143000
DTSTAMP:20260425T132417
CREATED:20190924T143046Z
LAST-MODIFIED:20191109T123742Z
UID:10014495-1573217100-1573223400@tasaonline.org.au
SUMMARY:ReConnect! 2019
DESCRIPTION:We are pretty busy innovating\, making\, rehearsing … and we miss you! Let’s ReConnect! Everything at No Strings starts with a workshop – the Ignition Point – where theatre experimentation & (dis)ability meet. Experience this unique codesign process \nReConnect 2019 features amazing new works created by all the No Strings performers in collaboration with:\nTyson Olson\, Ashleigh Hauschild\, Stephanie Cavallaro\, Artistic Associate Jermaine Hampton and Directed by Alirio Zavarce \nReConnect is the annual showcase event for No Strings where our performers demonstrate their amazing abilities. Let us share with you all the new works that all of the No Strings performers have been creating. \nCelebrate our 25th anniversary of No Strings Attached: The Theatre Redefining Disability.\nNo Strings is a Multi Award Winning Theatre Company that creates original theatre through the unique perspectives of our artists and performers \nTickets available at https://www.trybooking.com/BFOCM\n*limited tickets will be available at the door \nNo Strings Attached creates original theatre through the unique perspectives of our artists and performers who live with disability. We produce locally\, tour nationally and discover new talent in weekly workshops tailored to the individual needs of participants. We develop members’ skills in all areas of theatre production\, and produce work which raises awareness for and about people with disabilities. \nNo Strings Attached was established in 1993 by performer\, writer and entrepreneur Helen Flinter Leach. Our mission is to lead the way in training\, services and opportunities for disabled artists by creating world class theatre\, and we support members to develop career paths in the performing arts. We value entertainment and advocacy\, individuality and community\, unity and diversity. \nPresented by:\nNo Strings Attached Theatre of Disability
URL:https://tasaonline.org.au/events/reconnect-2019/2019-11-08/2/
LOCATION:The Parks Theatre: Theatre One\, 46 Cowan St\, Angle Park\, SA\, 5010\, Australia
CATEGORIES:Productions
ORGANIZER;CN="No Strings Attached - Theatre of Disability":MAILTO:contact.us@nostringsattached.org.au
END:VEVENT
BEGIN:VEVENT
DTSTART;TZID=Australia/Adelaide:20191108T103000
DTEND;TZID=Australia/Adelaide:20191108T120000
DTSTAMP:20260425T132417
CREATED:20190924T143046Z
LAST-MODIFIED:20191109T123742Z
UID:10014494-1573209000-1573214400@tasaonline.org.au
SUMMARY:ReConnect! 2019
DESCRIPTION:We are pretty busy innovating\, making\, rehearsing … and we miss you! Let’s ReConnect! Everything at No Strings starts with a workshop – the Ignition Point – where theatre experimentation & (dis)ability meet. Experience this unique codesign process \nReConnect 2019 features amazing new works created by all the No Strings performers in collaboration with:\nTyson Olson\, Ashleigh Hauschild\, Stephanie Cavallaro\, Artistic Associate Jermaine Hampton and Directed by Alirio Zavarce \nReConnect is the annual showcase event for No Strings where our performers demonstrate their amazing abilities. Let us share with you all the new works that all of the No Strings performers have been creating. \nCelebrate our 25th anniversary of No Strings Attached: The Theatre Redefining Disability.\nNo Strings is a Multi Award Winning Theatre Company that creates original theatre through the unique perspectives of our artists and performers \nTickets available at https://www.trybooking.com/BFOCM\n*limited tickets will be available at the door \nNo Strings Attached creates original theatre through the unique perspectives of our artists and performers who live with disability. We produce locally\, tour nationally and discover new talent in weekly workshops tailored to the individual needs of participants. We develop members’ skills in all areas of theatre production\, and produce work which raises awareness for and about people with disabilities. \nNo Strings Attached was established in 1993 by performer\, writer and entrepreneur Helen Flinter Leach. Our mission is to lead the way in training\, services and opportunities for disabled artists by creating world class theatre\, and we support members to develop career paths in the performing arts. We value entertainment and advocacy\, individuality and community\, unity and diversity. \nPresented by:\nNo Strings Attached Theatre of Disability
URL:https://tasaonline.org.au/events/reconnect-2019/2019-11-08/1/
LOCATION:The Parks Theatre: Theatre One\, 46 Cowan St\, Angle Park\, SA\, 5010\, Australia
CATEGORIES:Productions
ORGANIZER;CN="No Strings Attached - Theatre of Disability":MAILTO:contact.us@nostringsattached.org.au
END:VEVENT
BEGIN:VEVENT
DTSTART;TZID=Australia/Adelaide:20191107T190000
DTEND;TZID=Australia/Adelaide:20191107T213000
DTSTAMP:20260425T132417
CREATED:20190924T143046Z
LAST-MODIFIED:20191109T123742Z
UID:10014493-1573153200-1573162200@tasaonline.org.au
SUMMARY:ReConnect! 2019
DESCRIPTION:We are pretty busy innovating\, making\, rehearsing … and we miss you! Let’s ReConnect! Everything at No Strings starts with a workshop – the Ignition Point – where theatre experimentation & (dis)ability meet. Experience this unique codesign process \nReConnect 2019 features amazing new works created by all the No Strings performers in collaboration with:\nTyson Olson\, Ashleigh Hauschild\, Stephanie Cavallaro\, Artistic Associate Jermaine Hampton and Directed by Alirio Zavarce \nReConnect is the annual showcase event for No Strings where our performers demonstrate their amazing abilities. Let us share with you all the new works that all of the No Strings performers have been creating. \nCelebrate our 25th anniversary of No Strings Attached: The Theatre Redefining Disability.\nNo Strings is a Multi Award Winning Theatre Company that creates original theatre through the unique perspectives of our artists and performers \nTickets available at https://www.trybooking.com/BFOCM\n*limited tickets will be available at the door \nNo Strings Attached creates original theatre through the unique perspectives of our artists and performers who live with disability. We produce locally\, tour nationally and discover new talent in weekly workshops tailored to the individual needs of participants. We develop members’ skills in all areas of theatre production\, and produce work which raises awareness for and about people with disabilities. \nNo Strings Attached was established in 1993 by performer\, writer and entrepreneur Helen Flinter Leach. Our mission is to lead the way in training\, services and opportunities for disabled artists by creating world class theatre\, and we support members to develop career paths in the performing arts. We value entertainment and advocacy\, individuality and community\, unity and diversity. \nPresented by:\nNo Strings Attached Theatre of Disability
URL:https://tasaonline.org.au/events/reconnect-2019/2019-11-07/
LOCATION:The Parks Theatre: Theatre One\, 46 Cowan St\, Angle Park\, SA\, 5010\, Australia
CATEGORIES:Productions
ORGANIZER;CN="No Strings Attached - Theatre of Disability":MAILTO:contact.us@nostringsattached.org.au
END:VEVENT
END:VCALENDAR