BEGIN:VCALENDAR
VERSION:2.0
PRODID:-//TASA Online - ECPv6.15.15//NONSGML v1.0//EN
CALSCALE:GREGORIAN
METHOD:PUBLISH
X-ORIGINAL-URL:https://tasaonline.org.au
X-WR-CALDESC:Events for TASA Online
REFRESH-INTERVAL;VALUE=DURATION:PT1H
X-Robots-Tag:noindex
X-PUBLISHED-TTL:PT1H
BEGIN:VTIMEZONE
TZID:Australia/Adelaide
BEGIN:STANDARD
TZOFFSETFROM:+1030
TZOFFSETTO:+0930
TZNAME:ACST
DTSTART:20170401T163000
END:STANDARD
BEGIN:DAYLIGHT
TZOFFSETFROM:+0930
TZOFFSETTO:+1030
TZNAME:ACDT
DTSTART:20170930T163000
END:DAYLIGHT
BEGIN:STANDARD
TZOFFSETFROM:+1030
TZOFFSETTO:+0930
TZNAME:ACST
DTSTART:20180331T163000
END:STANDARD
BEGIN:DAYLIGHT
TZOFFSETFROM:+0930
TZOFFSETTO:+1030
TZNAME:ACDT
DTSTART:20181006T163000
END:DAYLIGHT
BEGIN:STANDARD
TZOFFSETFROM:+1030
TZOFFSETTO:+0930
TZNAME:ACST
DTSTART:20190406T163000
END:STANDARD
BEGIN:DAYLIGHT
TZOFFSETFROM:+0930
TZOFFSETTO:+1030
TZNAME:ACDT
DTSTART:20191005T163000
END:DAYLIGHT
BEGIN:STANDARD
TZOFFSETFROM:+1030
TZOFFSETTO:+0930
TZNAME:ACST
DTSTART:20200404T163000
END:STANDARD
BEGIN:DAYLIGHT
TZOFFSETFROM:+0930
TZOFFSETTO:+1030
TZNAME:ACDT
DTSTART:20201003T163000
END:DAYLIGHT
BEGIN:STANDARD
TZOFFSETFROM:+1030
TZOFFSETTO:+0930
TZNAME:ACST
DTSTART:20210403T163000
END:STANDARD
BEGIN:DAYLIGHT
TZOFFSETFROM:+0930
TZOFFSETTO:+1030
TZNAME:ACDT
DTSTART:20211002T163000
END:DAYLIGHT
BEGIN:STANDARD
TZOFFSETFROM:+1030
TZOFFSETTO:+0930
TZNAME:ACST
DTSTART:20220402T163000
END:STANDARD
BEGIN:DAYLIGHT
TZOFFSETFROM:+0930
TZOFFSETTO:+1030
TZNAME:ACDT
DTSTART:20221001T163000
END:DAYLIGHT
END:VTIMEZONE
BEGIN:VEVENT
DTSTART;TZID=Australia/Adelaide:20210226T190000
DTEND;TZID=Australia/Adelaide:20210226T213000
DTSTAMP:20260424T051334
CREATED:20210213T055548Z
LAST-MODIFIED:20210227T063404Z
UID:10015358-1614366000-1614375000@tasaonline.org.au
SUMMARY:Annie
DESCRIPTION:NOW Productions presents ‘Annie’ at the Shedley Theatre\n\nBased on the popular comic strip by Harold Gray\, Annie has become a worldwide phenomenon and was the winner of seven Tony Awards\, including Best Musical. The beloved book and score by Tony Award winners\, Thomas Meehan\, Charles Strouse and Martin Charnin\, features some of the greatest musical theatre hits ever written\, including “Tomorrow.” \nWith equal measures of pluck and positivity\, little orphan Annie charms everyone’s hearts despite a next-to-nothing start in 1930s New York City. She is determined to find the parents who abandoned her years ago on the doorstep of a New York City Orphanage that is run by the cruel\, embittered Miss Hannigan. With the help of the other girls in the Orphanage\, Annie escapes to the wondrous world of NYC. In adventure after fun-filled adventure\, Annie foils Miss Hannigan’s evil machinations… and even befriends President Franklin Delano Roosevelt! She finds a new home and family in billionaire\, Oliver Warbucks\, his personal secretary\, Grace Farrell\, and a lovable mutt named Sandy. \nAnnie is the perfect family-friendly musical.
URL:https://tasaonline.org.au/events/annie-3/2021-02-26/
LOCATION:The Shedley Theatre\, 10 Playford Boulevard\, Elizabeth\, South Australia\, 5112\, Australia
CATEGORIES:Productions
ORGANIZER;CN="Now Productions":MAILTO:Info@NowProductionsSA.com.au
END:VEVENT
BEGIN:VEVENT
DTSTART;VALUE=DATE:20210131
DTEND;VALUE=DATE:20210201
DTSTAMP:20260424T051334
CREATED:20201228T084158Z
LAST-MODIFIED:20201228T084158Z
UID:10016454-1612051200-1612137599@tasaonline.org.au
SUMMARY:Agent Percash: Rewind
DESCRIPTION:NOW PRODUCTIONS next big movie project. “Agent Percash : Rewind” \nThis movie was a new enterprise written by Joe Russell and based on the success of the most recent movies Agent Percash 1\, 2 and TEN FOUR.  This adventure is equally as secretive and includes the interactive elements of optional story lines. \nSynopsis: \nAn action packed\, comical and family fun movie that follows within the Agent Percash Universe.  A small group of former agents and police officers form an alliance to help hunt down the notorious mastermind\, Le Marc before he finally achieves his grand plan to take over the world.  Years in the planning – Le Marc is simply undefeatable in his plot.  How can this group of misfits save the world?  Only one option exists\, it’s time to Rewind! \n​It all must come to an End! \n\n\n\n\n\n\n\n\nAudition Due Date: \nFace to face auditions will be held on Sunday 31st January 2021 \nVideo auditions are due the same day by 5pm.\n(Now is a great time\, being in school holidays\, to film and hand up your audition earlier rather than later)\n​\nPlease upload your audition video to YouTube or a similar site and send the link to this email address. \n\n\nExpectations: \nNow Productions is auditioning for Agent Percash – Rewind and holding face-to-face and video auditions for this project. \nCast must be aged 9-21 years. \nWe provide you with a monologue and you may choose how best to present your audition. \nThe brief for the audition is: \nLines need to be from memory\nBe creative and think outside the box\nThink about your surroundings (within the video)\nBest audition\, wins the best role!
URL:https://tasaonline.org.au/events/agent-percash-rewind/
CATEGORIES:Auditions
ATTACH;FMTTYPE=image/png:https://tasaonline.org.au/wp-content/uploads/2019/03/NowProductions.png
ORGANIZER;CN="Now Productions":MAILTO:Info@NowProductionsSA.com.au
END:VEVENT
BEGIN:VEVENT
DTSTART;TZID=Australia/Adelaide:20201114T190000
DTEND;TZID=Australia/Adelaide:20201114T210000
DTSTAMP:20260424T051334
CREATED:20200919T064820Z
LAST-MODIFIED:20201101T020053Z
UID:10016316-1605380400-1605387600@tasaonline.org.au
SUMMARY:Ten Four
DESCRIPTION:An action packed\, comical and family fun movie that discovers the criminal underworld of a small country town. A police force\, ill-equipped to handle such a challenge – can they restore the peace and protect and serve their local community.\n​Time will tell! \nhttps://nowproductionssa.weebly.com/uploads/b/12933357-392614130752354001/10_4_165.mp4
URL:https://tasaonline.org.au/events/ten-four/
LOCATION:NOW Arts Centre\, 18-20 Charlotte Street\, Smithfield\, SA\, 5144\, Australia
CATEGORIES:Productions
ATTACH;FMTTYPE=image/png:https://tasaonline.org.au/wp-content/uploads/2019/03/NowProductions.png
ORGANIZER;CN="Now Productions":MAILTO:Info@NowProductionsSA.com.au
END:VEVENT
BEGIN:VEVENT
DTSTART;TZID=Australia/Adelaide:20201107T183000
DTEND;TZID=Australia/Adelaide:20201107T220000
DTSTAMP:20260424T051334
CREATED:20201106T234643Z
LAST-MODIFIED:20201106T235534Z
UID:10015279-1604773800-1604786400@tasaonline.org.au
SUMMARY:Now Glow
DESCRIPTION:Glow-in-the-dark Disco at the NOW Arts Centre! \nBook online at: www.trybooking.com/BLGLW \nTwo sessions:\n6.30pm-8.00pm Ages 9 & under\n8.00pm-10.00pm Ages 9+ \nFully supervised by our staff. Includes disco\, games and glow-in-the-dark facepainting! \nCome wearing all your Neon and/or White clothing to help you glow! Prizes for the best dressed and dance games! \nThose aged 9 can decide if they wish to attend the early session or the late session!
URL:https://tasaonline.org.au/events/now-glow/
LOCATION:NOW Arts Centre\, 18-20 Charlotte Street\, Smithfield\, SA\, 5144\, Australia
CATEGORIES:Workshop/ AGM/ Fundraisers
ORGANIZER;CN="Now Productions":MAILTO:Info@NowProductionsSA.com.au
END:VEVENT
BEGIN:VEVENT
DTSTART;VALUE=DATE:20200906
DTEND;VALUE=DATE:20200907
DTSTAMP:20260424T051334
CREATED:20200518T094745Z
LAST-MODIFIED:20200518T094745Z
UID:10014826-1599350400-1599436799@tasaonline.org.au
SUMMARY:Annie
DESCRIPTION:Now Productions will be presenting a youth production of “Annie” at the Shedley Theatre from 26th-27th February 2021.  Auditions will be held on Sunday 6th September and young people aged 7-21 are invited to attend – we require singers\, dancers and actors!
URL:https://tasaonline.org.au/events/annie-2/
LOCATION:SA\, Australia
CATEGORIES:Auditions
ATTACH;FMTTYPE=image/png:https://tasaonline.org.au/wp-content/uploads/2019/03/NowProductions.png
ORGANIZER;CN="Now Productions":MAILTO:Info@NowProductionsSA.com.au
END:VEVENT
BEGIN:VEVENT
DTSTART;VALUE=DATE:20200815
DTEND;VALUE=DATE:20200816
DTSTAMP:20260424T051334
CREATED:20200502T064112Z
LAST-MODIFIED:20200518T094155Z
UID:10016250-1597449600-1597535999@tasaonline.org.au
SUMMARY:10 - 4
DESCRIPTION:TEN FOUR is Now Productions next movie project\, set on location around South Australia. A script that is highly confidential not only from its intended audience but the cast and crew themselves. So many twists and turns\, action packed and great fun. \nNow Productions have made two movies to date\, both of which were a great success and loved by all. In true Now Productions style\, we always go bigger and better. Do not miss this opportunity.  \n\nVideo auditions required anytime from now – 15th August at the latest and filming is in October school holidays. Use your time whilst the Covid-19 restrictions are in place. \nInterested: email NowProducer@Gmail.com \n\nSynopsis:\nAn action packed\, comical and family fun movie that discovers the criminal underworld of a small country town. A police force\, ill-equipped to handle such a challenge – can they restore the peace\, protect and serve their local community. Time will tell! \n\nExpectations:\nNow Productions will be accepting video auditions only for this project. Cast must be aged 9-21 years. A monologue will be provided to the auditionee to make their very own. \nThe brief for the audition is:\nLines need to be from memory\nBe creative and think outside the box\nThink about your surroundings (within the video)\nBest audition\, wins the best role! \nFilming Dates:\n2 week filming schedule within the October school holidays. Auditionees need to be available for this filming schedule (mandatory). \nViewing:\nNovember 2020\, date to be confirmed. \nTo register your interest\, please email NowProducer@gmail.com \n 
URL:https://tasaonline.org.au/events/10-4/
LOCATION:SA\, Australia
CATEGORIES:Auditions
ATTACH;FMTTYPE=image/png:https://tasaonline.org.au/wp-content/uploads/2019/03/NowProductions.png
ORGANIZER;CN="Now Productions":MAILTO:Info@NowProductionsSA.com.au
END:VEVENT
BEGIN:VEVENT
DTSTART;TZID=Australia/Adelaide:20200229T190000
DTEND;TZID=Australia/Adelaide:20200229T213000
DTSTAMP:20260424T051334
CREATED:20200125T233113Z
LAST-MODIFIED:20200125T233113Z
UID:10015937-1583002800-1583011800@tasaonline.org.au
SUMMARY:Beauty and the Beast
DESCRIPTION:Youth Theatre Production of the Disney Classic\nBeauty and the Beast \n 
URL:https://tasaonline.org.au/events/beauty-and-the-beast/2020-02-29/2/
LOCATION:The Shedley Theatre\, 10 Playford Boulevard\, Elizabeth\, South Australia\, 5112\, Australia
CATEGORIES:Productions
ORGANIZER;CN="Now Productions":MAILTO:Info@NowProductionsSA.com.au
END:VEVENT
BEGIN:VEVENT
DTSTART;TZID=Australia/Adelaide:20200229T130000
DTEND;TZID=Australia/Adelaide:20200229T153000
DTSTAMP:20260424T051334
CREATED:20200125T233113Z
LAST-MODIFIED:20200125T233113Z
UID:10015936-1582981200-1582990200@tasaonline.org.au
SUMMARY:Beauty and the Beast
DESCRIPTION:Youth Theatre Production of the Disney Classic\nBeauty and the Beast \n 
URL:https://tasaonline.org.au/events/beauty-and-the-beast/2020-02-29/1/
LOCATION:The Shedley Theatre\, 10 Playford Boulevard\, Elizabeth\, South Australia\, 5112\, Australia
CATEGORIES:Productions
ORGANIZER;CN="Now Productions":MAILTO:Info@NowProductionsSA.com.au
END:VEVENT
BEGIN:VEVENT
DTSTART;TZID=Australia/Adelaide:20200228T190000
DTEND;TZID=Australia/Adelaide:20200228T213000
DTSTAMP:20260424T051334
CREATED:20200125T233113Z
LAST-MODIFIED:20200125T233113Z
UID:10015935-1582916400-1582925400@tasaonline.org.au
SUMMARY:Beauty and the Beast
DESCRIPTION:Youth Theatre Production of the Disney Classic\nBeauty and the Beast \n 
URL:https://tasaonline.org.au/events/beauty-and-the-beast/2020-02-28/
LOCATION:The Shedley Theatre\, 10 Playford Boulevard\, Elizabeth\, South Australia\, 5112\, Australia
CATEGORIES:Productions
ORGANIZER;CN="Now Productions":MAILTO:Info@NowProductionsSA.com.au
END:VEVENT
BEGIN:VEVENT
DTSTART;VALUE=DATE:20191215
DTEND;VALUE=DATE:20191216
DTSTAMP:20260424T051334
CREATED:20190925T141145Z
LAST-MODIFIED:20190925T141318Z
UID:10015424-1576368000-1576454399@tasaonline.org.au
SUMMARY:Les Misérables
DESCRIPTION:Now Productions will be presenting a full production of “Les Miserables” at the Barossa Arts & Convention Centre from 3rd-4th July 2020.  Auditions will be held on Sunday 15th December and performers aged 12 to adult are invited to attend – we require singers\, dancers and actors! \nWe will also be auditioning children aged 9-11 for the principal child roles. \nAuditions \nAuditions will be held on Sunday 15th December at our studios in Gawler. Once you have applied for an audition\, you will be given an audition slot.  All performers must attend a Singing/Acting audition and a Dance audition.  Don’t worry if your strengths lie in one particular area – we just need to see that everyone can do a little bit of everything!  You can also choose to attend a Principal audition if you would like to be considered for a main role. \nOnce you have applied to audition\, you will be sent the audition pieces so you can prepare in advance.  You may also be given some extra items to perform on the auditions day. \nChildren under 18 must have parental permission to audition. Adults aged 18 and over may sign the application themselves. \nVideo Auditions – it is always preferable that you attend the live audition day\, particularly if you would like to be considered for a principal role.  However\, if you are definitely not able to attend on 15th December\, you can request to submit a video audition.  Please note this in the ‘Notes’ section of the application form and we will send you instructions via email. \nRehearsals \nYou must be available for the following rehearsals. Please do not audition if you cannot attend these dates. Performers will be asked to leave the cast (without refund) if they miss rehearsals. Allowance will be made for illness if a medical certificate is produced (provided the performer is able to catch-up on anything missed at rehearsal) and commitments that you already have will be taken into consideration but must be noted on your application. \nSaturdays and Sundays from 7th March to 28th June  – main rehearsals (Saturday afternoons and all day Sundays) – NOW Studios in Gawler \n2x Wednesday evenings in June – sitzprobe orchestra rehearsals (dates to be confirmed) – Playford Band Hall in Elizabeth Vale \nThursday 2nd to Saturday 4th July – compulsory dress rehearsals & performances (times to be confirmed) – Barossa Arts & Convention Centre in Tanunda \nRemember that you must note any of the above dates that you cannot attend on your application.  Compulsory rehearsals cannot be missed.
URL:https://tasaonline.org.au/events/les-miserables-2/
LOCATION:SA\, Australia
CATEGORIES:Auditions
ATTACH;FMTTYPE=image/png:https://tasaonline.org.au/wp-content/uploads/2019/03/NowProductions.png
ORGANIZER;CN="Now Productions":MAILTO:Info@NowProductionsSA.com.au
END:VEVENT
BEGIN:VEVENT
DTSTART;TZID=Australia/Adelaide:20181220T190000
DTEND;TZID=Australia/Adelaide:20181220T213000
DTSTAMP:20260424T051334
CREATED:20180918T142121Z
LAST-MODIFIED:20190918T142538Z
UID:10015419-1545332400-1545341400@tasaonline.org.au
SUMMARY:Now Xmas
DESCRIPTION:Now Productions will be presenting a special Variety Show at the Barossa Arts & Convention Centre on 20th December 2018. A special guest star will be performing\, along with invited local talent. \nNow Productions will also be creating their own youth performances to include a range of mini-musicals and other performance opportunities. \nThis will be an exciting one-night-only Variety Show with a special guest star! Our performers will appear throughout the night in various mini-musical and other performances. There will also be a range of invited local talent. \nWe will be performing at the Barossa Arts & Convention Centre on 20th December 2018. Special VIP tickets will also be available to purchase which will include priority seating and pre-Show entertainment (with drinks and nibbles!)
URL:https://tasaonline.org.au/events/now-xmas/
LOCATION:Barossa Arts & Convention Centre\, 130 Magnolia Rd\, Tanunda\, South Australia\, 5352\, Australia
CATEGORIES:Productions
ORGANIZER;CN="Now Productions":MAILTO:Info@NowProductionsSA.com.au
END:VEVENT
END:VCALENDAR