BEGIN:VCALENDAR
VERSION:2.0
PRODID:-//TASA Online - ECPv6.15.15//NONSGML v1.0//EN
CALSCALE:GREGORIAN
METHOD:PUBLISH
X-WR-CALNAME:TASA Online
X-ORIGINAL-URL:https://tasaonline.org.au
X-WR-CALDESC:Events for TASA Online
REFRESH-INTERVAL;VALUE=DURATION:PT1H
X-Robots-Tag:noindex
X-PUBLISHED-TTL:PT1H
BEGIN:VTIMEZONE
TZID:Australia/Adelaide
BEGIN:STANDARD
TZOFFSETFROM:+1030
TZOFFSETTO:+0930
TZNAME:ACST
DTSTART:20200404T163000
END:STANDARD
BEGIN:DAYLIGHT
TZOFFSETFROM:+0930
TZOFFSETTO:+1030
TZNAME:ACDT
DTSTART:20201003T163000
END:DAYLIGHT
BEGIN:STANDARD
TZOFFSETFROM:+1030
TZOFFSETTO:+0930
TZNAME:ACST
DTSTART:20210403T163000
END:STANDARD
BEGIN:DAYLIGHT
TZOFFSETFROM:+0930
TZOFFSETTO:+1030
TZNAME:ACDT
DTSTART:20211002T163000
END:DAYLIGHT
BEGIN:STANDARD
TZOFFSETFROM:+1030
TZOFFSETTO:+0930
TZNAME:ACST
DTSTART:20220402T163000
END:STANDARD
BEGIN:DAYLIGHT
TZOFFSETFROM:+0930
TZOFFSETTO:+1030
TZNAME:ACDT
DTSTART:20221001T163000
END:DAYLIGHT
END:VTIMEZONE
BEGIN:VEVENT
DTSTART;TZID=Australia/Adelaide:20210320T200000
DTEND;TZID=Australia/Adelaide:20210320T223000
DTSTAMP:20260425T053348
CREATED:20201228T082745Z
LAST-MODIFIED:20210124T010327Z
UID:10016440-1616270400-1616279400@tasaonline.org.au
SUMMARY:COVIDIOTS
DESCRIPTION:It started with Toilet Paper and wiped out the world! COVID-19 has cancelled everything but laughter. \nMeet the Rona Family! See hotelier Red Rona (Matt Byrne)\, his witchy Bunnings wife Karen Rona (Rose Vallen)\, fiery daughter Corona Rona and deep clean son Sheen Rona (Jayke Melling) take this locked down world right up the aisle!\n﻿
URL:https://tasaonline.org.au/events/covidiots/2021-03-20/
LOCATION:Norwood Concert Hall – Don Pyatt Hall\, 175 The Parade\, Norwood\, SA\, 5067\, Australia
ORGANIZER;CN="Matt Byrne Media":MAILTO:mbm@adelaide.on.net
END:VEVENT
BEGIN:VEVENT
DTSTART;TZID=Australia/Adelaide:20210319T200000
DTEND;TZID=Australia/Adelaide:20210319T223000
DTSTAMP:20260425T053348
CREATED:20201228T082745Z
LAST-MODIFIED:20210124T010327Z
UID:10016439-1616184000-1616193000@tasaonline.org.au
SUMMARY:COVIDIOTS
DESCRIPTION:It started with Toilet Paper and wiped out the world! COVID-19 has cancelled everything but laughter. \nMeet the Rona Family! See hotelier Red Rona (Matt Byrne)\, his witchy Bunnings wife Karen Rona (Rose Vallen)\, fiery daughter Corona Rona and deep clean son Sheen Rona (Jayke Melling) take this locked down world right up the aisle!\n﻿
URL:https://tasaonline.org.au/events/covidiots/2021-03-19/
LOCATION:Norwood Concert Hall – Don Pyatt Hall\, 175 The Parade\, Norwood\, SA\, 5067\, Australia
ORGANIZER;CN="Matt Byrne Media":MAILTO:mbm@adelaide.on.net
END:VEVENT
BEGIN:VEVENT
DTSTART;TZID=Australia/Adelaide:20210319T110000
DTEND;TZID=Australia/Adelaide:20210319T120000
DTSTAMP:20260425T053348
CREATED:20201228T083628Z
LAST-MODIFIED:20210124T010631Z
UID:10016453-1616151600-1616155200@tasaonline.org.au
SUMMARY:Matt Byrne's: Mum's Story
DESCRIPTION:Mum’s are special. After the True Story of Kevin Byrne\, Matt is back with Gwen Byrne’s amazing life. She was the eldest of 11\, Nanna the eldest of 12: Catholic families! Mum had five kids\, cooked on a wood stove\, was a dress maker\, scone baker\, Vinnie’s volunteer & mad Port fan. Gwen loved her community and her family & I still miss her.
URL:https://tasaonline.org.au/events/matt-byrnes-mums-story/2021-03-19/
LOCATION:Norwood Concert Hall – Don Pyatt Hall\, 175 The Parade\, Norwood\, SA\, 5067\, Australia
ORGANIZER;CN="Matt Byrne Media":MAILTO:mbm@adelaide.on.net
END:VEVENT
BEGIN:VEVENT
DTSTART;TZID=Australia/Adelaide:20210318T200000
DTEND;TZID=Australia/Adelaide:20210318T223000
DTSTAMP:20260425T053348
CREATED:20201228T082745Z
LAST-MODIFIED:20210124T010327Z
UID:10016438-1616097600-1616106600@tasaonline.org.au
SUMMARY:COVIDIOTS
DESCRIPTION:It started with Toilet Paper and wiped out the world! COVID-19 has cancelled everything but laughter. \nMeet the Rona Family! See hotelier Red Rona (Matt Byrne)\, his witchy Bunnings wife Karen Rona (Rose Vallen)\, fiery daughter Corona Rona and deep clean son Sheen Rona (Jayke Melling) take this locked down world right up the aisle!\n﻿
URL:https://tasaonline.org.au/events/covidiots/2021-03-18/
LOCATION:Norwood Concert Hall – Don Pyatt Hall\, 175 The Parade\, Norwood\, SA\, 5067\, Australia
ORGANIZER;CN="Matt Byrne Media":MAILTO:mbm@adelaide.on.net
END:VEVENT
BEGIN:VEVENT
DTSTART;TZID=Australia/Adelaide:20210318T110000
DTEND;TZID=Australia/Adelaide:20210318T120000
DTSTAMP:20260425T053348
CREATED:20201228T083628Z
LAST-MODIFIED:20210124T010631Z
UID:10016452-1616065200-1616068800@tasaonline.org.au
SUMMARY:Matt Byrne's: Mum's Story
DESCRIPTION:Mum’s are special. After the True Story of Kevin Byrne\, Matt is back with Gwen Byrne’s amazing life. She was the eldest of 11\, Nanna the eldest of 12: Catholic families! Mum had five kids\, cooked on a wood stove\, was a dress maker\, scone baker\, Vinnie’s volunteer & mad Port fan. Gwen loved her community and her family & I still miss her.
URL:https://tasaonline.org.au/events/matt-byrnes-mums-story/2021-03-18/
LOCATION:Norwood Concert Hall – Don Pyatt Hall\, 175 The Parade\, Norwood\, SA\, 5067\, Australia
ORGANIZER;CN="Matt Byrne Media":MAILTO:mbm@adelaide.on.net
END:VEVENT
BEGIN:VEVENT
DTSTART;TZID=Australia/Adelaide:20210317T200000
DTEND;TZID=Australia/Adelaide:20210317T223000
DTSTAMP:20260425T053348
CREATED:20201228T082745Z
LAST-MODIFIED:20210124T010327Z
UID:10016437-1616011200-1616020200@tasaonline.org.au
SUMMARY:COVIDIOTS
DESCRIPTION:It started with Toilet Paper and wiped out the world! COVID-19 has cancelled everything but laughter. \nMeet the Rona Family! See hotelier Red Rona (Matt Byrne)\, his witchy Bunnings wife Karen Rona (Rose Vallen)\, fiery daughter Corona Rona and deep clean son Sheen Rona (Jayke Melling) take this locked down world right up the aisle!\n﻿
URL:https://tasaonline.org.au/events/covidiots/2021-03-17/
LOCATION:Norwood Concert Hall – Don Pyatt Hall\, 175 The Parade\, Norwood\, SA\, 5067\, Australia
ORGANIZER;CN="Matt Byrne Media":MAILTO:mbm@adelaide.on.net
END:VEVENT
BEGIN:VEVENT
DTSTART;TZID=Australia/Adelaide:20210317T110000
DTEND;TZID=Australia/Adelaide:20210317T120000
DTSTAMP:20260425T053348
CREATED:20201228T083628Z
LAST-MODIFIED:20210124T010631Z
UID:10016451-1615978800-1615982400@tasaonline.org.au
SUMMARY:Matt Byrne's: Mum's Story
DESCRIPTION:Mum’s are special. After the True Story of Kevin Byrne\, Matt is back with Gwen Byrne’s amazing life. She was the eldest of 11\, Nanna the eldest of 12: Catholic families! Mum had five kids\, cooked on a wood stove\, was a dress maker\, scone baker\, Vinnie’s volunteer & mad Port fan. Gwen loved her community and her family & I still miss her.
URL:https://tasaonline.org.au/events/matt-byrnes-mums-story/2021-03-17/
LOCATION:Norwood Concert Hall – Don Pyatt Hall\, 175 The Parade\, Norwood\, SA\, 5067\, Australia
ORGANIZER;CN="Matt Byrne Media":MAILTO:mbm@adelaide.on.net
END:VEVENT
BEGIN:VEVENT
DTSTART;TZID=Australia/Adelaide:20210313T200000
DTEND;TZID=Australia/Adelaide:20210313T223000
DTSTAMP:20260425T053348
CREATED:20201228T082745Z
LAST-MODIFIED:20210124T010327Z
UID:10016436-1615665600-1615674600@tasaonline.org.au
SUMMARY:COVIDIOTS
DESCRIPTION:It started with Toilet Paper and wiped out the world! COVID-19 has cancelled everything but laughter. \nMeet the Rona Family! See hotelier Red Rona (Matt Byrne)\, his witchy Bunnings wife Karen Rona (Rose Vallen)\, fiery daughter Corona Rona and deep clean son Sheen Rona (Jayke Melling) take this locked down world right up the aisle!\n﻿
URL:https://tasaonline.org.au/events/covidiots/2021-03-13/
LOCATION:Norwood Concert Hall – Don Pyatt Hall\, 175 The Parade\, Norwood\, SA\, 5067\, Australia
ORGANIZER;CN="Matt Byrne Media":MAILTO:mbm@adelaide.on.net
END:VEVENT
BEGIN:VEVENT
DTSTART;TZID=Australia/Adelaide:20210312T200000
DTEND;TZID=Australia/Adelaide:20210312T223000
DTSTAMP:20260425T053348
CREATED:20201228T082745Z
LAST-MODIFIED:20210124T010327Z
UID:10016435-1615579200-1615588200@tasaonline.org.au
SUMMARY:COVIDIOTS
DESCRIPTION:It started with Toilet Paper and wiped out the world! COVID-19 has cancelled everything but laughter. \nMeet the Rona Family! See hotelier Red Rona (Matt Byrne)\, his witchy Bunnings wife Karen Rona (Rose Vallen)\, fiery daughter Corona Rona and deep clean son Sheen Rona (Jayke Melling) take this locked down world right up the aisle!\n﻿
URL:https://tasaonline.org.au/events/covidiots/2021-03-12/
LOCATION:Norwood Concert Hall – Don Pyatt Hall\, 175 The Parade\, Norwood\, SA\, 5067\, Australia
ORGANIZER;CN="Matt Byrne Media":MAILTO:mbm@adelaide.on.net
END:VEVENT
BEGIN:VEVENT
DTSTART;TZID=Australia/Adelaide:20210312T110000
DTEND;TZID=Australia/Adelaide:20210312T120000
DTSTAMP:20260425T053348
CREATED:20201228T083628Z
LAST-MODIFIED:20210124T010631Z
UID:10016450-1615546800-1615550400@tasaonline.org.au
SUMMARY:Matt Byrne's: Mum's Story
DESCRIPTION:Mum’s are special. After the True Story of Kevin Byrne\, Matt is back with Gwen Byrne’s amazing life. She was the eldest of 11\, Nanna the eldest of 12: Catholic families! Mum had five kids\, cooked on a wood stove\, was a dress maker\, scone baker\, Vinnie’s volunteer & mad Port fan. Gwen loved her community and her family & I still miss her.
URL:https://tasaonline.org.au/events/matt-byrnes-mums-story/2021-03-12/
LOCATION:Norwood Concert Hall – Don Pyatt Hall\, 175 The Parade\, Norwood\, SA\, 5067\, Australia
ORGANIZER;CN="Matt Byrne Media":MAILTO:mbm@adelaide.on.net
END:VEVENT
BEGIN:VEVENT
DTSTART;TZID=Australia/Adelaide:20210311T200000
DTEND;TZID=Australia/Adelaide:20210311T223000
DTSTAMP:20260425T053348
CREATED:20201228T082745Z
LAST-MODIFIED:20210124T010327Z
UID:10016434-1615492800-1615501800@tasaonline.org.au
SUMMARY:COVIDIOTS
DESCRIPTION:It started with Toilet Paper and wiped out the world! COVID-19 has cancelled everything but laughter. \nMeet the Rona Family! See hotelier Red Rona (Matt Byrne)\, his witchy Bunnings wife Karen Rona (Rose Vallen)\, fiery daughter Corona Rona and deep clean son Sheen Rona (Jayke Melling) take this locked down world right up the aisle!\n﻿
URL:https://tasaonline.org.au/events/covidiots/2021-03-11/
LOCATION:Norwood Concert Hall – Don Pyatt Hall\, 175 The Parade\, Norwood\, SA\, 5067\, Australia
ORGANIZER;CN="Matt Byrne Media":MAILTO:mbm@adelaide.on.net
END:VEVENT
BEGIN:VEVENT
DTSTART;TZID=Australia/Adelaide:20210311T110000
DTEND;TZID=Australia/Adelaide:20210311T120000
DTSTAMP:20260425T053348
CREATED:20201228T083628Z
LAST-MODIFIED:20210124T010631Z
UID:10016449-1615460400-1615464000@tasaonline.org.au
SUMMARY:Matt Byrne's: Mum's Story
DESCRIPTION:Mum’s are special. After the True Story of Kevin Byrne\, Matt is back with Gwen Byrne’s amazing life. She was the eldest of 11\, Nanna the eldest of 12: Catholic families! Mum had five kids\, cooked on a wood stove\, was a dress maker\, scone baker\, Vinnie’s volunteer & mad Port fan. Gwen loved her community and her family & I still miss her.
URL:https://tasaonline.org.au/events/matt-byrnes-mums-story/2021-03-11/
LOCATION:Norwood Concert Hall – Don Pyatt Hall\, 175 The Parade\, Norwood\, SA\, 5067\, Australia
ORGANIZER;CN="Matt Byrne Media":MAILTO:mbm@adelaide.on.net
END:VEVENT
BEGIN:VEVENT
DTSTART;TZID=Australia/Adelaide:20210310T200000
DTEND;TZID=Australia/Adelaide:20210310T223000
DTSTAMP:20260425T053348
CREATED:20201228T082745Z
LAST-MODIFIED:20210124T010327Z
UID:10016433-1615406400-1615415400@tasaonline.org.au
SUMMARY:COVIDIOTS
DESCRIPTION:It started with Toilet Paper and wiped out the world! COVID-19 has cancelled everything but laughter. \nMeet the Rona Family! See hotelier Red Rona (Matt Byrne)\, his witchy Bunnings wife Karen Rona (Rose Vallen)\, fiery daughter Corona Rona and deep clean son Sheen Rona (Jayke Melling) take this locked down world right up the aisle!\n﻿
URL:https://tasaonline.org.au/events/covidiots/2021-03-10/
LOCATION:Norwood Concert Hall – Don Pyatt Hall\, 175 The Parade\, Norwood\, SA\, 5067\, Australia
ORGANIZER;CN="Matt Byrne Media":MAILTO:mbm@adelaide.on.net
END:VEVENT
BEGIN:VEVENT
DTSTART;TZID=Australia/Adelaide:20210310T110000
DTEND;TZID=Australia/Adelaide:20210310T120000
DTSTAMP:20260425T053348
CREATED:20201228T083628Z
LAST-MODIFIED:20210124T010631Z
UID:10016448-1615374000-1615377600@tasaonline.org.au
SUMMARY:Matt Byrne's: Mum's Story
DESCRIPTION:Mum’s are special. After the True Story of Kevin Byrne\, Matt is back with Gwen Byrne’s amazing life. She was the eldest of 11\, Nanna the eldest of 12: Catholic families! Mum had five kids\, cooked on a wood stove\, was a dress maker\, scone baker\, Vinnie’s volunteer & mad Port fan. Gwen loved her community and her family & I still miss her.
URL:https://tasaonline.org.au/events/matt-byrnes-mums-story/2021-03-10/
LOCATION:Norwood Concert Hall – Don Pyatt Hall\, 175 The Parade\, Norwood\, SA\, 5067\, Australia
ORGANIZER;CN="Matt Byrne Media":MAILTO:mbm@adelaide.on.net
END:VEVENT
BEGIN:VEVENT
DTSTART;TZID=Australia/Adelaide:20210306T200000
DTEND;TZID=Australia/Adelaide:20210306T223000
DTSTAMP:20260425T053348
CREATED:20201228T082745Z
LAST-MODIFIED:20210124T010327Z
UID:10016432-1615060800-1615069800@tasaonline.org.au
SUMMARY:COVIDIOTS
DESCRIPTION:It started with Toilet Paper and wiped out the world! COVID-19 has cancelled everything but laughter. \nMeet the Rona Family! See hotelier Red Rona (Matt Byrne)\, his witchy Bunnings wife Karen Rona (Rose Vallen)\, fiery daughter Corona Rona and deep clean son Sheen Rona (Jayke Melling) take this locked down world right up the aisle!\n﻿
URL:https://tasaonline.org.au/events/covidiots/2021-03-06/
LOCATION:Norwood Concert Hall – Don Pyatt Hall\, 175 The Parade\, Norwood\, SA\, 5067\, Australia
ORGANIZER;CN="Matt Byrne Media":MAILTO:mbm@adelaide.on.net
END:VEVENT
BEGIN:VEVENT
DTSTART;TZID=Australia/Adelaide:20210305T200000
DTEND;TZID=Australia/Adelaide:20210305T223000
DTSTAMP:20260425T053348
CREATED:20201228T082745Z
LAST-MODIFIED:20210124T010327Z
UID:10016431-1614974400-1614983400@tasaonline.org.au
SUMMARY:COVIDIOTS
DESCRIPTION:It started with Toilet Paper and wiped out the world! COVID-19 has cancelled everything but laughter. \nMeet the Rona Family! See hotelier Red Rona (Matt Byrne)\, his witchy Bunnings wife Karen Rona (Rose Vallen)\, fiery daughter Corona Rona and deep clean son Sheen Rona (Jayke Melling) take this locked down world right up the aisle!\n﻿
URL:https://tasaonline.org.au/events/covidiots/2021-03-05/
LOCATION:Norwood Concert Hall – Don Pyatt Hall\, 175 The Parade\, Norwood\, SA\, 5067\, Australia
ORGANIZER;CN="Matt Byrne Media":MAILTO:mbm@adelaide.on.net
END:VEVENT
BEGIN:VEVENT
DTSTART;TZID=Australia/Adelaide:20210305T110000
DTEND;TZID=Australia/Adelaide:20210305T120000
DTSTAMP:20260425T053348
CREATED:20201228T083628Z
LAST-MODIFIED:20210124T010631Z
UID:10016447-1614942000-1614945600@tasaonline.org.au
SUMMARY:Matt Byrne's: Mum's Story
DESCRIPTION:Mum’s are special. After the True Story of Kevin Byrne\, Matt is back with Gwen Byrne’s amazing life. She was the eldest of 11\, Nanna the eldest of 12: Catholic families! Mum had five kids\, cooked on a wood stove\, was a dress maker\, scone baker\, Vinnie’s volunteer & mad Port fan. Gwen loved her community and her family & I still miss her.
URL:https://tasaonline.org.au/events/matt-byrnes-mums-story/2021-03-05/
LOCATION:Norwood Concert Hall – Don Pyatt Hall\, 175 The Parade\, Norwood\, SA\, 5067\, Australia
ORGANIZER;CN="Matt Byrne Media":MAILTO:mbm@adelaide.on.net
END:VEVENT
BEGIN:VEVENT
DTSTART;TZID=Australia/Adelaide:20210304T200000
DTEND;TZID=Australia/Adelaide:20210304T223000
DTSTAMP:20260425T053348
CREATED:20201228T082745Z
LAST-MODIFIED:20210124T010327Z
UID:10016430-1614888000-1614897000@tasaonline.org.au
SUMMARY:COVIDIOTS
DESCRIPTION:It started with Toilet Paper and wiped out the world! COVID-19 has cancelled everything but laughter. \nMeet the Rona Family! See hotelier Red Rona (Matt Byrne)\, his witchy Bunnings wife Karen Rona (Rose Vallen)\, fiery daughter Corona Rona and deep clean son Sheen Rona (Jayke Melling) take this locked down world right up the aisle!\n﻿
URL:https://tasaonline.org.au/events/covidiots/2021-03-04/
LOCATION:Norwood Concert Hall – Don Pyatt Hall\, 175 The Parade\, Norwood\, SA\, 5067\, Australia
ORGANIZER;CN="Matt Byrne Media":MAILTO:mbm@adelaide.on.net
END:VEVENT
BEGIN:VEVENT
DTSTART;TZID=Australia/Adelaide:20210304T110000
DTEND;TZID=Australia/Adelaide:20210304T120000
DTSTAMP:20260425T053348
CREATED:20201228T083628Z
LAST-MODIFIED:20210124T010631Z
UID:10016446-1614855600-1614859200@tasaonline.org.au
SUMMARY:Matt Byrne's: Mum's Story
DESCRIPTION:Mum’s are special. After the True Story of Kevin Byrne\, Matt is back with Gwen Byrne’s amazing life. She was the eldest of 11\, Nanna the eldest of 12: Catholic families! Mum had five kids\, cooked on a wood stove\, was a dress maker\, scone baker\, Vinnie’s volunteer & mad Port fan. Gwen loved her community and her family & I still miss her.
URL:https://tasaonline.org.au/events/matt-byrnes-mums-story/2021-03-04/
LOCATION:Norwood Concert Hall – Don Pyatt Hall\, 175 The Parade\, Norwood\, SA\, 5067\, Australia
ORGANIZER;CN="Matt Byrne Media":MAILTO:mbm@adelaide.on.net
END:VEVENT
BEGIN:VEVENT
DTSTART;TZID=Australia/Adelaide:20210303T200000
DTEND;TZID=Australia/Adelaide:20210303T223000
DTSTAMP:20260425T053348
CREATED:20201228T082745Z
LAST-MODIFIED:20210124T010327Z
UID:10016429-1614801600-1614810600@tasaonline.org.au
SUMMARY:COVIDIOTS
DESCRIPTION:It started with Toilet Paper and wiped out the world! COVID-19 has cancelled everything but laughter. \nMeet the Rona Family! See hotelier Red Rona (Matt Byrne)\, his witchy Bunnings wife Karen Rona (Rose Vallen)\, fiery daughter Corona Rona and deep clean son Sheen Rona (Jayke Melling) take this locked down world right up the aisle!\n﻿
URL:https://tasaonline.org.au/events/covidiots/2021-03-03/
LOCATION:Norwood Concert Hall – Don Pyatt Hall\, 175 The Parade\, Norwood\, SA\, 5067\, Australia
ORGANIZER;CN="Matt Byrne Media":MAILTO:mbm@adelaide.on.net
END:VEVENT
BEGIN:VEVENT
DTSTART;TZID=Australia/Adelaide:20210303T110000
DTEND;TZID=Australia/Adelaide:20210303T120000
DTSTAMP:20260425T053348
CREATED:20201228T083628Z
LAST-MODIFIED:20210124T010631Z
UID:10016445-1614769200-1614772800@tasaonline.org.au
SUMMARY:Matt Byrne's: Mum's Story
DESCRIPTION:Mum’s are special. After the True Story of Kevin Byrne\, Matt is back with Gwen Byrne’s amazing life. She was the eldest of 11\, Nanna the eldest of 12: Catholic families! Mum had five kids\, cooked on a wood stove\, was a dress maker\, scone baker\, Vinnie’s volunteer & mad Port fan. Gwen loved her community and her family & I still miss her.
URL:https://tasaonline.org.au/events/matt-byrnes-mums-story/2021-03-03/
LOCATION:Norwood Concert Hall – Don Pyatt Hall\, 175 The Parade\, Norwood\, SA\, 5067\, Australia
ORGANIZER;CN="Matt Byrne Media":MAILTO:mbm@adelaide.on.net
END:VEVENT
BEGIN:VEVENT
DTSTART;TZID=Australia/Adelaide:20210227T200000
DTEND;TZID=Australia/Adelaide:20210227T223000
DTSTAMP:20260425T053348
CREATED:20201228T082745Z
LAST-MODIFIED:20210124T010327Z
UID:10016428-1614456000-1614465000@tasaonline.org.au
SUMMARY:COVIDIOTS
DESCRIPTION:It started with Toilet Paper and wiped out the world! COVID-19 has cancelled everything but laughter. \nMeet the Rona Family! See hotelier Red Rona (Matt Byrne)\, his witchy Bunnings wife Karen Rona (Rose Vallen)\, fiery daughter Corona Rona and deep clean son Sheen Rona (Jayke Melling) take this locked down world right up the aisle!\n﻿
URL:https://tasaonline.org.au/events/covidiots/2021-02-27/
LOCATION:Norwood Concert Hall – Don Pyatt Hall\, 175 The Parade\, Norwood\, SA\, 5067\, Australia
ORGANIZER;CN="Matt Byrne Media":MAILTO:mbm@adelaide.on.net
END:VEVENT
BEGIN:VEVENT
DTSTART;TZID=Australia/Adelaide:20210226T200000
DTEND;TZID=Australia/Adelaide:20210226T223000
DTSTAMP:20260425T053348
CREATED:20201228T082745Z
LAST-MODIFIED:20210124T010327Z
UID:10016427-1614369600-1614378600@tasaonline.org.au
SUMMARY:COVIDIOTS
DESCRIPTION:It started with Toilet Paper and wiped out the world! COVID-19 has cancelled everything but laughter. \nMeet the Rona Family! See hotelier Red Rona (Matt Byrne)\, his witchy Bunnings wife Karen Rona (Rose Vallen)\, fiery daughter Corona Rona and deep clean son Sheen Rona (Jayke Melling) take this locked down world right up the aisle!\n﻿
URL:https://tasaonline.org.au/events/covidiots/2021-02-26/
LOCATION:Norwood Concert Hall – Don Pyatt Hall\, 175 The Parade\, Norwood\, SA\, 5067\, Australia
ORGANIZER;CN="Matt Byrne Media":MAILTO:mbm@adelaide.on.net
END:VEVENT
BEGIN:VEVENT
DTSTART;TZID=Australia/Adelaide:20210226T110000
DTEND;TZID=Australia/Adelaide:20210226T120000
DTSTAMP:20260425T053348
CREATED:20201228T083628Z
LAST-MODIFIED:20210124T010631Z
UID:10016444-1614337200-1614340800@tasaonline.org.au
SUMMARY:Matt Byrne's: Mum's Story
DESCRIPTION:Mum’s are special. After the True Story of Kevin Byrne\, Matt is back with Gwen Byrne’s amazing life. She was the eldest of 11\, Nanna the eldest of 12: Catholic families! Mum had five kids\, cooked on a wood stove\, was a dress maker\, scone baker\, Vinnie’s volunteer & mad Port fan. Gwen loved her community and her family & I still miss her.
URL:https://tasaonline.org.au/events/matt-byrnes-mums-story/2021-02-26/
LOCATION:Norwood Concert Hall – Don Pyatt Hall\, 175 The Parade\, Norwood\, SA\, 5067\, Australia
ORGANIZER;CN="Matt Byrne Media":MAILTO:mbm@adelaide.on.net
END:VEVENT
BEGIN:VEVENT
DTSTART;TZID=Australia/Adelaide:20210225T200000
DTEND;TZID=Australia/Adelaide:20210225T223000
DTSTAMP:20260425T053348
CREATED:20201228T082745Z
LAST-MODIFIED:20210124T010327Z
UID:10016426-1614283200-1614292200@tasaonline.org.au
SUMMARY:COVIDIOTS
DESCRIPTION:It started with Toilet Paper and wiped out the world! COVID-19 has cancelled everything but laughter. \nMeet the Rona Family! See hotelier Red Rona (Matt Byrne)\, his witchy Bunnings wife Karen Rona (Rose Vallen)\, fiery daughter Corona Rona and deep clean son Sheen Rona (Jayke Melling) take this locked down world right up the aisle!\n﻿
URL:https://tasaonline.org.au/events/covidiots/2021-02-25/
LOCATION:Norwood Concert Hall – Don Pyatt Hall\, 175 The Parade\, Norwood\, SA\, 5067\, Australia
ORGANIZER;CN="Matt Byrne Media":MAILTO:mbm@adelaide.on.net
END:VEVENT
BEGIN:VEVENT
DTSTART;TZID=Australia/Adelaide:20210225T110000
DTEND;TZID=Australia/Adelaide:20210225T120000
DTSTAMP:20260425T053348
CREATED:20201228T083628Z
LAST-MODIFIED:20210124T010631Z
UID:10016443-1614250800-1614254400@tasaonline.org.au
SUMMARY:Matt Byrne's: Mum's Story
DESCRIPTION:Mum’s are special. After the True Story of Kevin Byrne\, Matt is back with Gwen Byrne’s amazing life. She was the eldest of 11\, Nanna the eldest of 12: Catholic families! Mum had five kids\, cooked on a wood stove\, was a dress maker\, scone baker\, Vinnie’s volunteer & mad Port fan. Gwen loved her community and her family & I still miss her.
URL:https://tasaonline.org.au/events/matt-byrnes-mums-story/2021-02-25/
LOCATION:Norwood Concert Hall – Don Pyatt Hall\, 175 The Parade\, Norwood\, SA\, 5067\, Australia
ORGANIZER;CN="Matt Byrne Media":MAILTO:mbm@adelaide.on.net
END:VEVENT
BEGIN:VEVENT
DTSTART;TZID=Australia/Adelaide:20210224T200000
DTEND;TZID=Australia/Adelaide:20210224T223000
DTSTAMP:20260425T053348
CREATED:20201228T082745Z
LAST-MODIFIED:20210124T010327Z
UID:10016425-1614196800-1614205800@tasaonline.org.au
SUMMARY:COVIDIOTS
DESCRIPTION:It started with Toilet Paper and wiped out the world! COVID-19 has cancelled everything but laughter. \nMeet the Rona Family! See hotelier Red Rona (Matt Byrne)\, his witchy Bunnings wife Karen Rona (Rose Vallen)\, fiery daughter Corona Rona and deep clean son Sheen Rona (Jayke Melling) take this locked down world right up the aisle!\n﻿
URL:https://tasaonline.org.au/events/covidiots/2021-02-24/
LOCATION:Norwood Concert Hall – Don Pyatt Hall\, 175 The Parade\, Norwood\, SA\, 5067\, Australia
ORGANIZER;CN="Matt Byrne Media":MAILTO:mbm@adelaide.on.net
END:VEVENT
BEGIN:VEVENT
DTSTART;TZID=Australia/Adelaide:20210224T110000
DTEND;TZID=Australia/Adelaide:20210224T120000
DTSTAMP:20260425T053348
CREATED:20201228T083628Z
LAST-MODIFIED:20210124T010631Z
UID:10016442-1614164400-1614168000@tasaonline.org.au
SUMMARY:Matt Byrne's: Mum's Story
DESCRIPTION:Mum’s are special. After the True Story of Kevin Byrne\, Matt is back with Gwen Byrne’s amazing life. She was the eldest of 11\, Nanna the eldest of 12: Catholic families! Mum had five kids\, cooked on a wood stove\, was a dress maker\, scone baker\, Vinnie’s volunteer & mad Port fan. Gwen loved her community and her family & I still miss her.
URL:https://tasaonline.org.au/events/matt-byrnes-mums-story/2021-02-24/
LOCATION:Norwood Concert Hall – Don Pyatt Hall\, 175 The Parade\, Norwood\, SA\, 5067\, Australia
ORGANIZER;CN="Matt Byrne Media":MAILTO:mbm@adelaide.on.net
END:VEVENT
BEGIN:VEVENT
DTSTART;TZID=Australia/Adelaide:20210223T110000
DTEND;TZID=Australia/Adelaide:20210223T120000
DTSTAMP:20260425T053348
CREATED:20201228T083628Z
LAST-MODIFIED:20210124T010631Z
UID:10016441-1614078000-1614081600@tasaonline.org.au
SUMMARY:Matt Byrne's: Mum's Story
DESCRIPTION:Mum’s are special. After the True Story of Kevin Byrne\, Matt is back with Gwen Byrne’s amazing life. She was the eldest of 11\, Nanna the eldest of 12: Catholic families! Mum had five kids\, cooked on a wood stove\, was a dress maker\, scone baker\, Vinnie’s volunteer & mad Port fan. Gwen loved her community and her family & I still miss her.
URL:https://tasaonline.org.au/events/matt-byrnes-mums-story/2021-02-23/
LOCATION:Norwood Concert Hall – Don Pyatt Hall\, 175 The Parade\, Norwood\, SA\, 5067\, Australia
ORGANIZER;CN="Matt Byrne Media":MAILTO:mbm@adelaide.on.net
END:VEVENT
BEGIN:VEVENT
DTSTART;TZID=Australia/Adelaide:20210220T200000
DTEND;TZID=Australia/Adelaide:20210220T223000
DTSTAMP:20260425T053348
CREATED:20201228T082745Z
LAST-MODIFIED:20210124T010327Z
UID:10016424-1613851200-1613860200@tasaonline.org.au
SUMMARY:COVIDIOTS
DESCRIPTION:It started with Toilet Paper and wiped out the world! COVID-19 has cancelled everything but laughter. \nMeet the Rona Family! See hotelier Red Rona (Matt Byrne)\, his witchy Bunnings wife Karen Rona (Rose Vallen)\, fiery daughter Corona Rona and deep clean son Sheen Rona (Jayke Melling) take this locked down world right up the aisle!\n﻿
URL:https://tasaonline.org.au/events/covidiots/2021-02-20/
LOCATION:Norwood Concert Hall – Don Pyatt Hall\, 175 The Parade\, Norwood\, SA\, 5067\, Australia
ORGANIZER;CN="Matt Byrne Media":MAILTO:mbm@adelaide.on.net
END:VEVENT
END:VCALENDAR