BEGIN:VCALENDAR
VERSION:2.0
PRODID:-//TASA Online - ECPv6.15.15//NONSGML v1.0//EN
CALSCALE:GREGORIAN
METHOD:PUBLISH
X-WR-CALNAME:TASA Online
X-ORIGINAL-URL:https://tasaonline.org.au
X-WR-CALDESC:Events for TASA Online
REFRESH-INTERVAL;VALUE=DURATION:PT1H
X-Robots-Tag:noindex
X-PUBLISHED-TTL:PT1H
BEGIN:VTIMEZONE
TZID:Australia/Adelaide
BEGIN:STANDARD
TZOFFSETFROM:+1030
TZOFFSETTO:+0930
TZNAME:ACST
DTSTART:20240406T163000
END:STANDARD
BEGIN:DAYLIGHT
TZOFFSETFROM:+0930
TZOFFSETTO:+1030
TZNAME:ACDT
DTSTART:20241005T163000
END:DAYLIGHT
BEGIN:STANDARD
TZOFFSETFROM:+1030
TZOFFSETTO:+0930
TZNAME:ACST
DTSTART:20250405T163000
END:STANDARD
BEGIN:DAYLIGHT
TZOFFSETFROM:+0930
TZOFFSETTO:+1030
TZNAME:ACDT
DTSTART:20251004T163000
END:DAYLIGHT
BEGIN:STANDARD
TZOFFSETFROM:+1030
TZOFFSETTO:+0930
TZNAME:ACST
DTSTART:20260404T163000
END:STANDARD
BEGIN:DAYLIGHT
TZOFFSETFROM:+0930
TZOFFSETTO:+1030
TZNAME:ACDT
DTSTART:20261003T163000
END:DAYLIGHT
END:VTIMEZONE
BEGIN:VEVENT
DTSTART;TZID=Australia/Adelaide:20250613T183000
DTEND;TZID=Australia/Adelaide:20250613T193000
DTSTAMP:20260423T051941
CREATED:20250526T062001Z
LAST-MODIFIED:20250526T062001Z
UID:10023954-1749839400-1749843000@tasaonline.org.au
SUMMARY:The Thing About Love
DESCRIPTION:Contact | Aldo Longobardi\, Drama Coordinator\, alongobardi@concordia.sa.edu.au\, 08 8272 0444 \nThis event is cabaret style seating. To register as a Table Captain contact Aldo Longobardi\, Drama Co-ordinator or simply register on one of the shared tables.
URL:https://tasaonline.org.au/events/the-thing-about-love/2025-06-13/
LOCATION:Concordia College Drama Centre\, 24 Winchester St\, Highgate\, SA\, 5063\, Australia
CATEGORIES:Productions
ATTACH;FMTTYPE=image/png:https://tasaonline.org.au/wp-content/uploads/2025/05/Concordia-logo.avif
END:VEVENT
BEGIN:VEVENT
DTSTART;TZID=Australia/Adelaide:20250611T183000
DTEND;TZID=Australia/Adelaide:20250611T193000
DTSTAMP:20260423T051941
CREATED:20250526T062001Z
LAST-MODIFIED:20250526T062001Z
UID:10023953-1749666600-1749670200@tasaonline.org.au
SUMMARY:The Thing About Love
DESCRIPTION:Contact | Aldo Longobardi\, Drama Coordinator\, alongobardi@concordia.sa.edu.au\, 08 8272 0444 \nThis event is cabaret style seating. To register as a Table Captain contact Aldo Longobardi\, Drama Co-ordinator or simply register on one of the shared tables.
URL:https://tasaonline.org.au/events/the-thing-about-love/2025-06-11/
LOCATION:Concordia College Drama Centre\, 24 Winchester St\, Highgate\, SA\, 5063\, Australia
CATEGORIES:Productions
ATTACH;FMTTYPE=image/png:https://tasaonline.org.au/wp-content/uploads/2025/05/Concordia-logo.avif
END:VEVENT
BEGIN:VEVENT
DTSTART;TZID=Australia/Adelaide:20250405T190000
DTEND;TZID=Australia/Adelaide:20250405T213000
DTSTAMP:20260423T051941
CREATED:20250330T231531Z
LAST-MODIFIED:20250330T231531Z
UID:10023846-1743879600-1743888600@tasaonline.org.au
SUMMARY:Mamma Mia!
DESCRIPTION:The famous movie is now a musical.  Come along for some great Abba songs and riotous laughter. \nSpecial ticket price of $10 on Friday 4th at 11:30am \nContact: Andrew O’Loughlin\, Music Administrator | aoloughlin@concordia.sa.edu.au | 08 8291 9367
URL:https://tasaonline.org.au/events/mamma-mia-6/2025-04-05/2/
LOCATION:Futures Theatre\, 57 Darley Rd\, Paradise\, SA\, 5075\, Australia
CATEGORIES:Productions
ATTACH;FMTTYPE=image/png:https://tasaonline.org.au/wp-content/uploads/2025/03/Mama-Mia-png.avif
END:VEVENT
BEGIN:VEVENT
DTSTART;TZID=Australia/Adelaide:20250405T133000
DTEND;TZID=Australia/Adelaide:20250405T160000
DTSTAMP:20260423T051941
CREATED:20250330T231531Z
LAST-MODIFIED:20250330T231531Z
UID:10023845-1743859800-1743868800@tasaonline.org.au
SUMMARY:Mamma Mia!
DESCRIPTION:The famous movie is now a musical.  Come along for some great Abba songs and riotous laughter. \nSpecial ticket price of $10 on Friday 4th at 11:30am \nContact: Andrew O’Loughlin\, Music Administrator | aoloughlin@concordia.sa.edu.au | 08 8291 9367
URL:https://tasaonline.org.au/events/mamma-mia-6/2025-04-05/1/
LOCATION:Futures Theatre\, 57 Darley Rd\, Paradise\, SA\, 5075\, Australia
CATEGORIES:Productions
ATTACH;FMTTYPE=image/png:https://tasaonline.org.au/wp-content/uploads/2025/03/Mama-Mia-png.avif
END:VEVENT
BEGIN:VEVENT
DTSTART;TZID=Australia/Adelaide:20250404T190000
DTEND;TZID=Australia/Adelaide:20250404T213000
DTSTAMP:20260423T051941
CREATED:20250330T231531Z
LAST-MODIFIED:20250330T231531Z
UID:10023844-1743793200-1743802200@tasaonline.org.au
SUMMARY:Mamma Mia!
DESCRIPTION:The famous movie is now a musical.  Come along for some great Abba songs and riotous laughter. \nSpecial ticket price of $10 on Friday 4th at 11:30am \nContact: Andrew O’Loughlin\, Music Administrator | aoloughlin@concordia.sa.edu.au | 08 8291 9367
URL:https://tasaonline.org.au/events/mamma-mia-6/2025-04-04/2/
LOCATION:Futures Theatre\, 57 Darley Rd\, Paradise\, SA\, 5075\, Australia
CATEGORIES:Productions
ATTACH;FMTTYPE=image/png:https://tasaonline.org.au/wp-content/uploads/2025/03/Mama-Mia-png.avif
END:VEVENT
BEGIN:VEVENT
DTSTART;TZID=Australia/Adelaide:20250404T113000
DTEND;TZID=Australia/Adelaide:20250404T140000
DTSTAMP:20260423T051941
CREATED:20250330T231531Z
LAST-MODIFIED:20250330T231531Z
UID:10023843-1743766200-1743775200@tasaonline.org.au
SUMMARY:Mamma Mia!
DESCRIPTION:The famous movie is now a musical.  Come along for some great Abba songs and riotous laughter. \nSpecial ticket price of $10 on Friday 4th at 11:30am \nContact: Andrew O’Loughlin\, Music Administrator | aoloughlin@concordia.sa.edu.au | 08 8291 9367
URL:https://tasaonline.org.au/events/mamma-mia-6/2025-04-04/1/
LOCATION:Futures Theatre\, 57 Darley Rd\, Paradise\, SA\, 5075\, Australia
CATEGORIES:Productions
ATTACH;FMTTYPE=image/png:https://tasaonline.org.au/wp-content/uploads/2025/03/Mama-Mia-png.avif
END:VEVENT
BEGIN:VEVENT
DTSTART;TZID=Australia/Adelaide:20250301T183000
DTEND;TZID=Australia/Adelaide:20250301T200000
DTSTAMP:20260423T051941
CREATED:20250226T234459Z
LAST-MODIFIED:20250226T234459Z
UID:10023386-1740853800-1740859200@tasaonline.org.au
SUMMARY:Metropolis Now
DESCRIPTION:Inspired by ‘RENT!’ and ‘La Boheme’\, this new play by Aldo Longobardi with songs from the 1980s and 1990s imagines a dystopian future where AI has ransacked the arts industry\, corporate greed has escalated the cost of living\, homelessness is at an all-time high\, and despite scientific and technological advancements a cure for cancer remains elusive. \nAs a group of artists and activists face eviction from their dilapidated apartment building\, they discover their true power and rebellion is in being authentic and hopeful in a society that would rather perpetuate fear. \nThis original work devised with a group of young people reflects the enduring capacity art has to challenge\, provoke and activate audiences to imagine and create a better future\, and the vital importance of community. \nFree parking available opposite the venue and in the surrounding streets. \nEnjoy free live music provided by Concordia’s Jazz ensemble and dumplings for sale prepared by Concordia’s Certificate II Cookery students from 5:30pm before each evening performance.
URL:https://tasaonline.org.au/events/metropolis-now-2/2025-03-01/2/
LOCATION:Concordia College Drama Centre\, 24 Winchester St\, Highgate\, SA\, 5063\, Australia
CATEGORIES:Productions,Youth Promotions
ATTACH;FMTTYPE=image/jpeg:https://tasaonline.org.au/wp-content/uploads/2025/02/Metropolis.avif
END:VEVENT
BEGIN:VEVENT
DTSTART;TZID=Australia/Adelaide:20250301T143000
DTEND;TZID=Australia/Adelaide:20250301T160000
DTSTAMP:20260423T051941
CREATED:20250226T234459Z
LAST-MODIFIED:20250226T234459Z
UID:10023385-1740839400-1740844800@tasaonline.org.au
SUMMARY:Metropolis Now
DESCRIPTION:Inspired by ‘RENT!’ and ‘La Boheme’\, this new play by Aldo Longobardi with songs from the 1980s and 1990s imagines a dystopian future where AI has ransacked the arts industry\, corporate greed has escalated the cost of living\, homelessness is at an all-time high\, and despite scientific and technological advancements a cure for cancer remains elusive. \nAs a group of artists and activists face eviction from their dilapidated apartment building\, they discover their true power and rebellion is in being authentic and hopeful in a society that would rather perpetuate fear. \nThis original work devised with a group of young people reflects the enduring capacity art has to challenge\, provoke and activate audiences to imagine and create a better future\, and the vital importance of community. \nFree parking available opposite the venue and in the surrounding streets. \nEnjoy free live music provided by Concordia’s Jazz ensemble and dumplings for sale prepared by Concordia’s Certificate II Cookery students from 5:30pm before each evening performance.
URL:https://tasaonline.org.au/events/metropolis-now-2/2025-03-01/1/
LOCATION:Concordia College Drama Centre\, 24 Winchester St\, Highgate\, SA\, 5063\, Australia
CATEGORIES:Productions,Youth Promotions
ATTACH;FMTTYPE=image/jpeg:https://tasaonline.org.au/wp-content/uploads/2025/02/Metropolis.avif
END:VEVENT
BEGIN:VEVENT
DTSTART;TZID=Australia/Adelaide:20250228T183000
DTEND;TZID=Australia/Adelaide:20250228T200000
DTSTAMP:20260423T051941
CREATED:20250226T234459Z
LAST-MODIFIED:20250226T234459Z
UID:10023384-1740767400-1740772800@tasaonline.org.au
SUMMARY:Metropolis Now
DESCRIPTION:Inspired by ‘RENT!’ and ‘La Boheme’\, this new play by Aldo Longobardi with songs from the 1980s and 1990s imagines a dystopian future where AI has ransacked the arts industry\, corporate greed has escalated the cost of living\, homelessness is at an all-time high\, and despite scientific and technological advancements a cure for cancer remains elusive. \nAs a group of artists and activists face eviction from their dilapidated apartment building\, they discover their true power and rebellion is in being authentic and hopeful in a society that would rather perpetuate fear. \nThis original work devised with a group of young people reflects the enduring capacity art has to challenge\, provoke and activate audiences to imagine and create a better future\, and the vital importance of community. \nFree parking available opposite the venue and in the surrounding streets. \nEnjoy free live music provided by Concordia’s Jazz ensemble and dumplings for sale prepared by Concordia’s Certificate II Cookery students from 5:30pm before each evening performance.
URL:https://tasaonline.org.au/events/metropolis-now-2/2025-02-28/
LOCATION:Concordia College Drama Centre\, 24 Winchester St\, Highgate\, SA\, 5063\, Australia
CATEGORIES:Productions,Youth Promotions
ATTACH;FMTTYPE=image/jpeg:https://tasaonline.org.au/wp-content/uploads/2025/02/Metropolis.avif
END:VEVENT
BEGIN:VEVENT
DTSTART;TZID=Australia/Adelaide:20250227T183000
DTEND;TZID=Australia/Adelaide:20250227T200000
DTSTAMP:20260423T051941
CREATED:20250226T234459Z
LAST-MODIFIED:20250226T234459Z
UID:10023383-1740681000-1740686400@tasaonline.org.au
SUMMARY:Metropolis Now
DESCRIPTION:Inspired by ‘RENT!’ and ‘La Boheme’\, this new play by Aldo Longobardi with songs from the 1980s and 1990s imagines a dystopian future where AI has ransacked the arts industry\, corporate greed has escalated the cost of living\, homelessness is at an all-time high\, and despite scientific and technological advancements a cure for cancer remains elusive. \nAs a group of artists and activists face eviction from their dilapidated apartment building\, they discover their true power and rebellion is in being authentic and hopeful in a society that would rather perpetuate fear. \nThis original work devised with a group of young people reflects the enduring capacity art has to challenge\, provoke and activate audiences to imagine and create a better future\, and the vital importance of community. \nFree parking available opposite the venue and in the surrounding streets. \nEnjoy free live music provided by Concordia’s Jazz ensemble and dumplings for sale prepared by Concordia’s Certificate II Cookery students from 5:30pm before each evening performance.
URL:https://tasaonline.org.au/events/metropolis-now-2/2025-02-27/
LOCATION:Concordia College Drama Centre\, 24 Winchester St\, Highgate\, SA\, 5063\, Australia
CATEGORIES:Productions,Youth Promotions
ATTACH;FMTTYPE=image/jpeg:https://tasaonline.org.au/wp-content/uploads/2025/02/Metropolis.avif
END:VEVENT
END:VCALENDAR