BEGIN:VCALENDAR
VERSION:2.0
PRODID:-//TASA Online - ECPv6.15.15//NONSGML v1.0//EN
CALSCALE:GREGORIAN
METHOD:PUBLISH
X-WR-CALNAME:TASA Online
X-ORIGINAL-URL:https://tasaonline.org.au
X-WR-CALDESC:Events for TASA Online
REFRESH-INTERVAL;VALUE=DURATION:PT1H
X-Robots-Tag:noindex
X-PUBLISHED-TTL:PT1H
BEGIN:VTIMEZONE
TZID:Australia/Adelaide
BEGIN:STANDARD
TZOFFSETFROM:+1030
TZOFFSETTO:+0930
TZNAME:ACST
DTSTART:20240406T163000
END:STANDARD
BEGIN:DAYLIGHT
TZOFFSETFROM:+0930
TZOFFSETTO:+1030
TZNAME:ACDT
DTSTART:20241005T163000
END:DAYLIGHT
BEGIN:STANDARD
TZOFFSETFROM:+1030
TZOFFSETTO:+0930
TZNAME:ACST
DTSTART:20250405T163000
END:STANDARD
BEGIN:DAYLIGHT
TZOFFSETFROM:+0930
TZOFFSETTO:+1030
TZNAME:ACDT
DTSTART:20251004T163000
END:DAYLIGHT
BEGIN:STANDARD
TZOFFSETFROM:+1030
TZOFFSETTO:+0930
TZNAME:ACST
DTSTART:20260404T163000
END:STANDARD
BEGIN:DAYLIGHT
TZOFFSETFROM:+0930
TZOFFSETTO:+1030
TZNAME:ACDT
DTSTART:20261003T163000
END:DAYLIGHT
END:VTIMEZONE
BEGIN:VEVENT
DTSTART;TZID=Australia/Adelaide:20251206T140000
DTEND;TZID=Australia/Adelaide:20251206T163000
DTSTAMP:20260425T125913
CREATED:20251121T052522Z
LAST-MODIFIED:20251126T054455Z
UID:10024607-1765029600-1765038600@tasaonline.org.au
SUMMARY:PHÈDRE
DESCRIPTION:A gripping\, modern re-telling\, by Poet Laureate\, TED HUGHES\, of French playwright\, JEAN RACINE’s classic play about the ancient Athenian Queen\, Phèdre\, and her obsessive passion for her stepson\, Hippolytus. \nPassion\, guilt\, jealousy\, revenge\, PHÈDRE has everything for a great night at the theatre. \nWith as many plot twists and turns as a modern thriller\, Racine’s incredible play hurtles to its climax with all the white-knuckle excitement of a roller-coaster! \nStarring Lyn Wilson and Callum Logan as Phèdre and Hippolytus\, with Naomi Voortman\, Stuart Pearce\, Chris Bleby\, Mia Livingston-Pearce\, Sophie Livingston-Pearce and Pippa Livingston. \nPresented by arrangement with Faber and Faber\, as literary agents for TED HUGHES.
URL:https://tasaonline.org.au/events/phedre/2025-12-06/1/
LOCATION:Star Theatre – Theatre One\, 145 Sir Donald Bradman Drive\, Hilton\, South Australia\, 5033\, Australia
CATEGORIES:Productions
ATTACH;FMTTYPE=image/jpeg:https://tasaonline.org.au/wp-content/uploads/2025/11/Phedre-1.webp
ORGANIZER;CN="Independent Theatre":MAILTO:tickets@independenttheatre.org.au
END:VEVENT
BEGIN:VEVENT
DTSTART;TZID=Australia/Adelaide:20251206T143000
DTEND;TZID=Australia/Adelaide:20251206T173000
DTSTAMP:20260425T125913
CREATED:20250104T192829Z
LAST-MODIFIED:20250819T082648Z
UID:10023346-1765031400-1765042200@tasaonline.org.au
SUMMARY:Alice in Wonderland - Pantomime
DESCRIPTION:Step into Wonderland for a fantastically fun pantomime filled with all the classic elements audiences love! When Alice escapes from the gloomy “Home for Lost & Unwanted Girls\,” she finds herself in a magical world of madness. But it’s not all quirky creatures and giggles! The power-hungry Queen of Hearts has set her sights on Alice’s enchanted watch\, sending the lovable gardener Jack to steal it. Instead\, Jack and Alice join forces to take on the Queen and her silly sidekicks. \nJoin in on the laugh-out-loud slapstick comedy\, boo the baddies\, cheer for the heroes\, and get ready for heaps of audience participation! With over-the-top costumes\, lively sing-alongs\, and an outrageously funny Dame\, this Alice in Wonderland pantomime has something for everyone. Featuring classic characters like the Mad Hatter\, Tweedle Dum and Tweedle Dee\, the Cheshire Cat\, and\, of course\, the White Rabbit\, it’s a thrilling adventure with a happy ending for Alice and Jack. \nAlice in Wonderland will be performed:\nAt 7.30pm 21\, 22\, 29 November & 5\, 6 December.\nMatinees at 2.30pm on 22\, 29\, 30 November & 6 December.
URL:https://tasaonline.org.au/events/alice-in-wonderland-pantomime/2025-12-06/1/
LOCATION:Tea Tree Players Theatre\, Cnr Yatala Vale Road and Hancock Road\, Surrey Downs\, SA\, 5126\, Australia
CATEGORIES:Productions
ORGANIZER;CN="Tea Tree Players":MAILTO:ttp@teatreeplayers.com
END:VEVENT
BEGIN:VEVENT
DTSTART;TZID=Australia/Adelaide:20251206T193000
DTEND;TZID=Australia/Adelaide:20251206T213000
DTSTAMP:20260425T125913
CREATED:20251111T214707Z
LAST-MODIFIED:20251111T214853Z
UID:10024365-1765049400-1765056600@tasaonline.org.au
SUMMARY:Stop Kiss
DESCRIPTION:Callie and Sara form a friendship after the latter moves to New York City. As their friendship progresses\, it turns romantic. When they are violently attacked after their first kiss\, Callie and Sara must deal with the physical and emotional aftermath.\n \nSTOP KISS is the love story between two women whose friendship-turned-romance sparks changes in them both. As Callie and Sara face unexplored territory and new labels in the public eye\, the decisions they make will prove to be life-changing.\n\nSTARRING: Esther Burnett\, Elizabeth Lijo\, Jalen Berry\, Liam Warmeant\, Zoe Russell-von Bujdoss and Ashraf Abdul Halim.
URL:https://tasaonline.org.au/events/stop-kiss/2025-12-06/
LOCATION:University of Adelaide – Little Theatre\, The Cloisters\, Victoria Drive\, Adelaide\, South Australia\, 5000\, Australia
CATEGORIES:Productions
ATTACH;FMTTYPE=image/png:https://tasaonline.org.au/wp-content/uploads/2025/11/Stop.webp
ORGANIZER;CN="The University of Adelaide Theatre Guilde%3A Student Society":MAILTO:uatgstudentsociety@clubs.auu.org.au
END:VEVENT
BEGIN:VEVENT
DTSTART;TZID=Australia/Adelaide:20251206T193000
DTEND;TZID=Australia/Adelaide:20251206T220000
DTSTAMP:20260425T125913
CREATED:20251121T052522Z
LAST-MODIFIED:20251126T054455Z
UID:10024608-1765049400-1765058400@tasaonline.org.au
SUMMARY:PHÈDRE
DESCRIPTION:A gripping\, modern re-telling\, by Poet Laureate\, TED HUGHES\, of French playwright\, JEAN RACINE’s classic play about the ancient Athenian Queen\, Phèdre\, and her obsessive passion for her stepson\, Hippolytus. \nPassion\, guilt\, jealousy\, revenge\, PHÈDRE has everything for a great night at the theatre. \nWith as many plot twists and turns as a modern thriller\, Racine’s incredible play hurtles to its climax with all the white-knuckle excitement of a roller-coaster! \nStarring Lyn Wilson and Callum Logan as Phèdre and Hippolytus\, with Naomi Voortman\, Stuart Pearce\, Chris Bleby\, Mia Livingston-Pearce\, Sophie Livingston-Pearce and Pippa Livingston. \nPresented by arrangement with Faber and Faber\, as literary agents for TED HUGHES.
URL:https://tasaonline.org.au/events/phedre/2025-12-06/2/
LOCATION:Star Theatre – Theatre One\, 145 Sir Donald Bradman Drive\, Hilton\, South Australia\, 5033\, Australia
CATEGORIES:Productions
ATTACH;FMTTYPE=image/jpeg:https://tasaonline.org.au/wp-content/uploads/2025/11/Phedre-1.webp
ORGANIZER;CN="Independent Theatre":MAILTO:tickets@independenttheatre.org.au
END:VEVENT
BEGIN:VEVENT
DTSTART;TZID=Australia/Adelaide:20251206T193000
DTEND;TZID=Australia/Adelaide:20251206T223000
DTSTAMP:20260425T125913
CREATED:20250104T192829Z
LAST-MODIFIED:20250819T082648Z
UID:10023347-1765049400-1765060200@tasaonline.org.au
SUMMARY:Alice in Wonderland - Pantomime
DESCRIPTION:Step into Wonderland for a fantastically fun pantomime filled with all the classic elements audiences love! When Alice escapes from the gloomy “Home for Lost & Unwanted Girls\,” she finds herself in a magical world of madness. But it’s not all quirky creatures and giggles! The power-hungry Queen of Hearts has set her sights on Alice’s enchanted watch\, sending the lovable gardener Jack to steal it. Instead\, Jack and Alice join forces to take on the Queen and her silly sidekicks. \nJoin in on the laugh-out-loud slapstick comedy\, boo the baddies\, cheer for the heroes\, and get ready for heaps of audience participation! With over-the-top costumes\, lively sing-alongs\, and an outrageously funny Dame\, this Alice in Wonderland pantomime has something for everyone. Featuring classic characters like the Mad Hatter\, Tweedle Dum and Tweedle Dee\, the Cheshire Cat\, and\, of course\, the White Rabbit\, it’s a thrilling adventure with a happy ending for Alice and Jack. \nAlice in Wonderland will be performed:\nAt 7.30pm 21\, 22\, 29 November & 5\, 6 December.\nMatinees at 2.30pm on 22\, 29\, 30 November & 6 December.
URL:https://tasaonline.org.au/events/alice-in-wonderland-pantomime/2025-12-06/2/
LOCATION:Tea Tree Players Theatre\, Cnr Yatala Vale Road and Hancock Road\, Surrey Downs\, SA\, 5126\, Australia
CATEGORIES:Productions
ORGANIZER;CN="Tea Tree Players":MAILTO:ttp@teatreeplayers.com
END:VEVENT
END:VCALENDAR