BEGIN:VCALENDAR
VERSION:2.0
PRODID:-//TASA Online - ECPv6.15.15//NONSGML v1.0//EN
CALSCALE:GREGORIAN
METHOD:PUBLISH
X-WR-CALNAME:TASA Online
X-ORIGINAL-URL:https://tasaonline.org.au
X-WR-CALDESC:Events for TASA Online
REFRESH-INTERVAL;VALUE=DURATION:PT1H
X-Robots-Tag:noindex
X-PUBLISHED-TTL:PT1H
BEGIN:VTIMEZONE
TZID:Australia/Adelaide
BEGIN:STANDARD
TZOFFSETFROM:+1030
TZOFFSETTO:+0930
TZNAME:ACST
DTSTART:20240406T163000
END:STANDARD
BEGIN:DAYLIGHT
TZOFFSETFROM:+0930
TZOFFSETTO:+1030
TZNAME:ACDT
DTSTART:20241005T163000
END:DAYLIGHT
BEGIN:STANDARD
TZOFFSETFROM:+1030
TZOFFSETTO:+0930
TZNAME:ACST
DTSTART:20250405T163000
END:STANDARD
BEGIN:DAYLIGHT
TZOFFSETFROM:+0930
TZOFFSETTO:+1030
TZNAME:ACDT
DTSTART:20251004T163000
END:DAYLIGHT
BEGIN:STANDARD
TZOFFSETFROM:+1030
TZOFFSETTO:+0930
TZNAME:ACST
DTSTART:20260404T163000
END:STANDARD
BEGIN:DAYLIGHT
TZOFFSETFROM:+0930
TZOFFSETTO:+1030
TZNAME:ACDT
DTSTART:20261003T163000
END:DAYLIGHT
END:VTIMEZONE
BEGIN:VEVENT
DTSTART;TZID=Australia/Adelaide:20251203T180000
DTEND;TZID=Australia/Adelaide:20251203T210000
DTSTAMP:20260425T125925
CREATED:20251127T002540Z
LAST-MODIFIED:20251127T002540Z
UID:10024614-1764784800-1764795600@tasaonline.org.au
SUMMARY:MY STORIES MATTER - GRAND FINALE - world premiere screening
DESCRIPTION:Join us on International Day of People with Disability 2025 for the world premiere screening of MY STORIES MATTER – GRAND FINALE – the third film in our fictional documentary trilogy. Director Paulo Castro has created films in the style of Roy Andersson – characterized by long\, static takes\, deliberately composed tableaus\, and absurdist humor that blends the tragic with the comedic. No Strings performers share their stories\, blending fact and fiction without explanation or apology.\nThe first two instalments of this trilogy have been screened in Perth (Australia)\, Algarve\, Vila Real\, Lisbon (Portugal) and Berlin (Germany)\, with more screenings scheduled across Europe in 2026. \nAll three films in the trilogy will be screened\, back-to-back\, for the price of one ticket.
URL:https://tasaonline.org.au/events/my-stories-matter-grand-finale-world-premiere-screening/
LOCATION:The Regal Theatre\, 275 Kensington Rd\, Kensington Park\, SA\, 5068\, Australia
CATEGORIES:Productions
ORGANIZER;CN="No Strings Attached - Theatre of Disability":MAILTO:contact.us@nostringsattached.org.au
END:VEVENT
BEGIN:VEVENT
DTSTART;TZID=Australia/Adelaide:20251203T183000
DTEND;TZID=Australia/Adelaide:20251203T210000
DTSTAMP:20260425T125925
CREATED:20251121T052522Z
LAST-MODIFIED:20251126T054455Z
UID:10024604-1764786600-1764795600@tasaonline.org.au
SUMMARY:PHÈDRE
DESCRIPTION:A gripping\, modern re-telling\, by Poet Laureate\, TED HUGHES\, of French playwright\, JEAN RACINE’s classic play about the ancient Athenian Queen\, Phèdre\, and her obsessive passion for her stepson\, Hippolytus. \nPassion\, guilt\, jealousy\, revenge\, PHÈDRE has everything for a great night at the theatre. \nWith as many plot twists and turns as a modern thriller\, Racine’s incredible play hurtles to its climax with all the white-knuckle excitement of a roller-coaster! \nStarring Lyn Wilson and Callum Logan as Phèdre and Hippolytus\, with Naomi Voortman\, Stuart Pearce\, Chris Bleby\, Mia Livingston-Pearce\, Sophie Livingston-Pearce and Pippa Livingston. \nPresented by arrangement with Faber and Faber\, as literary agents for TED HUGHES.
URL:https://tasaonline.org.au/events/phedre/2025-12-03/
LOCATION:Star Theatre – Theatre One\, 145 Sir Donald Bradman Drive\, Hilton\, South Australia\, 5033\, Australia
CATEGORIES:Productions
ATTACH;FMTTYPE=image/jpeg:https://tasaonline.org.au/wp-content/uploads/2025/11/Phedre-1.webp
ORGANIZER;CN="Independent Theatre":MAILTO:tickets@independenttheatre.org.au
END:VEVENT
BEGIN:VEVENT
DTSTART;TZID=Australia/Adelaide:20251203T193000
DTEND;TZID=Australia/Adelaide:20251203T213000
DTSTAMP:20260425T125925
CREATED:20251111T214707Z
LAST-MODIFIED:20251111T214853Z
UID:10024362-1764790200-1764797400@tasaonline.org.au
SUMMARY:Stop Kiss
DESCRIPTION:Callie and Sara form a friendship after the latter moves to New York City. As their friendship progresses\, it turns romantic. When they are violently attacked after their first kiss\, Callie and Sara must deal with the physical and emotional aftermath.\n \nSTOP KISS is the love story between two women whose friendship-turned-romance sparks changes in them both. As Callie and Sara face unexplored territory and new labels in the public eye\, the decisions they make will prove to be life-changing.\n\nSTARRING: Esther Burnett\, Elizabeth Lijo\, Jalen Berry\, Liam Warmeant\, Zoe Russell-von Bujdoss and Ashraf Abdul Halim.
URL:https://tasaonline.org.au/events/stop-kiss/2025-12-03/
LOCATION:University of Adelaide – Little Theatre\, The Cloisters\, Victoria Drive\, Adelaide\, South Australia\, 5000\, Australia
CATEGORIES:Productions
ATTACH;FMTTYPE=image/png:https://tasaonline.org.au/wp-content/uploads/2025/11/Stop.webp
ORGANIZER;CN="The University of Adelaide Theatre Guilde%3A Student Society":MAILTO:uatgstudentsociety@clubs.auu.org.au
END:VEVENT
END:VCALENDAR