BEGIN:VCALENDAR
VERSION:2.0
PRODID:-//TASA Online - ECPv6.15.15//NONSGML v1.0//EN
CALSCALE:GREGORIAN
METHOD:PUBLISH
X-ORIGINAL-URL:https://tasaonline.org.au
X-WR-CALDESC:Events for TASA Online
REFRESH-INTERVAL;VALUE=DURATION:PT1H
X-Robots-Tag:noindex
X-PUBLISHED-TTL:PT1H
BEGIN:VTIMEZONE
TZID:Australia/Adelaide
BEGIN:STANDARD
TZOFFSETFROM:+1030
TZOFFSETTO:+0930
TZNAME:ACST
DTSTART:20240406T163000
END:STANDARD
BEGIN:DAYLIGHT
TZOFFSETFROM:+0930
TZOFFSETTO:+1030
TZNAME:ACDT
DTSTART:20241005T163000
END:DAYLIGHT
BEGIN:STANDARD
TZOFFSETFROM:+1030
TZOFFSETTO:+0930
TZNAME:ACST
DTSTART:20250405T163000
END:STANDARD
BEGIN:DAYLIGHT
TZOFFSETFROM:+0930
TZOFFSETTO:+1030
TZNAME:ACDT
DTSTART:20251004T163000
END:DAYLIGHT
BEGIN:STANDARD
TZOFFSETFROM:+1030
TZOFFSETTO:+0930
TZNAME:ACST
DTSTART:20260404T163000
END:STANDARD
BEGIN:DAYLIGHT
TZOFFSETFROM:+0930
TZOFFSETTO:+1030
TZNAME:ACDT
DTSTART:20261003T163000
END:DAYLIGHT
END:VTIMEZONE
BEGIN:VEVENT
DTSTART;TZID=Australia/Adelaide:20250823T140000
DTEND;TZID=Australia/Adelaide:20250823T154000
DTSTAMP:20260425T200322
CREATED:20250803T224316Z
LAST-MODIFIED:20251108T064424Z
UID:10024191-1755957600-1755963600@tasaonline.org.au
SUMMARY:Come From Away
DESCRIPTION:Based on the events in the isolated Newfoundland town of Gander (pop. 10\,000) on the day and during the week following the September 11 attacks\, when 38 planes\, carrying approximately 7\,000 passengers\, were unexpectedly diverted to land at Gander Airport. The characters are based on real Gander residents and the stranded travellers they housed\, fed and supported. Uplifting\, funny\, sad by turns\, we promise you will love this show.
URL:https://tasaonline.org.au/events/come-from-away-2/2025-08-23/1/
LOCATION:The Arts Theatre\, 53 Angus Street\, Adelaide\, SA\, 5000\, Australia
CATEGORIES:Productions
ATTACH;FMTTYPE=image/png:https://tasaonline.org.au/wp-content/uploads/2025/08/Come-F-A.avif
ORGANIZER;CN="Therry Theatre":MAILTO:therry@chariot.net.au
GEO:-34.9303832;138.6029781
X-APPLE-STRUCTURED-LOCATION;VALUE=URI;X-ADDRESS=The Arts Theatre 53 Angus Street Adelaide SA 5000 Australia;X-APPLE-RADIUS=500;X-TITLE=53 Angus Street:geo:138.6029781,-34.9303832
END:VEVENT
BEGIN:VEVENT
DTSTART;TZID=Australia/Adelaide:20250823T140000
DTEND;TZID=Australia/Adelaide:20250823T163000
DTSTAMP:20260425T200322
CREATED:20250803T222632Z
LAST-MODIFIED:20250805T215546Z
UID:10024072-1755957600-1755966600@tasaonline.org.au
SUMMARY:The Government Inspector - Blackwood Players
DESCRIPTION:All hell breaks loose when the local council of a small regional community (manipulated by a powerful and wealthy developer) learn that the State Government are sending in a Crime and Corruption Inspector to have a sniff around. And he’ll be arriving ‘incognito’. But when a mysterious nobody is mistaken for the Inspector\, the town will never be the same. \nTerri Brabon OAM’s ‘Australianised’ new adaptation of Russian playwright Nikolai Gogol’s modern classic comedy.
URL:https://tasaonline.org.au/events/the-government-inspector-blackwood-players/2025-08-23/
LOCATION:Blackwood Memorial Hall\, 21 Coromandel Parade\, Blackwood\, SA\, 5051\, Australia
CATEGORIES:Productions
ATTACH;FMTTYPE=image/png:https://tasaonline.org.au/wp-content/uploads/2025/08/gi-scaled.avif
ORGANIZER;CN="Blackwood Players Inc.":MAILTO:blackwood.players@gmail.com
END:VEVENT
BEGIN:VEVENT
DTSTART;TZID=Australia/Adelaide:20250823T143000
DTEND;TZID=Australia/Adelaide:20250823T170000
DTSTAMP:20260425T200322
CREATED:20241218T231209Z
LAST-MODIFIED:20250819T083022Z
UID:10023336-1755959400-1755968400@tasaonline.org.au
SUMMARY:Girl of the Frozen North
DESCRIPTION:Get ready to boo\, cheer\, and laugh along with Girl of the Frozen North\, a playful\, interactive melodrama where the moustache-twirling villain meets his match! \nSet in the snowy Yukon\, this show follows the valiant Mountie Dashiell H. Goforth as he tries to foil the sneaky schemes of J. Harrington Cesspool\, who has his sights set on capturing the innocent Nettie Neetfoot. \nPacked with silly sing-alongs\, audience shout-outs\, and plenty of over-the-top moments and a hilarious balloon dance that will have the whole audience in stitches\, this production is a hilarious romp through a classic tale of good versus evil. \nAt 8pm 13 – 16 August & 20 – 23 August.\nMatinees at 2.30pm on 16 August\, 17 August & 23 August.
URL:https://tasaonline.org.au/events/girl-of-the-frozen-north/2025-08-23/1/
LOCATION:Tea Tree Players Theatre\, Cnr Yatala Vale Road and Hancock Road\, Surrey Downs\, SA\, 5126\, Australia
CATEGORIES:Productions
ATTACH;FMTTYPE=image/png:https://tasaonline.org.au/wp-content/uploads/2024/12/Girl-png.avif
ORGANIZER;CN="Tea Tree Players":MAILTO:ttp@teatreeplayers.com
END:VEVENT
BEGIN:VEVENT
DTSTART;TZID=Australia/Adelaide:20250823T190000
DTEND;TZID=Australia/Adelaide:20250823T230000
DTSTAMP:20260425T200322
CREATED:20250819T081254Z
LAST-MODIFIED:20250819T082524Z
UID:10024211-1755975600-1755990000@tasaonline.org.au
SUMMARY:Gypsy - A Musical Fable
DESCRIPTION:A musical about the relentless pursuit of fame and success through the lens of a domineering stage mother\, Rose (Played by Kelly Bickle)\, and her two daughters\, June and Louise (Georgia May/Jessie Rouse & Willow Friedrichs/Bethany Eloise) Rose pushes her daughters through the dying vaudeville circuit\, driven by her own unfulfilled ambitions. \nThe story explores themes of ambition\, family relationships\, and the sacrifices made in the name of show business.
URL:https://tasaonline.org.au/events/gypsy-a-musical-fable-2/2025-08-23/
LOCATION:Balaklava Town Hall\, 8 Wallace St\, Balaklava\, South Australia\, 5461\, Australia
CATEGORIES:Productions
ATTACH;FMTTYPE=image/png:https://tasaonline.org.au/wp-content/uploads/2025/08/PROGRAM-COVER.avif
ORGANIZER;CN="Balaklava Community Arts Inc":MAILTO:bicks1@bigpond.com
END:VEVENT
BEGIN:VEVENT
DTSTART;TZID=Australia/Adelaide:20250823T193000
DTEND;TZID=Australia/Adelaide:20250823T211000
DTSTAMP:20260425T200322
CREATED:20250803T224316Z
LAST-MODIFIED:20251108T064424Z
UID:10024192-1755977400-1755983400@tasaonline.org.au
SUMMARY:Come From Away
DESCRIPTION:Based on the events in the isolated Newfoundland town of Gander (pop. 10\,000) on the day and during the week following the September 11 attacks\, when 38 planes\, carrying approximately 7\,000 passengers\, were unexpectedly diverted to land at Gander Airport. The characters are based on real Gander residents and the stranded travellers they housed\, fed and supported. Uplifting\, funny\, sad by turns\, we promise you will love this show.
URL:https://tasaonline.org.au/events/come-from-away-2/2025-08-23/2/
LOCATION:The Arts Theatre\, 53 Angus Street\, Adelaide\, SA\, 5000\, Australia
CATEGORIES:Productions
ATTACH;FMTTYPE=image/png:https://tasaonline.org.au/wp-content/uploads/2025/08/Come-F-A.avif
ORGANIZER;CN="Therry Theatre":MAILTO:therry@chariot.net.au
GEO:-34.9303832;138.6029781
X-APPLE-STRUCTURED-LOCATION;VALUE=URI;X-ADDRESS=The Arts Theatre 53 Angus Street Adelaide SA 5000 Australia;X-APPLE-RADIUS=500;X-TITLE=53 Angus Street:geo:138.6029781,-34.9303832
END:VEVENT
BEGIN:VEVENT
DTSTART;TZID=Australia/Adelaide:20250823T200000
DTEND;TZID=Australia/Adelaide:20250823T223000
DTSTAMP:20260425T200322
CREATED:20241218T231209Z
LAST-MODIFIED:20250819T083022Z
UID:10023311-1755979200-1755988200@tasaonline.org.au
SUMMARY:Girl of the Frozen North
DESCRIPTION:Get ready to boo\, cheer\, and laugh along with Girl of the Frozen North\, a playful\, interactive melodrama where the moustache-twirling villain meets his match! \nSet in the snowy Yukon\, this show follows the valiant Mountie Dashiell H. Goforth as he tries to foil the sneaky schemes of J. Harrington Cesspool\, who has his sights set on capturing the innocent Nettie Neetfoot. \nPacked with silly sing-alongs\, audience shout-outs\, and plenty of over-the-top moments and a hilarious balloon dance that will have the whole audience in stitches\, this production is a hilarious romp through a classic tale of good versus evil. \nAt 8pm 13 – 16 August & 20 – 23 August.\nMatinees at 2.30pm on 16 August\, 17 August & 23 August.
URL:https://tasaonline.org.au/events/girl-of-the-frozen-north/2025-08-23/2/
LOCATION:Tea Tree Players Theatre\, Cnr Yatala Vale Road and Hancock Road\, Surrey Downs\, SA\, 5126\, Australia
CATEGORIES:Productions
ATTACH;FMTTYPE=image/png:https://tasaonline.org.au/wp-content/uploads/2024/12/Girl-png.avif
ORGANIZER;CN="Tea Tree Players":MAILTO:ttp@teatreeplayers.com
END:VEVENT
END:VCALENDAR