BEGIN:VCALENDAR
VERSION:2.0
PRODID:-//TASA Online - ECPv6.15.15//NONSGML v1.0//EN
CALSCALE:GREGORIAN
METHOD:PUBLISH
X-WR-CALNAME:TASA Online
X-ORIGINAL-URL:https://tasaonline.org.au
X-WR-CALDESC:Events for TASA Online
REFRESH-INTERVAL;VALUE=DURATION:PT1H
X-Robots-Tag:noindex
X-PUBLISHED-TTL:PT1H
BEGIN:VTIMEZONE
TZID:Australia/Adelaide
BEGIN:STANDARD
TZOFFSETFROM:+1030
TZOFFSETTO:+0930
TZNAME:ACST
DTSTART:20240406T163000
END:STANDARD
BEGIN:DAYLIGHT
TZOFFSETFROM:+0930
TZOFFSETTO:+1030
TZNAME:ACDT
DTSTART:20241005T163000
END:DAYLIGHT
BEGIN:STANDARD
TZOFFSETFROM:+1030
TZOFFSETTO:+0930
TZNAME:ACST
DTSTART:20250405T163000
END:STANDARD
BEGIN:DAYLIGHT
TZOFFSETFROM:+0930
TZOFFSETTO:+1030
TZNAME:ACDT
DTSTART:20251004T163000
END:DAYLIGHT
BEGIN:STANDARD
TZOFFSETFROM:+1030
TZOFFSETTO:+0930
TZNAME:ACST
DTSTART:20260404T163000
END:STANDARD
BEGIN:DAYLIGHT
TZOFFSETFROM:+0930
TZOFFSETTO:+1030
TZNAME:ACDT
DTSTART:20261003T163000
END:DAYLIGHT
END:VTIMEZONE
BEGIN:VEVENT
DTSTART;TZID=Australia/Adelaide:20250810T140000
DTEND;TZID=Australia/Adelaide:20250810T154000
DTSTAMP:20260425T195933
CREATED:20250803T224316Z
LAST-MODIFIED:20251108T064424Z
UID:10024181-1754834400-1754840400@tasaonline.org.au
SUMMARY:Come From Away
DESCRIPTION:Based on the events in the isolated Newfoundland town of Gander (pop. 10\,000) on the day and during the week following the September 11 attacks\, when 38 planes\, carrying approximately 7\,000 passengers\, were unexpectedly diverted to land at Gander Airport. The characters are based on real Gander residents and the stranded travellers they housed\, fed and supported. Uplifting\, funny\, sad by turns\, we promise you will love this show.
URL:https://tasaonline.org.au/events/come-from-away-2/2025-08-10/
LOCATION:The Arts Theatre\, 53 Angus Street\, Adelaide\, SA\, 5000\, Australia
CATEGORIES:Productions
ATTACH;FMTTYPE=image/png:https://tasaonline.org.au/wp-content/uploads/2025/08/Come-F-A.avif
ORGANIZER;CN="Therry Theatre":MAILTO:therry@chariot.net.au
GEO:-34.9303832;138.6029781
X-APPLE-STRUCTURED-LOCATION;VALUE=URI;X-ADDRESS=The Arts Theatre 53 Angus Street Adelaide SA 5000 Australia;X-APPLE-RADIUS=500;X-TITLE=53 Angus Street:geo:138.6029781,-34.9303832
END:VEVENT
BEGIN:VEVENT
DTSTART;TZID=Australia/Adelaide:20250810T150000
DTEND;TZID=Australia/Adelaide:20250810T173000
DTSTAMP:20260425T195933
CREATED:20250617T040031Z
LAST-MODIFIED:20250617T040031Z
UID:10024008-1754838000-1754847000@tasaonline.org.au
SUMMARY:The Watsons
DESCRIPTION:A Jane Austen play you don’t know the ending to?\nThat’s all right\, neither did she. \nTHE WATSONS\nWritten by Laura Wade\nDirected by Matthew Chapman \n1 – 10 August 2025\nLittle Theatre \nThe Watsons are in crisis. Cut off financially from her benefactor\, the youngest\, Emma\, returns to her dying father and spinster sisters with the task of finding a husband – and finding one now. Matchmakers\, match breakers\, cads\, stuffy clergymen and an overactive rumour mill all conspire as wedding bells ring in the distance and Emma eyes off a certain man… \n…and that’s where we leave it.\nSee\, Jane Austen never finished the story. So it’s up to Emma\, with the help of modern-day Laura\, a jaded playwright with a rapidly approaching deadline\, to find her own happy ending… \nAnd that’s where the fun really begins.
URL:https://tasaonline.org.au/events/the-watsons/2025-08-10/
LOCATION:University of Adelaide – Little Theatre\, The Cloisters\, Victoria Drive\, Adelaide\, South Australia\, 5000\, Australia
CATEGORIES:Productions
ATTACH;FMTTYPE=image/jpeg:https://tasaonline.org.au/wp-content/uploads/2025/06/Watsons.avif
ORGANIZER;CN="The University of Adelaide Theatre Guild":MAILTO:theatreguild@adelaide.edu.au
END:VEVENT
BEGIN:VEVENT
DTSTART;TZID=Australia/Adelaide:20250810T150000
DTEND;TZID=Australia/Adelaide:20250810T173000
DTSTAMP:20260425T195933
CREATED:20250624T072303Z
LAST-MODIFIED:20250624T072303Z
UID:10024027-1754838000-1754847000@tasaonline.org.au
SUMMARY:The Watsons
DESCRIPTION:A Jane Austen play you don’t know the ending to?\nThat’s all right\, neither did she. \nThe Watsons are in crisis. Cut off financially from her benefactor\, the youngest\, Emma\, returns to her dying father and spinster sisters with the task of finding a husband – and finding one now. Matchmakers\, match breakers\, cads\, stuffy clergymen and an overactive rumour mill all conspire as wedding bells ring in the distance and Emma eyes off a certain man… \n…and that’s where we leave it. See\, Jane Austen never finished the story. So it’s up to Emma\, with the help of modern-day Laura\, a jaded playwright with a rapidly approaching deadline\, to find her own happy ending… \nAnd that’s where the fun really begins.
URL:https://tasaonline.org.au/events/the-watsons-2/2025-08-10/
LOCATION:University of Adelaide – Little Theatre\, The Cloisters\, Victoria Drive\, Adelaide\, South Australia\, 5000\, Australia
CATEGORIES:Productions
ATTACH;FMTTYPE=image/jpeg:https://tasaonline.org.au/wp-content/uploads/2025/06/The-Watsons.avif
ORGANIZER;CN="The University of Adelaide Theatre Guild":MAILTO:theatreguild@adelaide.edu.au
END:VEVENT
BEGIN:VEVENT
DTSTART;TZID=Australia/Adelaide:20250810T150000
DTEND;TZID=Australia/Adelaide:20250810T180000
DTSTAMP:20260425T195933
CREATED:20250608T073805Z
LAST-MODIFIED:20250625T133530Z
UID:10023975-1754838000-1754848800@tasaonline.org.au
SUMMARY:When We Dead Awaken
DESCRIPTION:Published in 1899\, “When We Dead Awaken” is the final theatrical drama written by Norwegian playwright Henrik Ibsen. Set at a Norwegian spa during the wintertime\, the story is told in three acts\, and charts the existential ruminations of professor and famed sculptor Arnold Rubek as he reunites with his former muse\, Irene von Satow. Desperate to recapture the glory of his past inspirations\, Rubek must also reconcile his relationship with his estranged wife\, Maia. Often called one of Ibsen’s most confessional works\, the play touches on themes of despair\, mortality\, legacy\, nostalgia\, artistic expression\, petrification\, rekindled romances\, and ultimately\, the acceptance of death. Some scholars believe the play is a biographical blend of Ibsen’s own life with that of his contemporary\, Auguste Rodin.
URL:https://tasaonline.org.au/events/when-we-dead-awaken/2025-08-10/
LOCATION:Star Theatre – Theatre Two\, 145 Sir Donald Bradman Drive\, Hilton\, South Australia\, 5033\, Australia
CATEGORIES:Productions
ATTACH;FMTTYPE=image/jpeg:https://tasaonline.org.au/wp-content/uploads/2025/06/when-we-dead-awaken.avif
ORGANIZER;CN="Loc'ally Theatre":MAILTO:locallytheatr@gmail.com
END:VEVENT
END:VCALENDAR