BEGIN:VCALENDAR
VERSION:2.0
PRODID:-//TASA Online - ECPv6.15.15//NONSGML v1.0//EN
CALSCALE:GREGORIAN
METHOD:PUBLISH
X-WR-CALNAME:TASA Online
X-ORIGINAL-URL:https://tasaonline.org.au
X-WR-CALDESC:Events for TASA Online
REFRESH-INTERVAL;VALUE=DURATION:PT1H
X-Robots-Tag:noindex
X-PUBLISHED-TTL:PT1H
BEGIN:VTIMEZONE
TZID:Australia/Adelaide
BEGIN:STANDARD
TZOFFSETFROM:+1030
TZOFFSETTO:+0930
TZNAME:ACST
DTSTART:20190406T163000
END:STANDARD
BEGIN:DAYLIGHT
TZOFFSETFROM:+0930
TZOFFSETTO:+1030
TZNAME:ACDT
DTSTART:20191005T163000
END:DAYLIGHT
BEGIN:STANDARD
TZOFFSETFROM:+1030
TZOFFSETTO:+0930
TZNAME:ACST
DTSTART:20200404T163000
END:STANDARD
BEGIN:DAYLIGHT
TZOFFSETFROM:+0930
TZOFFSETTO:+1030
TZNAME:ACDT
DTSTART:20201003T163000
END:DAYLIGHT
BEGIN:STANDARD
TZOFFSETFROM:+1030
TZOFFSETTO:+0930
TZNAME:ACST
DTSTART:20210403T163000
END:STANDARD
BEGIN:DAYLIGHT
TZOFFSETFROM:+0930
TZOFFSETTO:+1030
TZNAME:ACDT
DTSTART:20211002T163000
END:DAYLIGHT
END:VTIMEZONE
BEGIN:VEVENT
DTSTART;TZID=Australia/Adelaide:20200814T193000
DTEND;TZID=Australia/Adelaide:20200814T220000
DTSTAMP:20260425T120529
CREATED:20191216T101552Z
LAST-MODIFIED:20200503T002042Z
UID:10015709-1597433400-1597442400@tasaonline.org.au
SUMMARY:The Pig Iron People
DESCRIPTION:John Doyle has an impressive record in writing comedy and drama for radio and television but this is his first stage play and a SA premiere.\nA satire about life and the winds of change set on a quiet suburban street with not quite enough parking for the residents\, it examines two generations and the way the politics of their time (and the politics of their car-parking) have shaped them. \nDirected by: Lesley Reed
URL:https://tasaonline.org.au/events/the-pig-iron-people/2020-08-14/
LOCATION:St. Jude’s Players\, 444 Brighton Rd\, Brighton\, South Australia\, 5048\, Australia
CATEGORIES:Productions
ATTACH;FMTTYPE=image/jpeg:https://tasaonline.org.au/wp-content/uploads/2019/03/st-judes.jpg
ORGANIZER;CN="St. Jude's Players":MAILTO:info@stjudesplayers.asn.au
END:VEVENT
END:VCALENDAR