BEGIN:VCALENDAR
VERSION:2.0
PRODID:-//TASA Online - ECPv6.15.15//NONSGML v1.0//EN
CALSCALE:GREGORIAN
METHOD:PUBLISH
X-ORIGINAL-URL:https://tasaonline.org.au
X-WR-CALDESC:Events for TASA Online
REFRESH-INTERVAL;VALUE=DURATION:PT1H
X-Robots-Tag:noindex
X-PUBLISHED-TTL:PT1H
BEGIN:VTIMEZONE
TZID:Australia/Adelaide
BEGIN:STANDARD
TZOFFSETFROM:+1030
TZOFFSETTO:+0930
TZNAME:ACST
DTSTART:20190406T163000
END:STANDARD
BEGIN:DAYLIGHT
TZOFFSETFROM:+0930
TZOFFSETTO:+1030
TZNAME:ACDT
DTSTART:20191005T163000
END:DAYLIGHT
BEGIN:STANDARD
TZOFFSETFROM:+1030
TZOFFSETTO:+0930
TZNAME:ACST
DTSTART:20200404T163000
END:STANDARD
BEGIN:DAYLIGHT
TZOFFSETFROM:+0930
TZOFFSETTO:+1030
TZNAME:ACDT
DTSTART:20201003T163000
END:DAYLIGHT
BEGIN:STANDARD
TZOFFSETFROM:+1030
TZOFFSETTO:+0930
TZNAME:ACST
DTSTART:20210403T163000
END:STANDARD
BEGIN:DAYLIGHT
TZOFFSETFROM:+0930
TZOFFSETTO:+1030
TZNAME:ACDT
DTSTART:20211002T163000
END:DAYLIGHT
END:VTIMEZONE
BEGIN:VEVENT
DTSTART;TZID=Australia/Adelaide:20200729T100000
DTEND;TZID=Australia/Adelaide:20200729T103000
DTSTAMP:20260425T102015
CREATED:20190326T033703Z
LAST-MODIFIED:20190527T141731Z
UID:10014222-1596016800-1596018600@tasaonline.org.au
SUMMARY:Disney's 'Cinderella Kids'
DESCRIPTION:The timeless\, “rags to riches” fairy tale becomes a new audience favorite in Disney’s Cinderella KIDS\, an adaptation of the treasured animated film that will charm its way into your heart and remind audiences that dreams really can come true. \nA cast of 30 young performers will bring this show to life\, and at only 30 minutes in length it is the perfect show for our youngest and oldest of audiences alike! \n\nBetween Wednesday 24 April 2019 10:00 AM and Sunday 28 April 2019 11:30 AM\nONLY 200 TICKETS AVAILABLE!\nBook now to avoid disappointment!
URL:https://tasaonline.org.au/events/disneys-cinderella-kids/2020-07-29/
LOCATION:Star Theatre – Theatre Two\, 145 Sir Donald Bradman Drive\, Hilton\, South Australia\, 5033\, Australia
CATEGORIES:Productions
ORGANIZER;CN="Adelaide Youth Theatre":MAILTO:aytcompany@gmail.com
END:VEVENT
BEGIN:VEVENT
DTSTART;TZID=Australia/Adelaide:20200729T183000
DTEND;TZID=Australia/Adelaide:20200729T210000
DTSTAMP:20260425T102015
CREATED:20221122T043728Z
LAST-MODIFIED:20221122T043728Z
UID:10015610-1596047400-1596056400@tasaonline.org.au
SUMMARY:The Prime of Miss Jean Brodie
DESCRIPTION:At Edinburgh’s staid Marcia Blaine School for Girls\, flamboyant teacher Miss Jean Brodie is unmistakably\, and outspokenly\, in her prime. A devotee of all things Italian – art\, opera and Mussolini – and hater of the Girl Guides\, Miss Brodie’s unorthodox teaching methods\, and her dedication to “her girls”\, set her on a collision course with the school’s rigid headmistress.\nFanatically devoted to their teacher\, each member of the Brodie set will be “famous for something”\, and Miss Brodie strives to bring out the best in each one. Determined to instil in them independence\, passion\, and ambition\, Miss Brodie’s creed is: “I am in the business of putting old heads on young shoulders. Give me a girl at an impressionable age\, and she is mine for life.” \nAll but one\, as it turns out. \nJay Presson Allen’s famous adaptation brings out all the delicious irony and humour of Muriel Spark’s darkly witty novel\, as well as flagging the inherent dangers of a strong influence on formative minds. \nVanessa Redgrave created the role on the London stage\, followed by Australian actress\, Zoe Caldwell\, on Broadway. The 1968 film saw Maggie Smith win her first Oscar.
URL:https://tasaonline.org.au/events/the-prime-of-miss-jean-brodie/2020-07-29/
LOCATION:Goodwood Institute\, 166 Goodwood Rd\, Goodwood\, SA\, 5034\, Australia
CATEGORIES:Productions
ORGANIZER;CN="Independent Theatre":MAILTO:tickets@independenttheatre.org.au
END:VEVENT
END:VCALENDAR