BEGIN:VCALENDAR
VERSION:2.0
PRODID:-//TASA Online - ECPv6.15.15//NONSGML v1.0//EN
CALSCALE:GREGORIAN
METHOD:PUBLISH
X-ORIGINAL-URL:https://tasaonline.org.au
X-WR-CALDESC:Events for TASA Online
REFRESH-INTERVAL;VALUE=DURATION:PT1H
X-Robots-Tag:noindex
X-PUBLISHED-TTL:PT1H
BEGIN:VTIMEZONE
TZID:Australia/Adelaide
BEGIN:STANDARD
TZOFFSETFROM:+1030
TZOFFSETTO:+0930
TZNAME:ACST
DTSTART:20190406T163000
END:STANDARD
BEGIN:DAYLIGHT
TZOFFSETFROM:+0930
TZOFFSETTO:+1030
TZNAME:ACDT
DTSTART:20191005T163000
END:DAYLIGHT
BEGIN:STANDARD
TZOFFSETFROM:+1030
TZOFFSETTO:+0930
TZNAME:ACST
DTSTART:20200404T163000
END:STANDARD
BEGIN:DAYLIGHT
TZOFFSETFROM:+0930
TZOFFSETTO:+1030
TZNAME:ACDT
DTSTART:20201003T163000
END:DAYLIGHT
BEGIN:STANDARD
TZOFFSETFROM:+1030
TZOFFSETTO:+0930
TZNAME:ACST
DTSTART:20210403T163000
END:STANDARD
BEGIN:DAYLIGHT
TZOFFSETFROM:+0930
TZOFFSETTO:+1030
TZNAME:ACDT
DTSTART:20211002T163000
END:DAYLIGHT
END:VTIMEZONE
BEGIN:VEVENT
DTSTART;TZID=Australia/Adelaide:20200712T160000
DTEND;TZID=Australia/Adelaide:20200712T180000
DTSTAMP:20260425T102057
CREATED:20200711T001110Z
LAST-MODIFIED:20200711T021209Z
UID:10014906-1594569600-1594576800@tasaonline.org.au
SUMMARY:“Orange is the New Glass” & “That’s Not How I Remember It”
DESCRIPTION:Wings2Fly Theatre are back just in time for the school holidays!  \nGet double your money’s worth with not one\, but two side-splitting plays brought to you by SA’s up and coming\, young stars. Come on down and engage with some local theatre and support everyone’s favourite venue – Holden Street Theatres! \n“Orange is the New Glass” – will be performed first\, a cleverly written script entwining popular fairy tales with a twist. \nThen “That’s Not How I Remember It” – a couple try to explain how they met to their young son\, but they don’t seem to remember the same story! \nBoth plays together will be performed one after the other (with an interval in between) as a double bill. Join us for a fun evening at the theatre. Suitable for all ages
URL:https://tasaonline.org.au/events/orange-is-the-new-glass-thats-not-how-i-remember-it/2020-07-12/
LOCATION:Holden Street Theatres\, 34 Holden Street\, Hindmarsh\, South Australia\, 5007\, Australia
CATEGORIES:Productions
ORGANIZER;CN="Wings2Fly Theatre":MAILTO:wings2flytheatre@gmail.com
END:VEVENT
END:VCALENDAR