BEGIN:VCALENDAR
VERSION:2.0
PRODID:-//TASA Online - ECPv6.15.15//NONSGML v1.0//EN
CALSCALE:GREGORIAN
METHOD:PUBLISH
X-WR-CALNAME:TASA Online
X-ORIGINAL-URL:https://tasaonline.org.au
X-WR-CALDESC:Events for TASA Online
REFRESH-INTERVAL;VALUE=DURATION:PT1H
X-Robots-Tag:noindex
X-PUBLISHED-TTL:PT1H
BEGIN:VTIMEZONE
TZID:Australia/Adelaide
BEGIN:STANDARD
TZOFFSETFROM:+1030
TZOFFSETTO:+0930
TZNAME:ACST
DTSTART:20190406T163000
END:STANDARD
BEGIN:DAYLIGHT
TZOFFSETFROM:+0930
TZOFFSETTO:+1030
TZNAME:ACDT
DTSTART:20191005T163000
END:DAYLIGHT
BEGIN:STANDARD
TZOFFSETFROM:+1030
TZOFFSETTO:+0930
TZNAME:ACST
DTSTART:20200404T163000
END:STANDARD
BEGIN:DAYLIGHT
TZOFFSETFROM:+0930
TZOFFSETTO:+1030
TZNAME:ACDT
DTSTART:20201003T163000
END:DAYLIGHT
BEGIN:STANDARD
TZOFFSETFROM:+1030
TZOFFSETTO:+0930
TZNAME:ACST
DTSTART:20210403T163000
END:STANDARD
BEGIN:DAYLIGHT
TZOFFSETFROM:+0930
TZOFFSETTO:+1030
TZNAME:ACDT
DTSTART:20211002T163000
END:DAYLIGHT
END:VTIMEZONE
BEGIN:VEVENT
DTSTART;TZID=Australia/Adelaide:20200529T200000
DTEND;TZID=Australia/Adelaide:20200529T223000
DTSTAMP:20260425T071251
CREATED:20191215T082224Z
LAST-MODIFIED:20200502T055235Z
UID:10015546-1590782400-1590791400@tasaonline.org.au
SUMMARY:Stage Kiss
DESCRIPTION:
URL:https://tasaonline.org.au/events/stage-kiss-2/2020-05-29/
LOCATION:Domain Theatre\, 287 Diagonal Road\, Oaklands Park\, SA\, 5046\, Australia
CATEGORIES:Productions
ORGANIZER;CN="Galleon Theatre Group":MAILTO:info@galleon.org.au
END:VEVENT
BEGIN:VEVENT
DTSTART;TZID=Australia/Adelaide:20200529T200000
DTEND;TZID=Australia/Adelaide:20200529T223000
DTSTAMP:20260425T071251
CREATED:20200219T103751Z
LAST-MODIFIED:20200401T105847Z
UID:10014738-1590782400-1590791400@tasaonline.org.au
SUMMARY:Inspector Cluedo and the Curse of the Darjeeling Diamond
DESCRIPTION:Inspector Cluedo is coming to Noarlunga Theatre company in 2020  after a sold out season at the 2019 Adelaide Fringe “Inspector Cluedo & the Curse of the Darjeeling Diamond” \nIs a clever comedy show stealing everything from great one-liners of “The Pink Panther” to the necklace known as “The Darjeeling Diamond”. \nSet in the last century\,(1957) this classic “Who Dun It” joins the cash-poor \,asset rich widow Lady Carbuncle who has her necklace stolen while entertain visitors (including the Audience) in Carbuncle Manor. The bumbling “Chief Inspector Detective Cluedo” arrives at the Manor house to solve the crime. \nWith a hotchpotch of characters including Rupert the Upper-Crust Butler (with an unfortunate infliction of  Tourettes)\, Ruby a cheeky Cockney Maid\, Crystal the mysterious companion of Lady Carbuncle\, Diamond Solitaire a flamboyant Movie Star \, Father Rick O’Shea an Irish Priest\, and Lady Carbuncle herself. \nPlus of course no mystery would be complete without a Ghost. All play out the scenes with the Audience to find out who is the real culprit\, and solve… The Crime of “The Curse of The Darjeeling Diamond”. \nThere is a barrel of laughs\, action and hilarity for all\, while the Audience get involved to fill out their clue sheets and get a prize if they guess who the real culprit is..And then everyone gets to relish in the last moment when all is revealed and Cluedo finally solves the case!………..Or Does He? \nYes with this Stellar Cast and the flamboyant show songs and tunes\, the punters are in for a grand old time. \n 
URL:https://tasaonline.org.au/events/inspector-cluedo-and-the-curse-of-the-darjeeling-diamond/2020-05-29/
LOCATION:The Arts Centre\, 22 Gawler St\, Port Noarlunga\, SA\, 5167\, Australia
CATEGORIES:Productions
ORGANIZER;CN="Noarlunga Theatre Company":MAILTO:ntc@outlook.com.au
END:VEVENT
END:VCALENDAR