BEGIN:VCALENDAR
VERSION:2.0
PRODID:-//TASA Online - ECPv6.15.15//NONSGML v1.0//EN
CALSCALE:GREGORIAN
METHOD:PUBLISH
X-ORIGINAL-URL:https://tasaonline.org.au
X-WR-CALDESC:Events for TASA Online
REFRESH-INTERVAL;VALUE=DURATION:PT1H
X-Robots-Tag:noindex
X-PUBLISHED-TTL:PT1H
BEGIN:VTIMEZONE
TZID:Australia/Adelaide
BEGIN:STANDARD
TZOFFSETFROM:+1030
TZOFFSETTO:+0930
TZNAME:ACST
DTSTART:20190406T163000
END:STANDARD
BEGIN:DAYLIGHT
TZOFFSETFROM:+0930
TZOFFSETTO:+1030
TZNAME:ACDT
DTSTART:20191005T163000
END:DAYLIGHT
BEGIN:STANDARD
TZOFFSETFROM:+1030
TZOFFSETTO:+0930
TZNAME:ACST
DTSTART:20200404T163000
END:STANDARD
BEGIN:DAYLIGHT
TZOFFSETFROM:+0930
TZOFFSETTO:+1030
TZNAME:ACDT
DTSTART:20201003T163000
END:DAYLIGHT
BEGIN:STANDARD
TZOFFSETFROM:+1030
TZOFFSETTO:+0930
TZNAME:ACST
DTSTART:20210403T163000
END:STANDARD
BEGIN:DAYLIGHT
TZOFFSETFROM:+0930
TZOFFSETTO:+1030
TZNAME:ACDT
DTSTART:20211002T163000
END:DAYLIGHT
END:VTIMEZONE
BEGIN:VEVENT
DTSTART;TZID=Australia/Adelaide:20200519T190000
DTEND;TZID=Australia/Adelaide:20200519T194000
DTSTAMP:20260425T071400
CREATED:20200502T084110Z
LAST-MODIFIED:20200531T134332Z
UID:10014825-1589914800-1589917200@tasaonline.org.au
SUMMARY:Box by Lindsay Price
DESCRIPTION:Sometimes we choose the way the world sees us. Black box – indestructible. Jewellery box – plain on the outside\, shiny on the inside. Sometimes our box is defined by others – our parents\, our friends\, our enemies. A box built by others can feel small\, confined\, impossible. \nHow do we handle the boxes imposed upon us because of our gender? Our race? From peer pressure? From parent pressure? Do we have to live with our box for the rest of our lives? Can we change? \n 
URL:https://tasaonline.org.au/events/box-by-lindsay-price/
LOCATION:SA\, Australia
CATEGORIES:Productions
ATTACH;FMTTYPE=image/jpeg:https://tasaonline.org.au/wp-content/uploads/2020/05/Box.jpg
ORGANIZER;CN="Wings2Fly Theatre":MAILTO:wings2flytheatre@gmail.com
END:VEVENT
END:VCALENDAR