BEGIN:VCALENDAR
VERSION:2.0
PRODID:-//TASA Online - ECPv6.15.15//NONSGML v1.0//EN
CALSCALE:GREGORIAN
METHOD:PUBLISH
X-WR-CALNAME:TASA Online
X-ORIGINAL-URL:https://tasaonline.org.au
X-WR-CALDESC:Events for TASA Online
REFRESH-INTERVAL;VALUE=DURATION:PT1H
X-Robots-Tag:noindex
X-PUBLISHED-TTL:PT1H
BEGIN:VTIMEZONE
TZID:Australia/Adelaide
BEGIN:STANDARD
TZOFFSETFROM:+1030
TZOFFSETTO:+0930
TZNAME:ACST
DTSTART:20190406T163000
END:STANDARD
BEGIN:DAYLIGHT
TZOFFSETFROM:+0930
TZOFFSETTO:+1030
TZNAME:ACDT
DTSTART:20191005T163000
END:DAYLIGHT
BEGIN:STANDARD
TZOFFSETFROM:+1030
TZOFFSETTO:+0930
TZNAME:ACST
DTSTART:20200404T163000
END:STANDARD
BEGIN:DAYLIGHT
TZOFFSETFROM:+0930
TZOFFSETTO:+1030
TZNAME:ACDT
DTSTART:20201003T163000
END:DAYLIGHT
BEGIN:STANDARD
TZOFFSETFROM:+1030
TZOFFSETTO:+0930
TZNAME:ACST
DTSTART:20210403T163000
END:STANDARD
BEGIN:DAYLIGHT
TZOFFSETFROM:+0930
TZOFFSETTO:+1030
TZNAME:ACDT
DTSTART:20211002T163000
END:DAYLIGHT
END:VTIMEZONE
BEGIN:VEVENT
DTSTART;TZID=Australia/Adelaide:20200426T140000
DTEND;TZID=Australia/Adelaide:20200426T160000
DTSTAMP:20260425T054545
CREATED:20200226T101155Z
LAST-MODIFIED:20200401T101550Z
UID:10014745-1587909600-1587916800@tasaonline.org.au
SUMMARY:“THAT’S NOT HOW I REMEMBER IT” & “ORANGE IS THE NEW GLASS”
DESCRIPTION:Written By: Don Zolidis & Tyler Dwiggins\nDirected By: Alicia Zorkovic & Michelle Nightingale \n“That’s Not How I Remember It”\nMum and Dad love to tell the story of how they met in 1986 — “pretty much the most awesome year ever.” Trouble is\, they remember their courtship completely differently. Mum’s version makes their meeting sound like a sappy romantic comedy while Dad somehow makes himself the star of a karate battle. This tubular one-act is a crazy homage to bad 80s movies and the inadequacies of memory. \nPLUS \n“Orange is the New Glass”\nIn a fairy-tale kingdom obsessed with pop culture and social media\, fairy godmothers are lawyers and the Three Little Pig-arazzi chase celebrities. But when Cinderella leaves her self-absorbed prince and winds up in jail with an unlikely girl squad\, she doesn’t just cause a sensation–she starts a revolution. A warmhearted comedy full of clever characters. \nApprox. Running Time: Approximately 2 hours including interval\nSuitable for ages: All ages
URL:https://tasaonline.org.au/events/thats-not-how-i-remember-it-orange-is-the-new-glass-2/2020-04-26/1/
LOCATION:Holden Street Theatres\, 34 Holden Street\, Hindmarsh\, South Australia\, 5007\, Australia
CATEGORIES:Productions
ORGANIZER;CN="Wings2Fly Theatre":MAILTO:wings2flytheatre@gmail.com
END:VEVENT
BEGIN:VEVENT
DTSTART;TZID=Australia/Adelaide:20200426T180000
DTEND;TZID=Australia/Adelaide:20200426T200000
DTSTAMP:20260425T054545
CREATED:20200226T101155Z
LAST-MODIFIED:20200401T101550Z
UID:10014746-1587924000-1587931200@tasaonline.org.au
SUMMARY:“THAT’S NOT HOW I REMEMBER IT” & “ORANGE IS THE NEW GLASS”
DESCRIPTION:Written By: Don Zolidis & Tyler Dwiggins\nDirected By: Alicia Zorkovic & Michelle Nightingale \n“That’s Not How I Remember It”\nMum and Dad love to tell the story of how they met in 1986 — “pretty much the most awesome year ever.” Trouble is\, they remember their courtship completely differently. Mum’s version makes their meeting sound like a sappy romantic comedy while Dad somehow makes himself the star of a karate battle. This tubular one-act is a crazy homage to bad 80s movies and the inadequacies of memory. \nPLUS \n“Orange is the New Glass”\nIn a fairy-tale kingdom obsessed with pop culture and social media\, fairy godmothers are lawyers and the Three Little Pig-arazzi chase celebrities. But when Cinderella leaves her self-absorbed prince and winds up in jail with an unlikely girl squad\, she doesn’t just cause a sensation–she starts a revolution. A warmhearted comedy full of clever characters. \nApprox. Running Time: Approximately 2 hours including interval\nSuitable for ages: All ages
URL:https://tasaonline.org.au/events/thats-not-how-i-remember-it-orange-is-the-new-glass-2/2020-04-26/2/
LOCATION:Holden Street Theatres\, 34 Holden Street\, Hindmarsh\, South Australia\, 5007\, Australia
CATEGORIES:Productions
ORGANIZER;CN="Wings2Fly Theatre":MAILTO:wings2flytheatre@gmail.com
END:VEVENT
END:VCALENDAR