BEGIN:VCALENDAR
VERSION:2.0
PRODID:-//TASA Online - ECPv6.15.15//NONSGML v1.0//EN
CALSCALE:GREGORIAN
METHOD:PUBLISH
X-ORIGINAL-URL:https://tasaonline.org.au
X-WR-CALDESC:Events for TASA Online
REFRESH-INTERVAL;VALUE=DURATION:PT1H
X-Robots-Tag:noindex
X-PUBLISHED-TTL:PT1H
BEGIN:VTIMEZONE
TZID:Australia/Adelaide
BEGIN:STANDARD
TZOFFSETFROM:+1030
TZOFFSETTO:+0930
TZNAME:ACST
DTSTART:20190406T163000
END:STANDARD
BEGIN:DAYLIGHT
TZOFFSETFROM:+0930
TZOFFSETTO:+1030
TZNAME:ACDT
DTSTART:20191005T163000
END:DAYLIGHT
BEGIN:STANDARD
TZOFFSETFROM:+1030
TZOFFSETTO:+0930
TZNAME:ACST
DTSTART:20200404T163000
END:STANDARD
BEGIN:DAYLIGHT
TZOFFSETFROM:+0930
TZOFFSETTO:+1030
TZNAME:ACDT
DTSTART:20201003T163000
END:DAYLIGHT
BEGIN:STANDARD
TZOFFSETFROM:+1030
TZOFFSETTO:+0930
TZNAME:ACST
DTSTART:20210403T163000
END:STANDARD
BEGIN:DAYLIGHT
TZOFFSETFROM:+0930
TZOFFSETTO:+1030
TZNAME:ACDT
DTSTART:20211002T163000
END:DAYLIGHT
END:VTIMEZONE
BEGIN:VEVENT
DTSTART;TZID=Australia/Adelaide:20200329T140000
DTEND;TZID=Australia/Adelaide:20200329T170000
DTSTAMP:20260425T034732
CREATED:20200121T130848Z
LAST-MODIFIED:20200330T134745Z
UID:10014713-1585490400-1585501200@tasaonline.org.au
SUMMARY:Skylight by David Hare
DESCRIPTION:With regret we have to announce that we have postponed our production of “Skylight” due to the recent Corona Virus guidelines. \nOn a chilly night in London\, schoolteacher Kyra Hollis receives an unexpected visit from Tom Sergeant\, Kyra’s one-time boss and long-time lover. After the painful (and unresolved) dissolution of Tom and Kyra’s relationship\, the pair have pulled away from each other physically\, emotionally\, and ideologically\, as Tom continues to focus on his business ventures and Kyra donates her time to teaching the underprivileged. \nTom and Kyra grapple with each other\, moving between tender passion and vicious political polemics\, as the night darkens and the lines between past and present begin to blur.
URL:https://tasaonline.org.au/events/skylight-by-david-hare/2020-03-29/
LOCATION:Holden Street Theatres\, 34 Holden Street\, Hindmarsh\, South Australia\, 5007\, Australia
CATEGORIES:Productions
ORGANIZER;CN="Verendus Theatrical":MAILTO:president@verendustheatrical.com.au
END:VEVENT
END:VCALENDAR