BEGIN:VCALENDAR
VERSION:2.0
PRODID:-//TASA Online - ECPv6.15.15//NONSGML v1.0//EN
CALSCALE:GREGORIAN
METHOD:PUBLISH
X-WR-CALNAME:TASA Online
X-ORIGINAL-URL:https://tasaonline.org.au
X-WR-CALDESC:Events for TASA Online
REFRESH-INTERVAL;VALUE=DURATION:PT1H
X-Robots-Tag:noindex
X-PUBLISHED-TTL:PT1H
BEGIN:VTIMEZONE
TZID:Australia/Adelaide
BEGIN:STANDARD
TZOFFSETFROM:+1030
TZOFFSETTO:+0930
TZNAME:ACST
DTSTART:20190406T163000
END:STANDARD
BEGIN:DAYLIGHT
TZOFFSETFROM:+0930
TZOFFSETTO:+1030
TZNAME:ACDT
DTSTART:20191005T163000
END:DAYLIGHT
BEGIN:STANDARD
TZOFFSETFROM:+1030
TZOFFSETTO:+0930
TZNAME:ACST
DTSTART:20200404T163000
END:STANDARD
BEGIN:DAYLIGHT
TZOFFSETFROM:+0930
TZOFFSETTO:+1030
TZNAME:ACDT
DTSTART:20201003T163000
END:DAYLIGHT
BEGIN:STANDARD
TZOFFSETFROM:+1030
TZOFFSETTO:+0930
TZNAME:ACST
DTSTART:20210403T163000
END:STANDARD
BEGIN:DAYLIGHT
TZOFFSETFROM:+0930
TZOFFSETTO:+1030
TZNAME:ACDT
DTSTART:20211002T163000
END:DAYLIGHT
END:VTIMEZONE
BEGIN:VEVENT
DTSTART;TZID=Australia/Adelaide:20200222T110000
DTEND;TZID=Australia/Adelaide:20200222T123000
DTSTAMP:20260425T032129
CREATED:20200126T095054Z
LAST-MODIFIED:20200217T085141Z
UID:10015969-1582369200-1582374600@tasaonline.org.au
SUMMARY:A Princess Party
DESCRIPTION:You are invited to a special performance with all of your favourite Royal movie characters! Think Frozen\, Moana\, Beauty and the Beast\, Pocahontas and many more. This is a high-quality performance that will appeal to the young and the young at heart. \nSing along to your favourite Disney numbers\, have photos with lots of princesses\, and play HEAPS of fun games! You are welcome to dress as your favourite Disney character. \nAll performers are emerging music and theatre artists who are receiving professional training in voice and perform regularly in South Australia.
URL:https://tasaonline.org.au/events/a-princess-party/2020-02-22/
LOCATION:SA\, Australia
CATEGORIES:Festival Productions,Workshop/ AGM/ Fundraisers
ORGANIZER;CN="Promise Adelaide":MAILTO:promiseadelaide@yahoo.com.au
END:VEVENT
BEGIN:VEVENT
DTSTART;TZID=Australia/Adelaide:20200222T164500
DTEND;TZID=Australia/Adelaide:20200222T174500
DTSTAMP:20260425T032129
CREATED:20200217T084450Z
LAST-MODIFIED:20200217T084704Z
UID:10014723-1582389900-1582393500@tasaonline.org.au
SUMMARY:Peter Goers in Best We Forget
DESCRIPTION:Yet another nice show\, particularly for old people\, and the fifth in a trilogy of Holden Street Theatres’ entertainment by Peter Goers. He’s a celebrated performer/raconteur and he’ll appear with special guests and just be himself. His shows are extremely popular and strangely enjoyable.
URL:https://tasaonline.org.au/events/peter-goers-in-best-we-forget/2020-02-22/
LOCATION:Holden Street Theatres\, 34 Holden Street\, Hindmarsh\, South Australia\, 5007\, Australia
CATEGORIES:Festival Productions,Productions,Workshop/ AGM/ Fundraisers
END:VEVENT
BEGIN:VEVENT
DTSTART;TZID=Australia/Adelaide:20200222T193000
DTEND;TZID=Australia/Adelaide:20200222T220000
DTSTAMP:20260425T032129
CREATED:20191215T080147Z
LAST-MODIFIED:20200222T042509Z
UID:10015537-1582399800-1582408800@tasaonline.org.au
SUMMARY:Beautiful: The Carole King Musical
DESCRIPTION:Adelaide\, the wait is over!\n\n\n\n\n\nMulti-award-winning theatre company Davine Productions will present the South Australian premiere of Beautiful: The Carole King Musical in 2020. \nThis Tony\, Olivier and Helpmann award-winning musical tells the inspirational true story of the legendary singer songwriter\, from school girl to Rock & Roll Hall of Fame\, her career spanning five decades\, a songwriting collaboration with husband Gerry Goffin and friendship with Grammy-winning songwriters Cynthia Weil and Barry Mann.  The show is packed with songs including (You Make Me Feel Like a) Natural Woman\, You’ve Got a Friend and It’s Too Late from her classic Tapestry album (25 million copies sold) and other chart-topping hits they wrote for some of pop music’s biggest acts; Little Eva\, The Shirelles and The Righteous Brothers. \nSongs you remember and an unforgettable story!
URL:https://tasaonline.org.au/events/beautiful-the-carole-king-musical/2020-02-22/
LOCATION:Star Theatre – Theatre One\, 145 Sir Donald Bradman Drive\, Hilton\, South Australia\, 5033\, Australia
CATEGORIES:Festival Productions,Productions
ORGANIZER;CN="Davine Productions":MAILTO:david.gauci@me.com
END:VEVENT
BEGIN:VEVENT
DTSTART;TZID=Australia/Adelaide:20200222T200000
DTEND;TZID=Australia/Adelaide:20200222T213000
DTSTAMP:20260425T032129
CREATED:20200126T102453Z
LAST-MODIFIED:20200217T085434Z
UID:10014720-1582401600-1582407000@tasaonline.org.au
SUMMARY:Hello Erin Jaes Tribute to Adele
DESCRIPTION:Want to revisit the life of Adele? This glamorous tribute act walks you through her life journey as well as showcases her smash hits from albums ’19’\, ’21’ and ’25’. This captivating show will have you wanting to belt out world-renowned ballads such as “Hello” and “Someone Like You”. With Erin Sowerby (a brilliant up-and-coming performer from Adelaide) as Adele\, a five-piece band and two backing singers\, both musically directed by Ray Lindon\, you will get lost in the soulful beats\, beautiful vocals and blues undertones that make up Adele’s repertoire. It is appropriate for all and definitely not-to-be-missed by Adele lovers. This show will truly make you laugh with her humour and cry with her pain. \n★★★★★ “So much more than a simple tribute show” GlamAdelaide
URL:https://tasaonline.org.au/events/hello-erin-jaes-tribute-to-adele/
LOCATION:SA\, Australia
CATEGORIES:Festival Productions,Workshop/ AGM/ Fundraisers
ORGANIZER;CN="Promise Adelaide":MAILTO:promiseadelaide@yahoo.com.au
END:VEVENT
BEGIN:VEVENT
DTSTART;TZID=Australia/Adelaide:20200222T200000
DTEND;TZID=Australia/Adelaide:20200222T223000
DTSTAMP:20260425T032129
CREATED:20191215T101158Z
LAST-MODIFIED:20200217T084922Z
UID:10015632-1582401600-1582410600@tasaonline.org.au
SUMMARY:Matt Byrne's VEGANS!
DESCRIPTION:Sprouting at the 2020 Adelaide Fringe Festival\, a comedy to diet for – Matt Byrne’s VEGANS!
URL:https://tasaonline.org.au/events/matt-byrnes-vegans/2020-02-22/
LOCATION:Norwood Concert Hall – Don Pyatt Hall\, 175 The Parade\, Norwood\, SA\, 5067\, Australia
CATEGORIES:Festival Productions,Productions
ORGANIZER;CN="Matt Byrne Media":MAILTO:mbm@adelaide.on.net
END:VEVENT
END:VCALENDAR