BEGIN:VCALENDAR
VERSION:2.0
PRODID:-//TASA Online - ECPv6.15.15//NONSGML v1.0//EN
CALSCALE:GREGORIAN
METHOD:PUBLISH
X-ORIGINAL-URL:https://tasaonline.org.au
X-WR-CALDESC:Events for TASA Online
REFRESH-INTERVAL;VALUE=DURATION:PT1H
X-Robots-Tag:noindex
X-PUBLISHED-TTL:PT1H
BEGIN:VTIMEZONE
TZID:Australia/Adelaide
BEGIN:STANDARD
TZOFFSETFROM:+1030
TZOFFSETTO:+0930
TZNAME:ACST
DTSTART:20190406T163000
END:STANDARD
BEGIN:DAYLIGHT
TZOFFSETFROM:+0930
TZOFFSETTO:+1030
TZNAME:ACDT
DTSTART:20191005T163000
END:DAYLIGHT
BEGIN:STANDARD
TZOFFSETFROM:+1030
TZOFFSETTO:+0930
TZNAME:ACST
DTSTART:20200404T163000
END:STANDARD
BEGIN:DAYLIGHT
TZOFFSETFROM:+0930
TZOFFSETTO:+1030
TZNAME:ACDT
DTSTART:20201003T163000
END:DAYLIGHT
BEGIN:STANDARD
TZOFFSETFROM:+1030
TZOFFSETTO:+0930
TZNAME:ACST
DTSTART:20210403T163000
END:STANDARD
BEGIN:DAYLIGHT
TZOFFSETFROM:+0930
TZOFFSETTO:+1030
TZNAME:ACDT
DTSTART:20211002T163000
END:DAYLIGHT
END:VTIMEZONE
BEGIN:VEVENT
DTSTART;TZID=Australia/Adelaide:20200219T100000
DTEND;TZID=Australia/Adelaide:20200219T103000
DTSTAMP:20260425T032818
CREATED:20190326T033703Z
LAST-MODIFIED:20190527T141731Z
UID:10014199-1582106400-1582108200@tasaonline.org.au
SUMMARY:Disney's 'Cinderella Kids'
DESCRIPTION:The timeless\, “rags to riches” fairy tale becomes a new audience favorite in Disney’s Cinderella KIDS\, an adaptation of the treasured animated film that will charm its way into your heart and remind audiences that dreams really can come true. \nA cast of 30 young performers will bring this show to life\, and at only 30 minutes in length it is the perfect show for our youngest and oldest of audiences alike! \n\nBetween Wednesday 24 April 2019 10:00 AM and Sunday 28 April 2019 11:30 AM\nONLY 200 TICKETS AVAILABLE!\nBook now to avoid disappointment!
URL:https://tasaonline.org.au/events/disneys-cinderella-kids/2020-02-19/
LOCATION:Star Theatre – Theatre Two\, 145 Sir Donald Bradman Drive\, Hilton\, South Australia\, 5033\, Australia
CATEGORIES:Productions
ORGANIZER;CN="Adelaide Youth Theatre":MAILTO:aytcompany@gmail.com
END:VEVENT
BEGIN:VEVENT
DTSTART;TZID=Australia/Adelaide:20200219T193000
DTEND;TZID=Australia/Adelaide:20200219T220000
DTSTAMP:20260425T032818
CREATED:20191215T080147Z
LAST-MODIFIED:20200222T042509Z
UID:10015534-1582140600-1582149600@tasaonline.org.au
SUMMARY:Beautiful: The Carole King Musical
DESCRIPTION:Adelaide\, the wait is over!\n\n\n\n\n\nMulti-award-winning theatre company Davine Productions will present the South Australian premiere of Beautiful: The Carole King Musical in 2020. \nThis Tony\, Olivier and Helpmann award-winning musical tells the inspirational true story of the legendary singer songwriter\, from school girl to Rock & Roll Hall of Fame\, her career spanning five decades\, a songwriting collaboration with husband Gerry Goffin and friendship with Grammy-winning songwriters Cynthia Weil and Barry Mann.  The show is packed with songs including (You Make Me Feel Like a) Natural Woman\, You’ve Got a Friend and It’s Too Late from her classic Tapestry album (25 million copies sold) and other chart-topping hits they wrote for some of pop music’s biggest acts; Little Eva\, The Shirelles and The Righteous Brothers. \nSongs you remember and an unforgettable story!
URL:https://tasaonline.org.au/events/beautiful-the-carole-king-musical/2020-02-19/
LOCATION:Star Theatre – Theatre One\, 145 Sir Donald Bradman Drive\, Hilton\, South Australia\, 5033\, Australia
CATEGORIES:Festival Productions,Productions
ORGANIZER;CN="Davine Productions":MAILTO:david.gauci@me.com
END:VEVENT
BEGIN:VEVENT
DTSTART;TZID=Australia/Adelaide:20200219T200000
DTEND;TZID=Australia/Adelaide:20200219T223000
DTSTAMP:20260425T032818
CREATED:20191215T101158Z
LAST-MODIFIED:20200217T084922Z
UID:10015629-1582142400-1582151400@tasaonline.org.au
SUMMARY:Matt Byrne's VEGANS!
DESCRIPTION:Sprouting at the 2020 Adelaide Fringe Festival\, a comedy to diet for – Matt Byrne’s VEGANS!
URL:https://tasaonline.org.au/events/matt-byrnes-vegans/2020-02-19/
LOCATION:Norwood Concert Hall – Don Pyatt Hall\, 175 The Parade\, Norwood\, SA\, 5067\, Australia
CATEGORIES:Festival Productions,Productions
ORGANIZER;CN="Matt Byrne Media":MAILTO:mbm@adelaide.on.net
END:VEVENT
END:VCALENDAR