BEGIN:VCALENDAR
VERSION:2.0
PRODID:-//TASA Online - ECPv6.15.15//NONSGML v1.0//EN
CALSCALE:GREGORIAN
METHOD:PUBLISH
X-WR-CALNAME:TASA Online
X-ORIGINAL-URL:https://tasaonline.org.au
X-WR-CALDESC:Events for TASA Online
REFRESH-INTERVAL;VALUE=DURATION:PT1H
X-Robots-Tag:noindex
X-PUBLISHED-TTL:PT1H
BEGIN:VTIMEZONE
TZID:Australia/Adelaide
BEGIN:STANDARD
TZOFFSETFROM:+1030
TZOFFSETTO:+0930
TZNAME:ACST
DTSTART:20190406T163000
END:STANDARD
BEGIN:DAYLIGHT
TZOFFSETFROM:+0930
TZOFFSETTO:+1030
TZNAME:ACDT
DTSTART:20191005T163000
END:DAYLIGHT
BEGIN:STANDARD
TZOFFSETFROM:+1030
TZOFFSETTO:+0930
TZNAME:ACST
DTSTART:20200404T163000
END:STANDARD
BEGIN:DAYLIGHT
TZOFFSETFROM:+0930
TZOFFSETTO:+1030
TZNAME:ACDT
DTSTART:20201003T163000
END:DAYLIGHT
BEGIN:STANDARD
TZOFFSETFROM:+1030
TZOFFSETTO:+0930
TZNAME:ACST
DTSTART:20210403T163000
END:STANDARD
BEGIN:DAYLIGHT
TZOFFSETFROM:+0930
TZOFFSETTO:+1030
TZNAME:ACDT
DTSTART:20211002T163000
END:DAYLIGHT
END:VTIMEZONE
BEGIN:VEVENT
DTSTART;TZID=Australia/Adelaide:20200107T193000
DTEND;TZID=Australia/Adelaide:20200107T204000
DTSTAMP:20260425T040129
CREATED:20191215T081318Z
LAST-MODIFIED:20200109T131646Z
UID:10015544-1578425400-1578429600@tasaonline.org.au
SUMMARY:Rattling the Keys
DESCRIPTION:Winner of the 2018 State Theatre Company of South Australia and Flinders University Junior Young Playwrights’ Award\, Rattling the Keys follows five teenagers living in the small rural town of Coober Pedy. \nThis production is a cast collaboration piece\, with all cast members working together to bring this story to life. There is no director\, in turn allowing each cast member to express their creativity\, in order to create a group devised piece of theatre. \n“A solid debut play that crackles with snappy dialogue and a strong and cohesive point of view\, Rattling the Keys is an exploration of the complex and often confusing feelings of growing up and being pushed to your limits.” \n– State Theatre Company South Australia
URL:https://tasaonline.org.au/events/rattling-the-keys/
LOCATION:The Mill\, Creative Studios\, 154 Angas St\, Adelaide\, SA\, 5000\, Australia
CATEGORIES:Productions
ORGANIZER;CN="Deadset Theatre Company":MAILTO:deadsettheatrecompany@gmail.com
END:VEVENT
END:VCALENDAR