BEGIN:VCALENDAR
VERSION:2.0
PRODID:-//TASA Online - ECPv6.15.15//NONSGML v1.0//EN
CALSCALE:GREGORIAN
METHOD:PUBLISH
X-WR-CALNAME:TASA Online
X-ORIGINAL-URL:https://tasaonline.org.au
X-WR-CALDESC:Events for TASA Online
REFRESH-INTERVAL;VALUE=DURATION:PT1H
X-Robots-Tag:noindex
X-PUBLISHED-TTL:PT1H
BEGIN:VTIMEZONE
TZID:Australia/Adelaide
BEGIN:STANDARD
TZOFFSETFROM:+1030
TZOFFSETTO:+0930
TZNAME:ACST
DTSTART:20250405T163000
END:STANDARD
BEGIN:DAYLIGHT
TZOFFSETFROM:+0930
TZOFFSETTO:+1030
TZNAME:ACDT
DTSTART:20251004T163000
END:DAYLIGHT
BEGIN:STANDARD
TZOFFSETFROM:+1030
TZOFFSETTO:+0930
TZNAME:ACST
DTSTART:20260404T163000
END:STANDARD
BEGIN:DAYLIGHT
TZOFFSETFROM:+0930
TZOFFSETTO:+1030
TZNAME:ACDT
DTSTART:20261003T163000
END:DAYLIGHT
BEGIN:STANDARD
TZOFFSETFROM:+1030
TZOFFSETTO:+0930
TZNAME:ACST
DTSTART:20270403T163000
END:STANDARD
BEGIN:DAYLIGHT
TZOFFSETFROM:+0930
TZOFFSETTO:+1030
TZNAME:ACDT
DTSTART:20271002T163000
END:DAYLIGHT
END:VTIMEZONE
BEGIN:VEVENT
DTSTART;TZID=Australia/Adelaide:20260301T140000
DTEND;TZID=Australia/Adelaide:20260301T151500
DTSTAMP:20260425T045235
CREATED:20260201T042451Z
LAST-MODIFIED:20260201T042451Z
UID:10025060-1772373600-1772378100@tasaonline.org.au
SUMMARY:The SpongeBob Musical - Youth Edition
DESCRIPTION:The SpongeBob Musical – Youth Edition \nPlunge into this stunning all-singing\, all-dancing\, dynamic stage show presented by Ink Pot Arts Inc‘s talented young performers! When the citizens of Bikini Bottom discover that a volcano will soon erupt and destroy their humble home\, SpongeBob and his friends must come together to save the fate of their undersea world. With lives hanging in the balance and all hope lost\, a most unexpected hero rises up. The power of optimism really can save the world! \n The SpongeBob Musical – Youth Edition is based on the beloved animated series created by Stephen Hillenburg and features a book by Kyle Jarrow\, with songs by many artists including Cyndi Lauper & David Bowie. \nDirector & Choreographer – Jen Edwards\nVocal Coach – Tayla Arbon\nCostume Designer – Grace Ames\nLighting Design – Paul Cleaver
URL:https://tasaonline.org.au/events/the-spongebob-musical-youth-edition-2/2026-03-01/
LOCATION:The Living Arts Centre – Waldorf School\, 27 Sims Rd\, Mount Barker\, SA\, 5251\, Australia
CATEGORIES:Productions
ATTACH;FMTTYPE=image/jpeg:https://tasaonline.org.au/wp-content/uploads/2026/02/2026-SpongeBob-the-Musical-Fringe-Show-Poster-with-QR-002.avif
ORGANIZER;CN="Ink Pot Arts Inc":MAILTO:quill@inkpot.com.au
END:VEVENT
BEGIN:VEVENT
DTSTART;TZID=Australia/Adelaide:20260304T190000
DTEND;TZID=Australia/Adelaide:20260304T213000
DTSTAMP:20260425T045235
CREATED:20260117T105756Z
LAST-MODIFIED:20260117T105756Z
UID:10025023-1772650800-1772659800@tasaonline.org.au
SUMMARY:Maytide's It Is Well with My Soul: The Musical
DESCRIPTION:This beautiful tale of tragedy and faith is based on the true story of Anna and Horatio Spafford. It follows Anna’s journey from her Norwegian roots to 19th-century Chicago and later Jerusalem\, capturing the couple’s faith and resilience after losing their four daughters in the S.S. Ville du Havre shipwreck. The narrative explores themes of grief\, hope\, redemption\, and spiritual transformation\, brought to life through original music\, heartfelt performances\, and rich historical context. \nThe famous hymn “It Is Well with My Soul\,” written by Horatio Spafford\, has inspired our stage musical\, and we are bringing honest portrayals of unimaginable loss\, and enduring faith to the 2026 Fringe season. \nWritten by D. P. K. Maegraith\nAdapted by A. Broadbent and A. Gum\nMusic by A. Lymn
URL:https://tasaonline.org.au/events/maytides-it-is-well-with-my-soul-the-musical/2026-03-04/
LOCATION:The Parks Theatre: Theatre Two\, 46 Cowan St\, Angle Park\, SA\, 5010\, Australia
CATEGORIES:Festival Productions,Productions
ATTACH;FMTTYPE=image/jpeg:https://tasaonline.org.au/wp-content/uploads/2026/01/Untitled-design-2-1.webp
END:VEVENT
BEGIN:VEVENT
DTSTART;TZID=Australia/Adelaide:20260305T190000
DTEND;TZID=Australia/Adelaide:20260305T213000
DTSTAMP:20260425T045235
CREATED:20260117T105756Z
LAST-MODIFIED:20260117T105756Z
UID:10025024-1772737200-1772746200@tasaonline.org.au
SUMMARY:Maytide's It Is Well with My Soul: The Musical
DESCRIPTION:This beautiful tale of tragedy and faith is based on the true story of Anna and Horatio Spafford. It follows Anna’s journey from her Norwegian roots to 19th-century Chicago and later Jerusalem\, capturing the couple’s faith and resilience after losing their four daughters in the S.S. Ville du Havre shipwreck. The narrative explores themes of grief\, hope\, redemption\, and spiritual transformation\, brought to life through original music\, heartfelt performances\, and rich historical context. \nThe famous hymn “It Is Well with My Soul\,” written by Horatio Spafford\, has inspired our stage musical\, and we are bringing honest portrayals of unimaginable loss\, and enduring faith to the 2026 Fringe season. \nWritten by D. P. K. Maegraith\nAdapted by A. Broadbent and A. Gum\nMusic by A. Lymn
URL:https://tasaonline.org.au/events/maytides-it-is-well-with-my-soul-the-musical/2026-03-05/
LOCATION:The Parks Theatre: Theatre Two\, 46 Cowan St\, Angle Park\, SA\, 5010\, Australia
CATEGORIES:Festival Productions,Productions
ATTACH;FMTTYPE=image/jpeg:https://tasaonline.org.au/wp-content/uploads/2026/01/Untitled-design-2-1.webp
END:VEVENT
BEGIN:VEVENT
DTSTART;TZID=Australia/Adelaide:20260306T190000
DTEND;TZID=Australia/Adelaide:20260306T213000
DTSTAMP:20260425T045235
CREATED:20260117T105756Z
LAST-MODIFIED:20260117T105756Z
UID:10025025-1772823600-1772832600@tasaonline.org.au
SUMMARY:Maytide's It Is Well with My Soul: The Musical
DESCRIPTION:This beautiful tale of tragedy and faith is based on the true story of Anna and Horatio Spafford. It follows Anna’s journey from her Norwegian roots to 19th-century Chicago and later Jerusalem\, capturing the couple’s faith and resilience after losing their four daughters in the S.S. Ville du Havre shipwreck. The narrative explores themes of grief\, hope\, redemption\, and spiritual transformation\, brought to life through original music\, heartfelt performances\, and rich historical context. \nThe famous hymn “It Is Well with My Soul\,” written by Horatio Spafford\, has inspired our stage musical\, and we are bringing honest portrayals of unimaginable loss\, and enduring faith to the 2026 Fringe season. \nWritten by D. P. K. Maegraith\nAdapted by A. Broadbent and A. Gum\nMusic by A. Lymn
URL:https://tasaonline.org.au/events/maytides-it-is-well-with-my-soul-the-musical/2026-03-06/
LOCATION:The Parks Theatre: Theatre Two\, 46 Cowan St\, Angle Park\, SA\, 5010\, Australia
CATEGORIES:Festival Productions,Productions
ATTACH;FMTTYPE=image/jpeg:https://tasaonline.org.au/wp-content/uploads/2026/01/Untitled-design-2-1.webp
END:VEVENT
BEGIN:VEVENT
DTSTART;TZID=Australia/Adelaide:20260312T100000
DTEND;TZID=Australia/Adelaide:20260312T170000
DTSTAMP:20260425T045235
CREATED:20260212T023745Z
LAST-MODIFIED:20260213T010103Z
UID:10025087-1773309600-1773334800@tasaonline.org.au
SUMMARY:The Hills Homeschool Shakespeare Group
DESCRIPTION:Join us for a performance full of confused romantics\, tricksy fairies and a play within a play! \nThis production of the well known comedy of Shakespeare’s A Midsummer Night’s Dream is a delightful introduction for children and adults of all ages to the world of Shakespeare.\nSince 2019 our community group has been providing homeschooled students the opportunity to explore and understand\, enjoy and perform Shakespeare’s plays.\nThis year’s production saw an increased involvement from our youth in creating choreography\, costuming\, set making\, song lyrics/composition and directing.\nWe embrace diversity and welcome a variety of abilities and experience levels\, empowering and supporting these amazing kids to produce a high-quality performance.\nA selection of tasty snacks and non-alcoholic beverages will be available for purchase during the interval. Go to: https://adelaidefringe.com.au/fringetix/shakespeare-s-a-midsummer-night-s-dream-af2026 for more information. \nTicket prices\nFull Price $15.00\nFringe Member $7.50\nChild $8.00\nFamily (2 adults & 2 children\, or 1 Adult & 3 children) $40.00\nSenior $10.00\nStudent $10.00\nHealth Care Cardholder $10.00 \nSchools Program $7.00 \nCompanion Card $0.00 \nAll Fringe ticket bookings incur a $4.80 Transaction fee.
URL:https://tasaonline.org.au/events/the-hills-homeschool-shakespeare-group/2026-03-12/
LOCATION:Naime Soldiers Memorial Hall\, 52 Old Princes Highway\, Nairne\, SA\, 5252\, Australia
CATEGORIES:Productions
ATTACH;FMTTYPE=image/jpeg:https://tasaonline.org.au/wp-content/uploads/2026/02/Shakespeares-A-Midsummer-Nights-Dream-2026.avif
END:VEVENT
BEGIN:VEVENT
DTSTART;TZID=Australia/Adelaide:20260313T180000
DTEND;TZID=Australia/Adelaide:20260313T220000
DTSTAMP:20260425T045235
CREATED:20260212T023745Z
LAST-MODIFIED:20260213T010103Z
UID:10025090-1773424800-1773439200@tasaonline.org.au
SUMMARY:The Hills Homeschool Shakespeare Group
DESCRIPTION:Join us for a performance full of confused romantics\, tricksy fairies and a play within a play! \nThis production of the well known comedy of Shakespeare’s A Midsummer Night’s Dream is a delightful introduction for children and adults of all ages to the world of Shakespeare.\nSince 2019 our community group has been providing homeschooled students the opportunity to explore and understand\, enjoy and perform Shakespeare’s plays.\nThis year’s production saw an increased involvement from our youth in creating choreography\, costuming\, set making\, song lyrics/composition and directing.\nWe embrace diversity and welcome a variety of abilities and experience levels\, empowering and supporting these amazing kids to produce a high-quality performance.\nA selection of tasty snacks and non-alcoholic beverages will be available for purchase during the interval. Go to: https://adelaidefringe.com.au/fringetix/shakespeare-s-a-midsummer-night-s-dream-af2026 for more information. \nTicket prices\nFull Price $15.00\nFringe Member $7.50\nChild $8.00\nFamily (2 adults & 2 children\, or 1 Adult & 3 children) $40.00\nSenior $10.00\nStudent $10.00\nHealth Care Cardholder $10.00 \nSchools Program $7.00 \nCompanion Card $0.00 \nAll Fringe ticket bookings incur a $4.80 Transaction fee.
URL:https://tasaonline.org.au/events/the-hills-homeschool-shakespeare-group/2026-03-13/
LOCATION:Naime Soldiers Memorial Hall\, 52 Old Princes Highway\, Nairne\, SA\, 5252\, Australia
CATEGORIES:Productions
ATTACH;FMTTYPE=image/jpeg:https://tasaonline.org.au/wp-content/uploads/2026/02/Shakespeares-A-Midsummer-Nights-Dream-2026.avif
END:VEVENT
BEGIN:VEVENT
DTSTART;TZID=Australia/Adelaide:20260313T190000
DTEND;TZID=Australia/Adelaide:20260313T213000
DTSTAMP:20260425T045235
CREATED:20260117T105756Z
LAST-MODIFIED:20260117T105756Z
UID:10025026-1773428400-1773437400@tasaonline.org.au
SUMMARY:Maytide's It Is Well with My Soul: The Musical
DESCRIPTION:This beautiful tale of tragedy and faith is based on the true story of Anna and Horatio Spafford. It follows Anna’s journey from her Norwegian roots to 19th-century Chicago and later Jerusalem\, capturing the couple’s faith and resilience after losing their four daughters in the S.S. Ville du Havre shipwreck. The narrative explores themes of grief\, hope\, redemption\, and spiritual transformation\, brought to life through original music\, heartfelt performances\, and rich historical context. \nThe famous hymn “It Is Well with My Soul\,” written by Horatio Spafford\, has inspired our stage musical\, and we are bringing honest portrayals of unimaginable loss\, and enduring faith to the 2026 Fringe season. \nWritten by D. P. K. Maegraith\nAdapted by A. Broadbent and A. Gum\nMusic by A. Lymn
URL:https://tasaonline.org.au/events/maytides-it-is-well-with-my-soul-the-musical/2026-03-13/
LOCATION:The Parks Theatre: Theatre Two\, 46 Cowan St\, Angle Park\, SA\, 5010\, Australia
CATEGORIES:Festival Productions,Productions
ATTACH;FMTTYPE=image/jpeg:https://tasaonline.org.au/wp-content/uploads/2026/01/Untitled-design-2-1.webp
END:VEVENT
BEGIN:VEVENT
DTSTART;TZID=Australia/Adelaide:20260313T193000
DTEND;TZID=Australia/Adelaide:20260313T220000
DTSTAMP:20260425T045235
CREATED:20260217T021912Z
LAST-MODIFIED:20260217T021912Z
UID:10025079-1773430200-1773439200@tasaonline.org.au
SUMMARY:PEACE IN OUR TIME
DESCRIPTION:Peace in Our Time explores an alternate history where Nazi Germany has invaded and occupied Britain\, focusing on the lives of Londoners in a pub during November 1940. The play delves into the characters’ feelings of resentment and resignation towards the occupation\, revealing the psychological toll and the subtle emergence of armed resistance against a hostile foreign power.
URL:https://tasaonline.org.au/events/peace-in-our-time-2/2026-03-13/
LOCATION:Stirling Community Theatre\, 5 Avenue Road\, Stirling\, SA\, 5152\, Australia
CATEGORIES:Productions
ORGANIZER;CN="Stirling Players":MAILTO:contact@stirlingplayers.org.au
GEO:-35.0042671;138.7150941
X-APPLE-STRUCTURED-LOCATION;VALUE=URI;X-ADDRESS=Stirling Community Theatre 5 Avenue Road Stirling SA 5152 Australia;X-APPLE-RADIUS=500;X-TITLE=5 Avenue Road:geo:138.7150941,-35.0042671
END:VEVENT
BEGIN:VEVENT
DTSTART;TZID=Australia/Adelaide:20260314T130000
DTEND;TZID=Australia/Adelaide:20260314T153000
DTSTAMP:20260425T045235
CREATED:20260117T105756Z
LAST-MODIFIED:20260117T105756Z
UID:10025027-1773493200-1773502200@tasaonline.org.au
SUMMARY:Maytide's It Is Well with My Soul: The Musical
DESCRIPTION:This beautiful tale of tragedy and faith is based on the true story of Anna and Horatio Spafford. It follows Anna’s journey from her Norwegian roots to 19th-century Chicago and later Jerusalem\, capturing the couple’s faith and resilience after losing their four daughters in the S.S. Ville du Havre shipwreck. The narrative explores themes of grief\, hope\, redemption\, and spiritual transformation\, brought to life through original music\, heartfelt performances\, and rich historical context. \nThe famous hymn “It Is Well with My Soul\,” written by Horatio Spafford\, has inspired our stage musical\, and we are bringing honest portrayals of unimaginable loss\, and enduring faith to the 2026 Fringe season. \nWritten by D. P. K. Maegraith\nAdapted by A. Broadbent and A. Gum\nMusic by A. Lymn
URL:https://tasaonline.org.au/events/maytides-it-is-well-with-my-soul-the-musical/2026-03-14/1/
LOCATION:The Parks Theatre: Theatre Two\, 46 Cowan St\, Angle Park\, SA\, 5010\, Australia
CATEGORIES:Festival Productions,Productions
ATTACH;FMTTYPE=image/jpeg:https://tasaonline.org.au/wp-content/uploads/2026/01/Untitled-design-2-1.webp
END:VEVENT
BEGIN:VEVENT
DTSTART;TZID=Australia/Adelaide:20260314T130000
DTEND;TZID=Australia/Adelaide:20260314T170000
DTSTAMP:20260425T045235
CREATED:20260212T023745Z
LAST-MODIFIED:20260213T010103Z
UID:10025091-1773493200-1773507600@tasaonline.org.au
SUMMARY:The Hills Homeschool Shakespeare Group
DESCRIPTION:Join us for a performance full of confused romantics\, tricksy fairies and a play within a play! \nThis production of the well known comedy of Shakespeare’s A Midsummer Night’s Dream is a delightful introduction for children and adults of all ages to the world of Shakespeare.\nSince 2019 our community group has been providing homeschooled students the opportunity to explore and understand\, enjoy and perform Shakespeare’s plays.\nThis year’s production saw an increased involvement from our youth in creating choreography\, costuming\, set making\, song lyrics/composition and directing.\nWe embrace diversity and welcome a variety of abilities and experience levels\, empowering and supporting these amazing kids to produce a high-quality performance.\nA selection of tasty snacks and non-alcoholic beverages will be available for purchase during the interval. Go to: https://adelaidefringe.com.au/fringetix/shakespeare-s-a-midsummer-night-s-dream-af2026 for more information. \nTicket prices\nFull Price $15.00\nFringe Member $7.50\nChild $8.00\nFamily (2 adults & 2 children\, or 1 Adult & 3 children) $40.00\nSenior $10.00\nStudent $10.00\nHealth Care Cardholder $10.00 \nSchools Program $7.00 \nCompanion Card $0.00 \nAll Fringe ticket bookings incur a $4.80 Transaction fee.
URL:https://tasaonline.org.au/events/the-hills-homeschool-shakespeare-group/2026-03-14/
LOCATION:Naime Soldiers Memorial Hall\, 52 Old Princes Highway\, Nairne\, SA\, 5252\, Australia
CATEGORIES:Productions
ATTACH;FMTTYPE=image/jpeg:https://tasaonline.org.au/wp-content/uploads/2026/02/Shakespeares-A-Midsummer-Nights-Dream-2026.avif
END:VEVENT
BEGIN:VEVENT
DTSTART;TZID=Australia/Adelaide:20260314T150000
DTEND;TZID=Australia/Adelaide:20260314T173000
DTSTAMP:20260425T045235
CREATED:20260217T021912Z
LAST-MODIFIED:20260217T021912Z
UID:10025080-1773500400-1773509400@tasaonline.org.au
SUMMARY:PEACE IN OUR TIME
DESCRIPTION:Peace in Our Time explores an alternate history where Nazi Germany has invaded and occupied Britain\, focusing on the lives of Londoners in a pub during November 1940. The play delves into the characters’ feelings of resentment and resignation towards the occupation\, revealing the psychological toll and the subtle emergence of armed resistance against a hostile foreign power.
URL:https://tasaonline.org.au/events/peace-in-our-time-2/2026-03-14/
LOCATION:Stirling Community Theatre\, 5 Avenue Road\, Stirling\, SA\, 5152\, Australia
CATEGORIES:Productions
ORGANIZER;CN="Stirling Players":MAILTO:contact@stirlingplayers.org.au
GEO:-35.0042671;138.7150941
X-APPLE-STRUCTURED-LOCATION;VALUE=URI;X-ADDRESS=Stirling Community Theatre 5 Avenue Road Stirling SA 5152 Australia;X-APPLE-RADIUS=500;X-TITLE=5 Avenue Road:geo:138.7150941,-35.0042671
END:VEVENT
BEGIN:VEVENT
DTSTART;TZID=Australia/Adelaide:20260314T190000
DTEND;TZID=Australia/Adelaide:20260314T213000
DTSTAMP:20260425T045235
CREATED:20260117T105756Z
LAST-MODIFIED:20260117T105756Z
UID:10025028-1773514800-1773523800@tasaonline.org.au
SUMMARY:Maytide's It Is Well with My Soul: The Musical
DESCRIPTION:This beautiful tale of tragedy and faith is based on the true story of Anna and Horatio Spafford. It follows Anna’s journey from her Norwegian roots to 19th-century Chicago and later Jerusalem\, capturing the couple’s faith and resilience after losing their four daughters in the S.S. Ville du Havre shipwreck. The narrative explores themes of grief\, hope\, redemption\, and spiritual transformation\, brought to life through original music\, heartfelt performances\, and rich historical context. \nThe famous hymn “It Is Well with My Soul\,” written by Horatio Spafford\, has inspired our stage musical\, and we are bringing honest portrayals of unimaginable loss\, and enduring faith to the 2026 Fringe season. \nWritten by D. P. K. Maegraith\nAdapted by A. Broadbent and A. Gum\nMusic by A. Lymn
URL:https://tasaonline.org.au/events/maytides-it-is-well-with-my-soul-the-musical/2026-03-14/2/
LOCATION:The Parks Theatre: Theatre Two\, 46 Cowan St\, Angle Park\, SA\, 5010\, Australia
CATEGORIES:Festival Productions,Productions
ATTACH;FMTTYPE=image/jpeg:https://tasaonline.org.au/wp-content/uploads/2026/01/Untitled-design-2-1.webp
END:VEVENT
BEGIN:VEVENT
DTSTART;TZID=Australia/Adelaide:20260315T150000
DTEND;TZID=Australia/Adelaide:20260315T173000
DTSTAMP:20260425T045235
CREATED:20260217T021912Z
LAST-MODIFIED:20260217T021912Z
UID:10025081-1773586800-1773595800@tasaonline.org.au
SUMMARY:PEACE IN OUR TIME
DESCRIPTION:Peace in Our Time explores an alternate history where Nazi Germany has invaded and occupied Britain\, focusing on the lives of Londoners in a pub during November 1940. The play delves into the characters’ feelings of resentment and resignation towards the occupation\, revealing the psychological toll and the subtle emergence of armed resistance against a hostile foreign power.
URL:https://tasaonline.org.au/events/peace-in-our-time-2/2026-03-15/
LOCATION:Stirling Community Theatre\, 5 Avenue Road\, Stirling\, SA\, 5152\, Australia
CATEGORIES:Productions
ORGANIZER;CN="Stirling Players":MAILTO:contact@stirlingplayers.org.au
GEO:-35.0042671;138.7150941
X-APPLE-STRUCTURED-LOCATION;VALUE=URI;X-ADDRESS=Stirling Community Theatre 5 Avenue Road Stirling SA 5152 Australia;X-APPLE-RADIUS=500;X-TITLE=5 Avenue Road:geo:138.7150941,-35.0042671
END:VEVENT
BEGIN:VEVENT
DTSTART;TZID=Australia/Adelaide:20260320T193000
DTEND;TZID=Australia/Adelaide:20260320T220000
DTSTAMP:20260425T045235
CREATED:20260217T021912Z
LAST-MODIFIED:20260217T021912Z
UID:10025082-1774035000-1774044000@tasaonline.org.au
SUMMARY:PEACE IN OUR TIME
DESCRIPTION:Peace in Our Time explores an alternate history where Nazi Germany has invaded and occupied Britain\, focusing on the lives of Londoners in a pub during November 1940. The play delves into the characters’ feelings of resentment and resignation towards the occupation\, revealing the psychological toll and the subtle emergence of armed resistance against a hostile foreign power.
URL:https://tasaonline.org.au/events/peace-in-our-time-2/2026-03-20/
LOCATION:Stirling Community Theatre\, 5 Avenue Road\, Stirling\, SA\, 5152\, Australia
CATEGORIES:Productions
ORGANIZER;CN="Stirling Players":MAILTO:contact@stirlingplayers.org.au
GEO:-35.0042671;138.7150941
X-APPLE-STRUCTURED-LOCATION;VALUE=URI;X-ADDRESS=Stirling Community Theatre 5 Avenue Road Stirling SA 5152 Australia;X-APPLE-RADIUS=500;X-TITLE=5 Avenue Road:geo:138.7150941,-35.0042671
END:VEVENT
BEGIN:VEVENT
DTSTART;TZID=Australia/Adelaide:20260321T150000
DTEND;TZID=Australia/Adelaide:20260321T173000
DTSTAMP:20260425T045235
CREATED:20260217T021912Z
LAST-MODIFIED:20260217T021912Z
UID:10025083-1774105200-1774114200@tasaonline.org.au
SUMMARY:PEACE IN OUR TIME
DESCRIPTION:Peace in Our Time explores an alternate history where Nazi Germany has invaded and occupied Britain\, focusing on the lives of Londoners in a pub during November 1940. The play delves into the characters’ feelings of resentment and resignation towards the occupation\, revealing the psychological toll and the subtle emergence of armed resistance against a hostile foreign power.
URL:https://tasaonline.org.au/events/peace-in-our-time-2/2026-03-21/
LOCATION:Stirling Community Theatre\, 5 Avenue Road\, Stirling\, SA\, 5152\, Australia
CATEGORIES:Productions
ORGANIZER;CN="Stirling Players":MAILTO:contact@stirlingplayers.org.au
GEO:-35.0042671;138.7150941
X-APPLE-STRUCTURED-LOCATION;VALUE=URI;X-ADDRESS=Stirling Community Theatre 5 Avenue Road Stirling SA 5152 Australia;X-APPLE-RADIUS=500;X-TITLE=5 Avenue Road:geo:138.7150941,-35.0042671
END:VEVENT
BEGIN:VEVENT
DTSTART;TZID=Australia/Adelaide:20260322T150000
DTEND;TZID=Australia/Adelaide:20260322T173000
DTSTAMP:20260425T045235
CREATED:20260217T021912Z
LAST-MODIFIED:20260217T021912Z
UID:10025084-1774191600-1774200600@tasaonline.org.au
SUMMARY:PEACE IN OUR TIME
DESCRIPTION:Peace in Our Time explores an alternate history where Nazi Germany has invaded and occupied Britain\, focusing on the lives of Londoners in a pub during November 1940. The play delves into the characters’ feelings of resentment and resignation towards the occupation\, revealing the psychological toll and the subtle emergence of armed resistance against a hostile foreign power.
URL:https://tasaonline.org.au/events/peace-in-our-time-2/2026-03-22/
LOCATION:Stirling Community Theatre\, 5 Avenue Road\, Stirling\, SA\, 5152\, Australia
CATEGORIES:Productions
ORGANIZER;CN="Stirling Players":MAILTO:contact@stirlingplayers.org.au
GEO:-35.0042671;138.7150941
X-APPLE-STRUCTURED-LOCATION;VALUE=URI;X-ADDRESS=Stirling Community Theatre 5 Avenue Road Stirling SA 5152 Australia;X-APPLE-RADIUS=500;X-TITLE=5 Avenue Road:geo:138.7150941,-35.0042671
END:VEVENT
BEGIN:VEVENT
DTSTART;TZID=Australia/Adelaide:20260327T193000
DTEND;TZID=Australia/Adelaide:20260327T220000
DTSTAMP:20260425T045235
CREATED:20260217T021912Z
LAST-MODIFIED:20260217T021912Z
UID:10025085-1774639800-1774648800@tasaonline.org.au
SUMMARY:PEACE IN OUR TIME
DESCRIPTION:Peace in Our Time explores an alternate history where Nazi Germany has invaded and occupied Britain\, focusing on the lives of Londoners in a pub during November 1940. The play delves into the characters’ feelings of resentment and resignation towards the occupation\, revealing the psychological toll and the subtle emergence of armed resistance against a hostile foreign power.
URL:https://tasaonline.org.au/events/peace-in-our-time-2/2026-03-27/
LOCATION:Stirling Community Theatre\, 5 Avenue Road\, Stirling\, SA\, 5152\, Australia
CATEGORIES:Productions
ORGANIZER;CN="Stirling Players":MAILTO:contact@stirlingplayers.org.au
GEO:-35.0042671;138.7150941
X-APPLE-STRUCTURED-LOCATION;VALUE=URI;X-ADDRESS=Stirling Community Theatre 5 Avenue Road Stirling SA 5152 Australia;X-APPLE-RADIUS=500;X-TITLE=5 Avenue Road:geo:138.7150941,-35.0042671
END:VEVENT
BEGIN:VEVENT
DTSTART;TZID=Australia/Adelaide:20260328T193000
DTEND;TZID=Australia/Adelaide:20260328T220000
DTSTAMP:20260425T045235
CREATED:20260217T021912Z
LAST-MODIFIED:20260217T021912Z
UID:10025086-1774726200-1774735200@tasaonline.org.au
SUMMARY:PEACE IN OUR TIME
DESCRIPTION:Peace in Our Time explores an alternate history where Nazi Germany has invaded and occupied Britain\, focusing on the lives of Londoners in a pub during November 1940. The play delves into the characters’ feelings of resentment and resignation towards the occupation\, revealing the psychological toll and the subtle emergence of armed resistance against a hostile foreign power.
URL:https://tasaonline.org.au/events/peace-in-our-time-2/2026-03-28/
LOCATION:Stirling Community Theatre\, 5 Avenue Road\, Stirling\, SA\, 5152\, Australia
CATEGORIES:Productions
ORGANIZER;CN="Stirling Players":MAILTO:contact@stirlingplayers.org.au
GEO:-35.0042671;138.7150941
X-APPLE-STRUCTURED-LOCATION;VALUE=URI;X-ADDRESS=Stirling Community Theatre 5 Avenue Road Stirling SA 5152 Australia;X-APPLE-RADIUS=500;X-TITLE=5 Avenue Road:geo:138.7150941,-35.0042671
END:VEVENT
END:VCALENDAR