BEGIN:VCALENDAR
VERSION:2.0
PRODID:-//TASA Online - ECPv6.15.15//NONSGML v1.0//EN
CALSCALE:GREGORIAN
METHOD:PUBLISH
X-WR-CALNAME:TASA Online
X-ORIGINAL-URL:https://tasaonline.org.au
X-WR-CALDESC:Events for TASA Online
REFRESH-INTERVAL;VALUE=DURATION:PT1H
X-Robots-Tag:noindex
X-PUBLISHED-TTL:PT1H
BEGIN:VTIMEZONE
TZID:Australia/Adelaide
BEGIN:STANDARD
TZOFFSETFROM:+1030
TZOFFSETTO:+0930
TZNAME:ACST
DTSTART:20250405T163000
END:STANDARD
BEGIN:DAYLIGHT
TZOFFSETFROM:+0930
TZOFFSETTO:+1030
TZNAME:ACDT
DTSTART:20251004T163000
END:DAYLIGHT
BEGIN:STANDARD
TZOFFSETFROM:+1030
TZOFFSETTO:+0930
TZNAME:ACST
DTSTART:20260404T163000
END:STANDARD
BEGIN:DAYLIGHT
TZOFFSETFROM:+0930
TZOFFSETTO:+1030
TZNAME:ACDT
DTSTART:20261003T163000
END:DAYLIGHT
BEGIN:STANDARD
TZOFFSETFROM:+1030
TZOFFSETTO:+0930
TZNAME:ACST
DTSTART:20270403T163000
END:STANDARD
BEGIN:DAYLIGHT
TZOFFSETFROM:+0930
TZOFFSETTO:+1030
TZNAME:ACDT
DTSTART:20271002T163000
END:DAYLIGHT
END:VTIMEZONE
BEGIN:VEVENT
DTSTART;TZID=Australia/Adelaide:20260219T190000
DTEND;TZID=Australia/Adelaide:20260219T203000
DTSTAMP:20260425T081000
CREATED:20260114T002352Z
LAST-MODIFIED:20260114T002352Z
UID:10025012-1771527600-1771533000@tasaonline.org.au
SUMMARY:Light Up the Stage Jr
DESCRIPTION:NOW Productions presents ‘Light Up the Stage Jr’ at the Shedley Theatre \nLight Up the Stage Jr is a celebration of musical theatre aimed at young performers! After the phenomenal success of our last musical revue\, we’re turning up the spotlight once again—this time with a spectacular Junior Edition designed especially for youth ensembles and younger audiences. Light Up the Stage dazzled audiences in 2025 with rave reviews—and now we’re bringing that same magic back\, tailor-made for our talented youth performers! Get ready for an unforgettable journey into the world of musical theatre–Light Up the Stage Jr is set to shine just as bright!
URL:https://tasaonline.org.au/events/light-up-the-stage-jr/2026-02-19/
LOCATION:The Shedley Theatre\, 10 Playford Boulevard\, Elizabeth\, South Australia\, 5112\, Australia
CATEGORIES:Productions
ATTACH;FMTTYPE=image/jpeg:https://tasaonline.org.au/wp-content/uploads/2026/01/Light-Up-the-Stage.webp
ORGANIZER;CN="Now Productions":MAILTO:Info@NowProductionsSA.com.au
END:VEVENT
BEGIN:VEVENT
DTSTART;TZID=Australia/Adelaide:20260220T190000
DTEND;TZID=Australia/Adelaide:20260220T203000
DTSTAMP:20260425T081000
CREATED:20260114T002352Z
LAST-MODIFIED:20260114T002352Z
UID:10025013-1771614000-1771619400@tasaonline.org.au
SUMMARY:Light Up the Stage Jr
DESCRIPTION:NOW Productions presents ‘Light Up the Stage Jr’ at the Shedley Theatre \nLight Up the Stage Jr is a celebration of musical theatre aimed at young performers! After the phenomenal success of our last musical revue\, we’re turning up the spotlight once again—this time with a spectacular Junior Edition designed especially for youth ensembles and younger audiences. Light Up the Stage dazzled audiences in 2025 with rave reviews—and now we’re bringing that same magic back\, tailor-made for our talented youth performers! Get ready for an unforgettable journey into the world of musical theatre–Light Up the Stage Jr is set to shine just as bright!
URL:https://tasaonline.org.au/events/light-up-the-stage-jr/2026-02-20/
LOCATION:The Shedley Theatre\, 10 Playford Boulevard\, Elizabeth\, South Australia\, 5112\, Australia
CATEGORIES:Productions
ATTACH;FMTTYPE=image/jpeg:https://tasaonline.org.au/wp-content/uploads/2026/01/Light-Up-the-Stage.webp
ORGANIZER;CN="Now Productions":MAILTO:Info@NowProductionsSA.com.au
END:VEVENT
BEGIN:VEVENT
DTSTART;TZID=Australia/Adelaide:20260221T130000
DTEND;TZID=Australia/Adelaide:20260221T143000
DTSTAMP:20260425T081000
CREATED:20260114T002352Z
LAST-MODIFIED:20260114T002352Z
UID:10025014-1771678800-1771684200@tasaonline.org.au
SUMMARY:Light Up the Stage Jr
DESCRIPTION:NOW Productions presents ‘Light Up the Stage Jr’ at the Shedley Theatre \nLight Up the Stage Jr is a celebration of musical theatre aimed at young performers! After the phenomenal success of our last musical revue\, we’re turning up the spotlight once again—this time with a spectacular Junior Edition designed especially for youth ensembles and younger audiences. Light Up the Stage dazzled audiences in 2025 with rave reviews—and now we’re bringing that same magic back\, tailor-made for our talented youth performers! Get ready for an unforgettable journey into the world of musical theatre–Light Up the Stage Jr is set to shine just as bright!
URL:https://tasaonline.org.au/events/light-up-the-stage-jr/2026-02-21/1/
LOCATION:The Shedley Theatre\, 10 Playford Boulevard\, Elizabeth\, South Australia\, 5112\, Australia
CATEGORIES:Productions
ATTACH;FMTTYPE=image/jpeg:https://tasaonline.org.au/wp-content/uploads/2026/01/Light-Up-the-Stage.webp
ORGANIZER;CN="Now Productions":MAILTO:Info@NowProductionsSA.com.au
END:VEVENT
BEGIN:VEVENT
DTSTART;TZID=Australia/Adelaide:20260221T130000
DTEND;TZID=Australia/Adelaide:20260221T153000
DTSTAMP:20260425T081000
CREATED:20260117T095829Z
LAST-MODIFIED:20260117T100759Z
UID:10025021-1771678800-1771687800@tasaonline.org.au
SUMMARY:Maytide's It Is Well with My Soul
DESCRIPTION:This beautiful tale of tragedy and faith is based on the true story of Anna and Horatio Spafford. It follows Anna’s journey from her Norwegian roots to 19th-century Chicago and later Jerusalem\, capturing the couple’s faith and resilience after losing their four daughters in the S.S. Ville du Havre shipwreck. The narrative explores themes of grief\, hope\, redemption\, and spiritual transformation\, brought to life through original music\, heartfelt performances\, and rich historical context. \nThe famous hymn “It Is Well with My Soul\,” written by Horatio Spafford\, has inspired our stage musical\, and we are bringing honest portrayals of unimaginable loss\, and enduring faith to the 2026 Fringe season. \nWritten by D. P. K. Maegraith\nAdapted by A. Broadbent and A. Gum\nMusic by A. Lymn
URL:https://tasaonline.org.au/events/maytides-it-is-well-with-my-soul-2/2026-02-21/1/
LOCATION:Blackwood Memorial Hall\, 21 Coromandel Parade\, Blackwood\, SA\, 5051\, Australia
CATEGORIES:Festival Productions,Productions
ATTACH;FMTTYPE=image/jpeg:https://tasaonline.org.au/wp-content/uploads/2026/01/Untitled-design-2-1.webp
END:VEVENT
BEGIN:VEVENT
DTSTART;TZID=Australia/Adelaide:20260221T170000
DTEND;TZID=Australia/Adelaide:20260221T181500
DTSTAMP:20260425T081000
CREATED:20260201T042451Z
LAST-MODIFIED:20260201T042451Z
UID:10025057-1771693200-1771697700@tasaonline.org.au
SUMMARY:The SpongeBob Musical - Youth Edition
DESCRIPTION:The SpongeBob Musical – Youth Edition \nPlunge into this stunning all-singing\, all-dancing\, dynamic stage show presented by Ink Pot Arts Inc‘s talented young performers! When the citizens of Bikini Bottom discover that a volcano will soon erupt and destroy their humble home\, SpongeBob and his friends must come together to save the fate of their undersea world. With lives hanging in the balance and all hope lost\, a most unexpected hero rises up. The power of optimism really can save the world! \n The SpongeBob Musical – Youth Edition is based on the beloved animated series created by Stephen Hillenburg and features a book by Kyle Jarrow\, with songs by many artists including Cyndi Lauper & David Bowie. \nDirector & Choreographer – Jen Edwards\nVocal Coach – Tayla Arbon\nCostume Designer – Grace Ames\nLighting Design – Paul Cleaver
URL:https://tasaonline.org.au/events/the-spongebob-musical-youth-edition-2/2026-02-21/
LOCATION:The Living Arts Centre – Waldorf School\, 27 Sims Rd\, Mount Barker\, SA\, 5251\, Australia
CATEGORIES:Productions
ATTACH;FMTTYPE=image/jpeg:https://tasaonline.org.au/wp-content/uploads/2026/02/2026-SpongeBob-the-Musical-Fringe-Show-Poster-with-QR-002.avif
ORGANIZER;CN="Ink Pot Arts Inc":MAILTO:quill@inkpot.com.au
END:VEVENT
BEGIN:VEVENT
DTSTART;TZID=Australia/Adelaide:20260221T180000
DTEND;TZID=Australia/Adelaide:20260221T193000
DTSTAMP:20260425T081000
CREATED:20260114T002352Z
LAST-MODIFIED:20260114T002352Z
UID:10025015-1771696800-1771702200@tasaonline.org.au
SUMMARY:Light Up the Stage Jr
DESCRIPTION:NOW Productions presents ‘Light Up the Stage Jr’ at the Shedley Theatre \nLight Up the Stage Jr is a celebration of musical theatre aimed at young performers! After the phenomenal success of our last musical revue\, we’re turning up the spotlight once again—this time with a spectacular Junior Edition designed especially for youth ensembles and younger audiences. Light Up the Stage dazzled audiences in 2025 with rave reviews—and now we’re bringing that same magic back\, tailor-made for our talented youth performers! Get ready for an unforgettable journey into the world of musical theatre–Light Up the Stage Jr is set to shine just as bright!
URL:https://tasaonline.org.au/events/light-up-the-stage-jr/2026-02-21/2/
LOCATION:The Shedley Theatre\, 10 Playford Boulevard\, Elizabeth\, South Australia\, 5112\, Australia
CATEGORIES:Productions
ATTACH;FMTTYPE=image/jpeg:https://tasaonline.org.au/wp-content/uploads/2026/01/Light-Up-the-Stage.webp
ORGANIZER;CN="Now Productions":MAILTO:Info@NowProductionsSA.com.au
END:VEVENT
BEGIN:VEVENT
DTSTART;TZID=Australia/Adelaide:20260221T190000
DTEND;TZID=Australia/Adelaide:20260221T213000
DTSTAMP:20260425T081000
CREATED:20260117T095829Z
LAST-MODIFIED:20260117T100759Z
UID:10025022-1771700400-1771709400@tasaonline.org.au
SUMMARY:Maytide's It Is Well with My Soul
DESCRIPTION:This beautiful tale of tragedy and faith is based on the true story of Anna and Horatio Spafford. It follows Anna’s journey from her Norwegian roots to 19th-century Chicago and later Jerusalem\, capturing the couple’s faith and resilience after losing their four daughters in the S.S. Ville du Havre shipwreck. The narrative explores themes of grief\, hope\, redemption\, and spiritual transformation\, brought to life through original music\, heartfelt performances\, and rich historical context. \nThe famous hymn “It Is Well with My Soul\,” written by Horatio Spafford\, has inspired our stage musical\, and we are bringing honest portrayals of unimaginable loss\, and enduring faith to the 2026 Fringe season. \nWritten by D. P. K. Maegraith\nAdapted by A. Broadbent and A. Gum\nMusic by A. Lymn
URL:https://tasaonline.org.au/events/maytides-it-is-well-with-my-soul-2/2026-02-21/2/
LOCATION:Blackwood Memorial Hall\, 21 Coromandel Parade\, Blackwood\, SA\, 5051\, Australia
CATEGORIES:Festival Productions,Productions
ATTACH;FMTTYPE=image/jpeg:https://tasaonline.org.au/wp-content/uploads/2026/01/Untitled-design-2-1.webp
END:VEVENT
BEGIN:VEVENT
DTSTART;TZID=Australia/Adelaide:20260222T140000
DTEND;TZID=Australia/Adelaide:20260222T151500
DTSTAMP:20260425T081000
CREATED:20260201T042451Z
LAST-MODIFIED:20260201T042451Z
UID:10025058-1771768800-1771773300@tasaonline.org.au
SUMMARY:The SpongeBob Musical - Youth Edition
DESCRIPTION:The SpongeBob Musical – Youth Edition \nPlunge into this stunning all-singing\, all-dancing\, dynamic stage show presented by Ink Pot Arts Inc‘s talented young performers! When the citizens of Bikini Bottom discover that a volcano will soon erupt and destroy their humble home\, SpongeBob and his friends must come together to save the fate of their undersea world. With lives hanging in the balance and all hope lost\, a most unexpected hero rises up. The power of optimism really can save the world! \n The SpongeBob Musical – Youth Edition is based on the beloved animated series created by Stephen Hillenburg and features a book by Kyle Jarrow\, with songs by many artists including Cyndi Lauper & David Bowie. \nDirector & Choreographer – Jen Edwards\nVocal Coach – Tayla Arbon\nCostume Designer – Grace Ames\nLighting Design – Paul Cleaver
URL:https://tasaonline.org.au/events/the-spongebob-musical-youth-edition-2/2026-02-22/
LOCATION:The Living Arts Centre – Waldorf School\, 27 Sims Rd\, Mount Barker\, SA\, 5251\, Australia
CATEGORIES:Productions
ATTACH;FMTTYPE=image/jpeg:https://tasaonline.org.au/wp-content/uploads/2026/02/2026-SpongeBob-the-Musical-Fringe-Show-Poster-with-QR-002.avif
ORGANIZER;CN="Ink Pot Arts Inc":MAILTO:quill@inkpot.com.au
END:VEVENT
BEGIN:VEVENT
DTSTART;TZID=Australia/Adelaide:20260226T190000
DTEND;TZID=Australia/Adelaide:20260226T213000
DTSTAMP:20260425T081000
CREATED:20260114T003504Z
LAST-MODIFIED:20260114T003504Z
UID:10025016-1772132400-1772141400@tasaonline.org.au
SUMMARY:Heathers: the Musical - Teen Edition
DESCRIPTION:Get ready to enter the wickedly funny world of Westerberg High—where the fashion is fierce\, the drama is deadly\, and the Heathers reign supreme. Meet Veronica Sawyer\, the sharp-tongued outsider who worms her way into the iconic clique… only to fall for the dangerously charming J.D. And that’s when things get explosively complicated. \nFrom the award-winning creators behind Legally Blonde\, Desperate Housewives\, and She’s the Man comes a show that’s heartfelt\, hysterical—and just a little bit homicidal. Heathers: The Musical is a rowdy guilty pleasure that you’ll love every minute of. \nNOW Productions presents a PG-13 adaptation of this darkly delicious cult classic—still edgy\, still outrageous\, just a little less R-rated! (Check the content disclaimer for details.) \nSo—are you in\, or are you out?
URL:https://tasaonline.org.au/events/heathers-the-musical-teen-edition/2026-02-26/
LOCATION:The Shedley Theatre\, 10 Playford Boulevard\, Elizabeth\, South Australia\, 5112\, Australia
CATEGORIES:Productions
ATTACH;FMTTYPE=image/jpeg:https://tasaonline.org.au/wp-content/uploads/2026/01/Heathers.webp
ORGANIZER;CN="Now Productions":MAILTO:Info@NowProductionsSA.com.au
END:VEVENT
BEGIN:VEVENT
DTSTART;TZID=Australia/Adelaide:20260227T190000
DTEND;TZID=Australia/Adelaide:20260227T213000
DTSTAMP:20260425T081000
CREATED:20260114T003504Z
LAST-MODIFIED:20260114T003504Z
UID:10025017-1772218800-1772227800@tasaonline.org.au
SUMMARY:Heathers: the Musical - Teen Edition
DESCRIPTION:Get ready to enter the wickedly funny world of Westerberg High—where the fashion is fierce\, the drama is deadly\, and the Heathers reign supreme. Meet Veronica Sawyer\, the sharp-tongued outsider who worms her way into the iconic clique… only to fall for the dangerously charming J.D. And that’s when things get explosively complicated. \nFrom the award-winning creators behind Legally Blonde\, Desperate Housewives\, and She’s the Man comes a show that’s heartfelt\, hysterical—and just a little bit homicidal. Heathers: The Musical is a rowdy guilty pleasure that you’ll love every minute of. \nNOW Productions presents a PG-13 adaptation of this darkly delicious cult classic—still edgy\, still outrageous\, just a little less R-rated! (Check the content disclaimer for details.) \nSo—are you in\, or are you out?
URL:https://tasaonline.org.au/events/heathers-the-musical-teen-edition/2026-02-27/
LOCATION:The Shedley Theatre\, 10 Playford Boulevard\, Elizabeth\, South Australia\, 5112\, Australia
CATEGORIES:Productions
ATTACH;FMTTYPE=image/jpeg:https://tasaonline.org.au/wp-content/uploads/2026/01/Heathers.webp
ORGANIZER;CN="Now Productions":MAILTO:Info@NowProductionsSA.com.au
END:VEVENT
BEGIN:VEVENT
DTSTART;TZID=Australia/Adelaide:20260228T130000
DTEND;TZID=Australia/Adelaide:20260228T153000
DTSTAMP:20260425T081000
CREATED:20260114T003504Z
LAST-MODIFIED:20260114T003504Z
UID:10025018-1772283600-1772292600@tasaonline.org.au
SUMMARY:Heathers: the Musical - Teen Edition
DESCRIPTION:Get ready to enter the wickedly funny world of Westerberg High—where the fashion is fierce\, the drama is deadly\, and the Heathers reign supreme. Meet Veronica Sawyer\, the sharp-tongued outsider who worms her way into the iconic clique… only to fall for the dangerously charming J.D. And that’s when things get explosively complicated. \nFrom the award-winning creators behind Legally Blonde\, Desperate Housewives\, and She’s the Man comes a show that’s heartfelt\, hysterical—and just a little bit homicidal. Heathers: The Musical is a rowdy guilty pleasure that you’ll love every minute of. \nNOW Productions presents a PG-13 adaptation of this darkly delicious cult classic—still edgy\, still outrageous\, just a little less R-rated! (Check the content disclaimer for details.) \nSo—are you in\, or are you out?
URL:https://tasaonline.org.au/events/heathers-the-musical-teen-edition/2026-02-28/1/
LOCATION:The Shedley Theatre\, 10 Playford Boulevard\, Elizabeth\, South Australia\, 5112\, Australia
CATEGORIES:Productions
ATTACH;FMTTYPE=image/jpeg:https://tasaonline.org.au/wp-content/uploads/2026/01/Heathers.webp
ORGANIZER;CN="Now Productions":MAILTO:Info@NowProductionsSA.com.au
END:VEVENT
BEGIN:VEVENT
DTSTART;TZID=Australia/Adelaide:20260228T170000
DTEND;TZID=Australia/Adelaide:20260228T181500
DTSTAMP:20260425T081000
CREATED:20260201T042451Z
LAST-MODIFIED:20260201T042451Z
UID:10025059-1772298000-1772302500@tasaonline.org.au
SUMMARY:The SpongeBob Musical - Youth Edition
DESCRIPTION:The SpongeBob Musical – Youth Edition \nPlunge into this stunning all-singing\, all-dancing\, dynamic stage show presented by Ink Pot Arts Inc‘s talented young performers! When the citizens of Bikini Bottom discover that a volcano will soon erupt and destroy their humble home\, SpongeBob and his friends must come together to save the fate of their undersea world. With lives hanging in the balance and all hope lost\, a most unexpected hero rises up. The power of optimism really can save the world! \n The SpongeBob Musical – Youth Edition is based on the beloved animated series created by Stephen Hillenburg and features a book by Kyle Jarrow\, with songs by many artists including Cyndi Lauper & David Bowie. \nDirector & Choreographer – Jen Edwards\nVocal Coach – Tayla Arbon\nCostume Designer – Grace Ames\nLighting Design – Paul Cleaver
URL:https://tasaonline.org.au/events/the-spongebob-musical-youth-edition-2/2026-02-28/
LOCATION:The Living Arts Centre – Waldorf School\, 27 Sims Rd\, Mount Barker\, SA\, 5251\, Australia
CATEGORIES:Productions
ATTACH;FMTTYPE=image/jpeg:https://tasaonline.org.au/wp-content/uploads/2026/02/2026-SpongeBob-the-Musical-Fringe-Show-Poster-with-QR-002.avif
ORGANIZER;CN="Ink Pot Arts Inc":MAILTO:quill@inkpot.com.au
END:VEVENT
BEGIN:VEVENT
DTSTART;TZID=Australia/Adelaide:20260228T190000
DTEND;TZID=Australia/Adelaide:20260228T213000
DTSTAMP:20260425T081000
CREATED:20260114T003504Z
LAST-MODIFIED:20260114T003504Z
UID:10025019-1772305200-1772314200@tasaonline.org.au
SUMMARY:Heathers: the Musical - Teen Edition
DESCRIPTION:Get ready to enter the wickedly funny world of Westerberg High—where the fashion is fierce\, the drama is deadly\, and the Heathers reign supreme. Meet Veronica Sawyer\, the sharp-tongued outsider who worms her way into the iconic clique… only to fall for the dangerously charming J.D. And that’s when things get explosively complicated. \nFrom the award-winning creators behind Legally Blonde\, Desperate Housewives\, and She’s the Man comes a show that’s heartfelt\, hysterical—and just a little bit homicidal. Heathers: The Musical is a rowdy guilty pleasure that you’ll love every minute of. \nNOW Productions presents a PG-13 adaptation of this darkly delicious cult classic—still edgy\, still outrageous\, just a little less R-rated! (Check the content disclaimer for details.) \nSo—are you in\, or are you out?
URL:https://tasaonline.org.au/events/heathers-the-musical-teen-edition/2026-02-28/2/
LOCATION:The Shedley Theatre\, 10 Playford Boulevard\, Elizabeth\, South Australia\, 5112\, Australia
CATEGORIES:Productions
ATTACH;FMTTYPE=image/jpeg:https://tasaonline.org.au/wp-content/uploads/2026/01/Heathers.webp
ORGANIZER;CN="Now Productions":MAILTO:Info@NowProductionsSA.com.au
END:VEVENT
END:VCALENDAR