BEGIN:VCALENDAR
VERSION:2.0
PRODID:-//TASA Online - ECPv4.9.12//NONSGML v1.0//EN
CALSCALE:GREGORIAN
METHOD:PUBLISH
X-WR-CALNAME:TASA Online
X-ORIGINAL-URL:https://tasaonline.org.au
X-WR-CALDESC:Events for TASA Online
BEGIN:VTIMEZONE
TZID:Australia/Adelaide
BEGIN:STANDARD
TZOFFSETFROM:+1030
TZOFFSETTO:+0930
TZNAME:ACST
DTSTART:20200404T163000
END:STANDARD
BEGIN:DAYLIGHT
TZOFFSETFROM:+0930
TZOFFSETTO:+1030
TZNAME:ACDT
DTSTART:20201003T163000
END:DAYLIGHT
END:VTIMEZONE
BEGIN:VEVENT
DTSTART;TZID=Australia/Adelaide:20200205T200000
DTEND;TZID=Australia/Adelaide:20200205T223000
DTSTAMP:20200227T175956
CREATED:20200104T040023Z
LAST-MODIFIED:20200206T113935Z
UID:4238-1580932800-1580941800@tasaonline.org.au
SUMMARY:Any Number Can Die
DESCRIPTION:
URL:https://tasaonline.org.au/event/any-number-can-die-2/2020-02-05/
LOCATION:Tea Tree Players Theatre\, Cnr Yatala Vale Road and Hancock Road\, Surrey Downs\, SA\, 5126\, Australia
CATEGORIES:Productions
ATTACH;FMTTYPE=image/jpeg:https://tasaonline.org.au/wp-content/uploads/2020/01/Any-Number-Can-Die-Medium.jpg
ORGANIZER;CN="Tea%20Tree%20Players":MAILTO:ttp@teatreeplayers.com
END:VEVENT
END:VCALENDAR