BEGIN:VCALENDAR
VERSION:2.0
PRODID:-//TASA Online - ECPv6.15.15//NONSGML v1.0//EN
CALSCALE:GREGORIAN
METHOD:PUBLISH
X-WR-CALNAME:TASA Online
X-ORIGINAL-URL:https://tasaonline.org.au
X-WR-CALDESC:Events for TASA Online
REFRESH-INTERVAL;VALUE=DURATION:PT1H
X-Robots-Tag:noindex
X-PUBLISHED-TTL:PT1H
BEGIN:VTIMEZONE
TZID:Australia/Adelaide
BEGIN:STANDARD
TZOFFSETFROM:+1030
TZOFFSETTO:+0930
TZNAME:ACST
DTSTART:20220402T163000
END:STANDARD
BEGIN:DAYLIGHT
TZOFFSETFROM:+0930
TZOFFSETTO:+1030
TZNAME:ACDT
DTSTART:20221001T163000
END:DAYLIGHT
BEGIN:STANDARD
TZOFFSETFROM:+1030
TZOFFSETTO:+0930
TZNAME:ACST
DTSTART:20230401T163000
END:STANDARD
BEGIN:DAYLIGHT
TZOFFSETFROM:+0930
TZOFFSETTO:+1030
TZNAME:ACDT
DTSTART:20230930T163000
END:DAYLIGHT
BEGIN:STANDARD
TZOFFSETFROM:+1030
TZOFFSETTO:+0930
TZNAME:ACST
DTSTART:20240406T163000
END:STANDARD
BEGIN:DAYLIGHT
TZOFFSETFROM:+0930
TZOFFSETTO:+1030
TZNAME:ACDT
DTSTART:20241005T163000
END:DAYLIGHT
END:VTIMEZONE
BEGIN:VEVENT
DTSTART;TZID=Australia/Adelaide:20230909T130000
DTEND;TZID=Australia/Adelaide:20230909T140000
DTSTAMP:20260420T001952
CREATED:20230822T063255Z
LAST-MODIFIED:20230822T063255Z
UID:10020581-1694264400-1694268000@tasaonline.org.au
SUMMARY:The Big Bad Musical
DESCRIPTION:Presented by The Murray Bridge Players and Singers Inc. Youth Theatre 2.0\, “The Big Bad Musical” is a fun interactive show about the trial of the Big Bad Wolf\, accused of a crime against fairytale characters. The audience serves as the jury\, telling the story through catchy songs and humorous dialogue. The show delivers a message about fairness and the consequences of judging others too quickly.
URL:https://tasaonline.org.au/events/the-big-bad-musical/2023-09-09/1/
LOCATION:Murray Bridge Performing Arts & Conference Centre (Theatre)\, 17 Bridge St\, Murray Bridge\, SA\, 5253\, Australia
CATEGORIES:Encore Content Call,Youth Promotions
ATTACH;FMTTYPE=image/jpeg:https://tasaonline.org.au/wp-content/uploads/2023/08/363316545_763788889085248_2057660794369219212_n.jpg
ORGANIZER;CN="The Murray Bridge Players and Singers Inc.":MAILTO:bridgeplayersandsingers@live.com.au
END:VEVENT
BEGIN:VEVENT
DTSTART;TZID=Australia/Adelaide:20230909T190000
DTEND;TZID=Australia/Adelaide:20230909T200000
DTSTAMP:20260420T001952
CREATED:20230822T063255Z
LAST-MODIFIED:20230822T063255Z
UID:10020582-1694286000-1694289600@tasaonline.org.au
SUMMARY:The Big Bad Musical
DESCRIPTION:Presented by The Murray Bridge Players and Singers Inc. Youth Theatre 2.0\, “The Big Bad Musical” is a fun interactive show about the trial of the Big Bad Wolf\, accused of a crime against fairytale characters. The audience serves as the jury\, telling the story through catchy songs and humorous dialogue. The show delivers a message about fairness and the consequences of judging others too quickly.
URL:https://tasaonline.org.au/events/the-big-bad-musical/2023-09-09/2/
LOCATION:Murray Bridge Performing Arts & Conference Centre (Theatre)\, 17 Bridge St\, Murray Bridge\, SA\, 5253\, Australia
CATEGORIES:Encore Content Call,Youth Promotions
ATTACH;FMTTYPE=image/jpeg:https://tasaonline.org.au/wp-content/uploads/2023/08/363316545_763788889085248_2057660794369219212_n.jpg
ORGANIZER;CN="The Murray Bridge Players and Singers Inc.":MAILTO:bridgeplayersandsingers@live.com.au
END:VEVENT
BEGIN:VEVENT
DTSTART;TZID=Australia/Adelaide:20230910T130000
DTEND;TZID=Australia/Adelaide:20230910T140000
DTSTAMP:20260420T001952
CREATED:20230822T063255Z
LAST-MODIFIED:20230822T063255Z
UID:10020583-1694350800-1694354400@tasaonline.org.au
SUMMARY:The Big Bad Musical
DESCRIPTION:Presented by The Murray Bridge Players and Singers Inc. Youth Theatre 2.0\, “The Big Bad Musical” is a fun interactive show about the trial of the Big Bad Wolf\, accused of a crime against fairytale characters. The audience serves as the jury\, telling the story through catchy songs and humorous dialogue. The show delivers a message about fairness and the consequences of judging others too quickly.
URL:https://tasaonline.org.au/events/the-big-bad-musical/2023-09-10/
LOCATION:Murray Bridge Performing Arts & Conference Centre (Theatre)\, 17 Bridge St\, Murray Bridge\, SA\, 5253\, Australia
CATEGORIES:Encore Content Call,Youth Promotions
ATTACH;FMTTYPE=image/jpeg:https://tasaonline.org.au/wp-content/uploads/2023/08/363316545_763788889085248_2057660794369219212_n.jpg
ORGANIZER;CN="The Murray Bridge Players and Singers Inc.":MAILTO:bridgeplayersandsingers@live.com.au
END:VEVENT
BEGIN:VEVENT
DTSTART;VALUE=DATE:20230915
DTEND;VALUE=DATE:20230916
DTSTAMP:20260420T001952
CREATED:20200314T055738Z
LAST-MODIFIED:20201003T134208Z
UID:10016031-1694736000-1694822399@tasaonline.org.au
SUMMARY:Encore Content Call
DESCRIPTION:
URL:https://tasaonline.org.au/events/encore-content-call/2023-09-15/
LOCATION:SA\, Australia
CATEGORIES:Encore Content Call
ATTACH;FMTTYPE=image/jpeg:https://tasaonline.org.au/wp-content/uploads/2020/03/Magazine-header-Mailing-scaled.jpg
END:VEVENT
END:VCALENDAR