BEGIN:VCALENDAR
VERSION:2.0
PRODID:-//TASA Online - ECPv6.15.15//NONSGML v1.0//EN
CALSCALE:GREGORIAN
METHOD:PUBLISH
X-ORIGINAL-URL:https://tasaonline.org.au
X-WR-CALDESC:Events for TASA Online
REFRESH-INTERVAL;VALUE=DURATION:PT1H
X-Robots-Tag:noindex
X-PUBLISHED-TTL:PT1H
BEGIN:VTIMEZONE
TZID:Australia/Adelaide
BEGIN:STANDARD
TZOFFSETFROM:+1030
TZOFFSETTO:+0930
TZNAME:ACST
DTSTART:20190406T163000
END:STANDARD
BEGIN:DAYLIGHT
TZOFFSETFROM:+0930
TZOFFSETTO:+1030
TZNAME:ACDT
DTSTART:20191005T163000
END:DAYLIGHT
BEGIN:STANDARD
TZOFFSETFROM:+1030
TZOFFSETTO:+0930
TZNAME:ACST
DTSTART:20200404T163000
END:STANDARD
BEGIN:DAYLIGHT
TZOFFSETFROM:+0930
TZOFFSETTO:+1030
TZNAME:ACDT
DTSTART:20201003T163000
END:DAYLIGHT
BEGIN:STANDARD
TZOFFSETFROM:+1030
TZOFFSETTO:+0930
TZNAME:ACST
DTSTART:20210403T163000
END:STANDARD
BEGIN:DAYLIGHT
TZOFFSETFROM:+0930
TZOFFSETTO:+1030
TZNAME:ACDT
DTSTART:20211002T163000
END:DAYLIGHT
END:VTIMEZONE
BEGIN:VEVENT
DTSTART;TZID=Australia/Adelaide:20200715T190000
DTEND;TZID=Australia/Adelaide:20200715T210000
DTSTAMP:20260425T120529
CREATED:20200531T135510Z
LAST-MODIFIED:20200531T135510Z
UID:10016276-1594839600-1594846800@tasaonline.org.au
SUMMARY:Shrek The Musical
DESCRIPTION:This event is for anyone who wishes to be involved in Zest’s next major production – “Shrek The Musical”. We will provide information about the show\, characters\, rehearsal dates\, performance dates and audition details. Come along to register your interest in being involved both on and off stage. We are welcoming children\, youth and adults in this production. \nZest Theatre Group’s mission statement is \n\nTo encourage and nurture new talent\nTo mix those with experience with those looking for a beginning\nTo develop the ability to face difficulty with spirit and courage\n\n“Once upon a time\, there was a little ogre named Shrek….” And thus begins the tale of an unlikely hero who finds himself on a life-changing journey alongside a wisecracking Donkey and a feisty princess who resists her rescue. Throw in a short-tempered bad guy\, a cookie with an attitude and over a dozen other fairy tale misfits\, and you’ve got the kind of mess that calls for a real hero. Luckily\, there’s one on hand… and his name is Shrek. \nAuditions:\nAuditions to be held 29th July (all details will be provided at Information Night) \nVenue:\nTBA \nRehearsals:\nTuesday nights as required (mainly Principal cast)\nWednesday nights 6.30pm – 9.30pm \nPerformances:\n2021 Victor Harbor Town Hall\, Victor Harbor\n6 Shows\n29th Jan – 7th Feb \nRoles Available:\nShrek\nPrincess Fiona\nDonkey\nLord Farquaad\nDragon\nFairytale Creatures including Pinocchio\, Gingy etc.\nEnsemble Roles including Young Princess Fiona\, little Shrek\, Mama and Papa Ogre\, Captain of the Guard etc.
URL:https://tasaonline.org.au/events/shrek-the-musical/2020-07-15/
LOCATION:SA\, Australia
CATEGORIES:Auditions
ATTACH;FMTTYPE=image/jpeg:https://tasaonline.org.au/wp-content/uploads/2019/02/Zest.jpg
ORGANIZER;CN="Zest Theatre Group Inc.":MAILTO:zesttheatregroup@outlook.com
END:VEVENT
END:VCALENDAR