BEGIN:VCALENDAR
VERSION:2.0
PRODID:-//TASA Online - ECPv6.15.15//NONSGML v1.0//EN
CALSCALE:GREGORIAN
METHOD:PUBLISH
X-ORIGINAL-URL:https://tasaonline.org.au
X-WR-CALDESC:Events for TASA Online
REFRESH-INTERVAL;VALUE=DURATION:PT1H
X-Robots-Tag:noindex
X-PUBLISHED-TTL:PT1H
BEGIN:VTIMEZONE
TZID:Australia/Adelaide
BEGIN:STANDARD
TZOFFSETFROM:+1030
TZOFFSETTO:+0930
TZNAME:ACST
DTSTART:20180331T163000
END:STANDARD
BEGIN:DAYLIGHT
TZOFFSETFROM:+0930
TZOFFSETTO:+1030
TZNAME:ACDT
DTSTART:20181006T163000
END:DAYLIGHT
BEGIN:STANDARD
TZOFFSETFROM:+1030
TZOFFSETTO:+0930
TZNAME:ACST
DTSTART:20190406T163000
END:STANDARD
BEGIN:DAYLIGHT
TZOFFSETFROM:+0930
TZOFFSETTO:+1030
TZNAME:ACDT
DTSTART:20191005T163000
END:DAYLIGHT
BEGIN:STANDARD
TZOFFSETFROM:+1030
TZOFFSETTO:+0930
TZNAME:ACST
DTSTART:20200404T163000
END:STANDARD
BEGIN:DAYLIGHT
TZOFFSETFROM:+0930
TZOFFSETTO:+1030
TZNAME:ACDT
DTSTART:20201003T163000
END:DAYLIGHT
END:VTIMEZONE
BEGIN:VEVENT
DTSTART;VALUE=DATE:20191201
DTEND;VALUE=DATE:20191202
DTSTAMP:20260425T071209
CREATED:20191123T050849Z
LAST-MODIFIED:20191124T045729Z
UID:10014550-1575158400-1575244799@tasaonline.org.au
SUMMARY:Blithe Spirit
DESCRIPTION:Blithe Spirit by Noel Coward\nDirected by Megan Dansie \nAUDITIONS SUN 1 DECEMBER 2019 \nSeason: Sunday 9 August to Sunday 30 August 2020 (inc. bump-in\, tech. and dress rehearsals\, performances and bump-out). \nOpening Night: Saturday 15 August 2020\, 7.30pm\nMatinee: Sunday 16 August 2020\, 4pm or Sunday 23 August\, depending on Open Day –to be confirmed once the University has set the Open Day date.\nRun: Wednesday to Saturday 19-23 & 26-29 August 2020\, 7.30pm \nVenue: Little Theatre\, The Cloisters\, University of Adelaide \nFirst Read: May 2020\, exact date and time to be confirmed\nRehearsals: Tuesday & Thursday evenings\, 7pm-10pm & Sundays\, time to be confirmed from Sunday 21 June. \nSome individual sessions and character development to take place with the Director before formal rehearsals start. \nRehearsals will take place in various locations on the North Terrace Campus which will be indicated on the rehearsal schedule. \nAudition Venue: Little Theatre\, The Cloisters\, University of Adelaide \nDirections: The Cloisters is the name given to the courtyard in front of the Union Building (Union House) facing Victoria Drive and the river. The entrance to the theatre is in the south west corner of the courtyard. \nSYNOPSIS:\nThis haunting play is one of Noel Coward’s most popular comedies. \nCharles Condomine\, a successful novelist\, wishes to learn about the occult for a novel he is writing\, and he arranges for an eccentric medium\, Madame Arcati\, to hold a séance at his house. At the séance\, she inadvertently summons Charles’s first wife\, Elvira\, who has been dead for seven years. Only Charles can see or hear Elvira. The ghostly Elvira makes continued\, and increasingly desperate\, efforts to disrupt Charles’s current marriage. She finally sabotages his car in the hope of killing him so that he will join her in the spirit world\, but it is Ruth rather than Charles who drives off and is killed. \nRuth’s ghost immediately comes back for revenge on Elvira\, and Charles calls Madame Arcati back to exorcise both of the spirits\, but instead of banishing them she unintentionally materialises Ruth. With both his dead wives now fully visible\, and neither of them in the best of tempers\, Charles\, together with Madame Arcati\, goes through séance after séance and spell after spell to try to exorcise them. It is not until Madame Arcati works out that the housemaid\, Edith\, is psychic and had unwittingly been the conduit through which Elvira was summoned that she succeeds in dematerialising both ghosts. Charles is left seemingly in peace\, but Madame Arcati\, hinting that the ghosts may still be around unseen\, warns him that he should go far away as soon as possible. \nROLES AVAILABLE:\n(Please note that the roles of Madame Arcati\, Charles Condomine\, Ruth Condomine and Elvira have been pre-cast). \nAll ages given are general stage ages. English accents are required. \nEdith – female\, stage age 17 to 30s – She is the maid for Charles and Ruth. Always in a hurry\, lovely comedic part. Lower-class English accent required – regional or London. \nDr Bradman – male – 35 to 55 – the local doctor and friend of the Condomines. He and his wife attend the séances. Upper class English accent required. \nMrs Bradman – female 35 to 55. Posh and slightly oblivious. Wife to Dr Bradman. Upper class English accent required. \nAUDITION BY APPOINTMENT ONLY. \nAppointments can be booked by emailing theatreguild@adelaide.edu.au \nA 15 minute slot will be allocated per application and we will provide someone to read opposite you. \nOn requesting an audition slot\, please ensure you advise: \n• Which role you are auditioning for\n• The time slot you would prefer\, ie. morning or afternoon\, and we\nwill do our best to accommodate you\n(Please note we will be filling the morning slots first).\n• Contact telephone number \nYou will be required to: \n• Be familiar with extracts from the play which will be emailed to\nyou after an audition slot has been booked.\n• Be prepared to play around with the piece during your audition.\n• Be prepared to read another excerpt from the play which you\nwon’t see until the day. You will have an opportunity to familiarise\nyourself with the text before reading it to the Director.\n• Please arrive 10 minutes early to allow yourself time to prepare\nfor your audition and to complete an audition form. \nWe recommend you wear loose comfortable clothing and bring water. \nPlease be aware that everyone involved in a Theatre Guild show is required to be a member of the Theatre Guild. Auditions are open to anyone but any roles offered will only be confirmed once you have become a member.
URL:https://tasaonline.org.au/events/blithe-spirit-2/
LOCATION:SA\, Australia
CATEGORIES:Auditions
ATTACH;FMTTYPE=image/jpeg:https://tasaonline.org.au/wp-content/uploads/2019/03/UoA.jpg
ORGANIZER;CN="The University of Adelaide Theatre Guild":MAILTO:theatreguild@adelaide.edu.au
END:VEVENT
END:VCALENDAR