BEGIN:VCALENDAR
VERSION:2.0
PRODID:-//TASA Online - ECPv6.15.15//NONSGML v1.0//EN
CALSCALE:GREGORIAN
METHOD:PUBLISH
X-ORIGINAL-URL:https://tasaonline.org.au
X-WR-CALDESC:Events for TASA Online
REFRESH-INTERVAL;VALUE=DURATION:PT1H
X-Robots-Tag:noindex
X-PUBLISHED-TTL:PT1H
BEGIN:VTIMEZONE
TZID:Australia/Adelaide
BEGIN:STANDARD
TZOFFSETFROM:+1030
TZOFFSETTO:+0930
TZNAME:ACST
DTSTART:20190406T163000
END:STANDARD
BEGIN:DAYLIGHT
TZOFFSETFROM:+0930
TZOFFSETTO:+1030
TZNAME:ACDT
DTSTART:20191005T163000
END:DAYLIGHT
BEGIN:STANDARD
TZOFFSETFROM:+1030
TZOFFSETTO:+0930
TZNAME:ACST
DTSTART:20200404T163000
END:STANDARD
BEGIN:DAYLIGHT
TZOFFSETFROM:+0930
TZOFFSETTO:+1030
TZNAME:ACDT
DTSTART:20201003T163000
END:DAYLIGHT
BEGIN:STANDARD
TZOFFSETFROM:+1030
TZOFFSETTO:+0930
TZNAME:ACST
DTSTART:20210403T163000
END:STANDARD
BEGIN:DAYLIGHT
TZOFFSETFROM:+0930
TZOFFSETTO:+1030
TZNAME:ACDT
DTSTART:20211002T163000
END:DAYLIGHT
END:VTIMEZONE
BEGIN:VEVENT
DTSTART;VALUE=DATE:20200809
DTEND;VALUE=DATE:20200810
DTSTAMP:20260425T121109
CREATED:20200628T091248Z
LAST-MODIFIED:20200628T091248Z
UID:10014900-1596931200-1597017599@tasaonline.org.au
SUMMARY:Les Misérables
DESCRIPTION:AGES 14-23\nAuditions – Sunday 9th August\n(children’s roles will be cast from our Moana JR auditions) \nYouth performers will have the opportunity to shine on stage as a multitude of characters that will thrill Adelaide audiences this summer! \nFor full information\, please email:\naytcompany@gmail.com \n\n 
URL:https://tasaonline.org.au/events/les-miserables-4/
LOCATION:SA\, Australia
CATEGORIES:Auditions
ATTACH;FMTTYPE=image/jpeg:https://tasaonline.org.au/wp-content/uploads/2019/02/AdelaideYouthTheatre.jpg
ORGANIZER;CN="Adelaide Youth Theatre":MAILTO:aytcompany@gmail.com
END:VEVENT
BEGIN:VEVENT
DTSTART;VALUE=DATE:20200815
DTEND;VALUE=DATE:20200816
DTSTAMP:20260425T121109
CREATED:20200502T064112Z
LAST-MODIFIED:20200518T094155Z
UID:10016250-1597449600-1597535999@tasaonline.org.au
SUMMARY:10 - 4
DESCRIPTION:TEN FOUR is Now Productions next movie project\, set on location around South Australia. A script that is highly confidential not only from its intended audience but the cast and crew themselves. So many twists and turns\, action packed and great fun. \nNow Productions have made two movies to date\, both of which were a great success and loved by all. In true Now Productions style\, we always go bigger and better. Do not miss this opportunity.  \n\nVideo auditions required anytime from now – 15th August at the latest and filming is in October school holidays. Use your time whilst the Covid-19 restrictions are in place. \nInterested: email NowProducer@Gmail.com \n\nSynopsis:\nAn action packed\, comical and family fun movie that discovers the criminal underworld of a small country town. A police force\, ill-equipped to handle such a challenge – can they restore the peace\, protect and serve their local community. Time will tell! \n\nExpectations:\nNow Productions will be accepting video auditions only for this project. Cast must be aged 9-21 years. A monologue will be provided to the auditionee to make their very own. \nThe brief for the audition is:\nLines need to be from memory\nBe creative and think outside the box\nThink about your surroundings (within the video)\nBest audition\, wins the best role! \nFilming Dates:\n2 week filming schedule within the October school holidays. Auditionees need to be available for this filming schedule (mandatory). \nViewing:\nNovember 2020\, date to be confirmed. \nTo register your interest\, please email NowProducer@gmail.com \n 
URL:https://tasaonline.org.au/events/10-4/
LOCATION:SA\, Australia
CATEGORIES:Auditions
ATTACH;FMTTYPE=image/png:https://tasaonline.org.au/wp-content/uploads/2019/03/NowProductions.png
ORGANIZER;CN="Now Productions":MAILTO:Info@NowProductionsSA.com.au
END:VEVENT
BEGIN:VEVENT
DTSTART;TZID=Australia/Adelaide:20200816T090000
DTEND;TZID=Australia/Adelaide:20200816T160000
DTSTAMP:20260425T121109
CREATED:20200801T003403Z
LAST-MODIFIED:20200801T003403Z
UID:10014911-1597568400-1597593600@tasaonline.org.au
SUMMARY:"Cut" & “All I Really Need to Know I Learned From Being a Zombie”
DESCRIPTION:Written By: Ed Monk\nAlicia Zorkovic & Michelle Nightingale (Directors) \n“Cut” by Ed Monk\nA group of actors rehearses a play within a play within a play. As the plot complications multiply\, the actors begin to forget who is playing whom and who is the real director — as opposed to the actor who is playing the director\, or vice versa. Then they can’t seem to remember who they really are\, as opposed to the people they are playing in any of the various scripts. Then things start to get confusing… \nPLUS \n“All I Really Need to Know I Learned From Being a Zombie” by Jason Pizzarello\nIn today’s chaotic\, challenging world\, we often don’t know where to turn for help. Little did we know that life’s most valuable lessons lie within the undead. Finally\, zombies engage us with musings on life\, death\, and everything in between. They show us that brains aren’t everything…you are what you eat…and what doesn’t kill you makes you…more alive. \nAll actors to be aged 10-21 \n\n\n\nRole Name\nGender\nStage Age\nRole Information\n\n\nZombie\nUndefined\nAny\nVarious roles\n\n\nCut\nUndefined\nAny\nVarious roles\n\n\n\n 
URL:https://tasaonline.org.au/events/cut-all-i-really-need-to-know-i-learned-from-being-a-zombie/
LOCATION:SA\, Australia
CATEGORIES:Auditions
ATTACH;FMTTYPE=image/jpeg:https://tasaonline.org.au/wp-content/uploads/2020/01/wings2fly.jpg
ORGANIZER;CN="Wings2Fly Theatre":MAILTO:wings2flytheatre@gmail.com
END:VEVENT
END:VCALENDAR