BEGIN:VCALENDAR
VERSION:2.0
PRODID:-//TASA Online - ECPv6.15.15//NONSGML v1.0//EN
CALSCALE:GREGORIAN
METHOD:PUBLISH
X-ORIGINAL-URL:https://tasaonline.org.au
X-WR-CALDESC:Events for TASA Online
REFRESH-INTERVAL;VALUE=DURATION:PT1H
X-Robots-Tag:noindex
X-PUBLISHED-TTL:PT1H
BEGIN:VTIMEZONE
TZID:Australia/Adelaide
BEGIN:STANDARD
TZOFFSETFROM:+1030
TZOFFSETTO:+0930
TZNAME:ACST
DTSTART:20190406T163000
END:STANDARD
BEGIN:DAYLIGHT
TZOFFSETFROM:+0930
TZOFFSETTO:+1030
TZNAME:ACDT
DTSTART:20191005T163000
END:DAYLIGHT
BEGIN:STANDARD
TZOFFSETFROM:+1030
TZOFFSETTO:+0930
TZNAME:ACST
DTSTART:20200404T163000
END:STANDARD
BEGIN:DAYLIGHT
TZOFFSETFROM:+0930
TZOFFSETTO:+1030
TZNAME:ACDT
DTSTART:20201003T163000
END:DAYLIGHT
BEGIN:STANDARD
TZOFFSETFROM:+1030
TZOFFSETTO:+0930
TZNAME:ACST
DTSTART:20210403T163000
END:STANDARD
BEGIN:DAYLIGHT
TZOFFSETFROM:+0930
TZOFFSETTO:+1030
TZNAME:ACDT
DTSTART:20211002T163000
END:DAYLIGHT
END:VTIMEZONE
BEGIN:VEVENT
DTSTART;TZID=Australia/Adelaide:20200201T100000
DTEND;TZID=Australia/Adelaide:20200201T150000
DTSTAMP:20260425T051458
CREATED:20200126T001754Z
LAST-MODIFIED:20200126T001754Z
UID:10015966-1580551200-1580569200@tasaonline.org.au
SUMMARY:LOVE! LOVE? LOVE...
DESCRIPTION:Auditions for ‘LOVE! LOVE? LOVE…’\na show with Music and Comedy \nLooking for love\, losing love and finding love will be the theme of this variety type show with lots of fun and laughs and a few sweet and serious spots. There will be opportunities for solos\, duets\, joke telling\, skit participation or just singing along with a group.\nNO PREVIOUS STAGE EXPERIENCE NECESSARY – just a willingness to join in\, learn about stagecraft & sing your heart out in a friendly\, creative atmosphere. \nat the TOP OF THE TORRENS CLUB-ROOMS\,\nPENTELOWS ROAD\, MOUNT PLEASANT SA 5235 \nSaturday 1st February from 10.00 am \nPLEASE BRING A PLATE OF FOOD TO SHARE FOR LUNCH \nALL WELCOME\, from age 12 to adult \nFor further details please contact the director Meg Stephens on\nmysticmeg@adam.com.au or 0437 647 247\nor just turn up on the day.\nIf you are interested but cannot make it on the day please contact Meg. \nRehearsals start on Monday 3rd February 2020 7pm to 9.30pm\nand continue on Mondays & Thursdays\nPerformances will be on 23\, 24\, 29\, 30\, 31 May 2020 at the Mount Pleasant Memorial Hall
URL:https://tasaonline.org.au/events/love-love-love/
LOCATION:SA\, Australia
CATEGORIES:Auditions
ATTACH;FMTTYPE=image/jpeg:https://tasaonline.org.au/wp-content/uploads/2019/02/TOTT.jpg
END:VEVENT
BEGIN:VEVENT
DTSTART;VALUE=DATE:20200210
DTEND;VALUE=DATE:20200211
DTSTAMP:20260425T051458
CREATED:20191215T072412Z
LAST-MODIFIED:20191215T072609Z
UID:10015510-1581292800-1581379199@tasaonline.org.au
SUMMARY:Adelaide Gang Show - 2020 Auditions
DESCRIPTION:Join Adelaide Gang Show for our 60th Season – Applications now available.\nAdelaide Gang Show is a Not for Profit Youth Performing Arts Program of Scouts SA\, currently celebrating 60 years of Production.\nCast is open to youth aged between 8 and 26 years\, and are registered members of either Scouts SA or Girl Guides SA. \nDo you enjoy Singing\, Acting or Dancing?\nHave you ever wanted to be on Stage or in a Theatre Production?\nHave a interest behind the scenes in set design\, Lighting or Sound?\nSee our Website for more information: www.adelaidegangshow.com.au\, or Contact Administration Director Jack Bruce at administration@adelaidegangshow.com.au \nAudition Locations\n– 10th\, 17th\, 24th Feb Payneham Youth Centre (Turner St\, Felixstow)\n– 29th Feb Scout HQ (211 Glen Osmond Rd\, Frewville) \nHow to Apply for our 2020 Season\nStep 1: Apply for an Audition session for Cast\nFollow the link to trybooking: https://www.trybooking.com/BGCYI \nStep 2: Apply for Adelaide Gang Show\nFollow the link to access the registration page through Myscout: https://sa.myscout.com.au/events/56/registration\nRequires your Date of birth and your Scout Member number. \nIf you do not know your Scout Member number\, please contact your Scout Group or Scouts SA HQ\, if you have been a member of Adelaide Gang Show in the past you can contact Jack Bruce\, Administration Director (administration@adelaidegangshow.com.au).\nIf you are a Girl Guide or are not currently a Member of Scouts SA Branch\, please contact the Administration Director. There is some additional paperwork required to get you onto our System. \n  \n \n\n 
URL:https://tasaonline.org.au/events/adelaide-gang-show-2020-auditions/2020-02-10/
LOCATION:SA\, Australia
CATEGORIES:Auditions
ATTACH;FMTTYPE=image/jpeg:https://tasaonline.org.au/wp-content/uploads/2019/05/AdelaideGangShow.jpg
ORGANIZER;CN="Adelaide Gang Show":MAILTO:administration@adelaidegangshow.com.au
END:VEVENT
BEGIN:VEVENT
DTSTART;VALUE=DATE:20200217
DTEND;VALUE=DATE:20200218
DTSTAMP:20260425T051458
CREATED:20191215T072412Z
LAST-MODIFIED:20191215T072609Z
UID:10015511-1581897600-1581983999@tasaonline.org.au
SUMMARY:Adelaide Gang Show - 2020 Auditions
DESCRIPTION:Join Adelaide Gang Show for our 60th Season – Applications now available.\nAdelaide Gang Show is a Not for Profit Youth Performing Arts Program of Scouts SA\, currently celebrating 60 years of Production.\nCast is open to youth aged between 8 and 26 years\, and are registered members of either Scouts SA or Girl Guides SA. \nDo you enjoy Singing\, Acting or Dancing?\nHave you ever wanted to be on Stage or in a Theatre Production?\nHave a interest behind the scenes in set design\, Lighting or Sound?\nSee our Website for more information: www.adelaidegangshow.com.au\, or Contact Administration Director Jack Bruce at administration@adelaidegangshow.com.au \nAudition Locations\n– 10th\, 17th\, 24th Feb Payneham Youth Centre (Turner St\, Felixstow)\n– 29th Feb Scout HQ (211 Glen Osmond Rd\, Frewville) \nHow to Apply for our 2020 Season\nStep 1: Apply for an Audition session for Cast\nFollow the link to trybooking: https://www.trybooking.com/BGCYI \nStep 2: Apply for Adelaide Gang Show\nFollow the link to access the registration page through Myscout: https://sa.myscout.com.au/events/56/registration\nRequires your Date of birth and your Scout Member number. \nIf you do not know your Scout Member number\, please contact your Scout Group or Scouts SA HQ\, if you have been a member of Adelaide Gang Show in the past you can contact Jack Bruce\, Administration Director (administration@adelaidegangshow.com.au).\nIf you are a Girl Guide or are not currently a Member of Scouts SA Branch\, please contact the Administration Director. There is some additional paperwork required to get you onto our System. \n  \n \n\n 
URL:https://tasaonline.org.au/events/adelaide-gang-show-2020-auditions/2020-02-17/
LOCATION:SA\, Australia
CATEGORIES:Auditions
ATTACH;FMTTYPE=image/jpeg:https://tasaonline.org.au/wp-content/uploads/2019/05/AdelaideGangShow.jpg
ORGANIZER;CN="Adelaide Gang Show":MAILTO:administration@adelaidegangshow.com.au
END:VEVENT
BEGIN:VEVENT
DTSTART;VALUE=DATE:20200224
DTEND;VALUE=DATE:20200225
DTSTAMP:20260425T051458
CREATED:20191215T072412Z
LAST-MODIFIED:20191215T072609Z
UID:10015512-1582502400-1582588799@tasaonline.org.au
SUMMARY:Adelaide Gang Show - 2020 Auditions
DESCRIPTION:Join Adelaide Gang Show for our 60th Season – Applications now available.\nAdelaide Gang Show is a Not for Profit Youth Performing Arts Program of Scouts SA\, currently celebrating 60 years of Production.\nCast is open to youth aged between 8 and 26 years\, and are registered members of either Scouts SA or Girl Guides SA. \nDo you enjoy Singing\, Acting or Dancing?\nHave you ever wanted to be on Stage or in a Theatre Production?\nHave a interest behind the scenes in set design\, Lighting or Sound?\nSee our Website for more information: www.adelaidegangshow.com.au\, or Contact Administration Director Jack Bruce at administration@adelaidegangshow.com.au \nAudition Locations\n– 10th\, 17th\, 24th Feb Payneham Youth Centre (Turner St\, Felixstow)\n– 29th Feb Scout HQ (211 Glen Osmond Rd\, Frewville) \nHow to Apply for our 2020 Season\nStep 1: Apply for an Audition session for Cast\nFollow the link to trybooking: https://www.trybooking.com/BGCYI \nStep 2: Apply for Adelaide Gang Show\nFollow the link to access the registration page through Myscout: https://sa.myscout.com.au/events/56/registration\nRequires your Date of birth and your Scout Member number. \nIf you do not know your Scout Member number\, please contact your Scout Group or Scouts SA HQ\, if you have been a member of Adelaide Gang Show in the past you can contact Jack Bruce\, Administration Director (administration@adelaidegangshow.com.au).\nIf you are a Girl Guide or are not currently a Member of Scouts SA Branch\, please contact the Administration Director. There is some additional paperwork required to get you onto our System. \n  \n \n\n 
URL:https://tasaonline.org.au/events/adelaide-gang-show-2020-auditions/2020-02-24/
LOCATION:SA\, Australia
CATEGORIES:Auditions
ATTACH;FMTTYPE=image/jpeg:https://tasaonline.org.au/wp-content/uploads/2019/05/AdelaideGangShow.jpg
ORGANIZER;CN="Adelaide Gang Show":MAILTO:administration@adelaidegangshow.com.au
END:VEVENT
BEGIN:VEVENT
DTSTART;VALUE=DATE:20200229
DTEND;VALUE=DATE:20200301
DTSTAMP:20260425T051458
CREATED:20191215T072412Z
LAST-MODIFIED:20191215T072609Z
UID:10015513-1582934400-1583020799@tasaonline.org.au
SUMMARY:Adelaide Gang Show - 2020 Auditions
DESCRIPTION:Join Adelaide Gang Show for our 60th Season – Applications now available.\nAdelaide Gang Show is a Not for Profit Youth Performing Arts Program of Scouts SA\, currently celebrating 60 years of Production.\nCast is open to youth aged between 8 and 26 years\, and are registered members of either Scouts SA or Girl Guides SA. \nDo you enjoy Singing\, Acting or Dancing?\nHave you ever wanted to be on Stage or in a Theatre Production?\nHave a interest behind the scenes in set design\, Lighting or Sound?\nSee our Website for more information: www.adelaidegangshow.com.au\, or Contact Administration Director Jack Bruce at administration@adelaidegangshow.com.au \nAudition Locations\n– 10th\, 17th\, 24th Feb Payneham Youth Centre (Turner St\, Felixstow)\n– 29th Feb Scout HQ (211 Glen Osmond Rd\, Frewville) \nHow to Apply for our 2020 Season\nStep 1: Apply for an Audition session for Cast\nFollow the link to trybooking: https://www.trybooking.com/BGCYI \nStep 2: Apply for Adelaide Gang Show\nFollow the link to access the registration page through Myscout: https://sa.myscout.com.au/events/56/registration\nRequires your Date of birth and your Scout Member number. \nIf you do not know your Scout Member number\, please contact your Scout Group or Scouts SA HQ\, if you have been a member of Adelaide Gang Show in the past you can contact Jack Bruce\, Administration Director (administration@adelaidegangshow.com.au).\nIf you are a Girl Guide or are not currently a Member of Scouts SA Branch\, please contact the Administration Director. There is some additional paperwork required to get you onto our System. \n  \n \n\n 
URL:https://tasaonline.org.au/events/adelaide-gang-show-2020-auditions/2020-02-29/
LOCATION:SA\, Australia
CATEGORIES:Auditions
ATTACH;FMTTYPE=image/jpeg:https://tasaonline.org.au/wp-content/uploads/2019/05/AdelaideGangShow.jpg
ORGANIZER;CN="Adelaide Gang Show":MAILTO:administration@adelaidegangshow.com.au
END:VEVENT
END:VCALENDAR