BEGIN:VCALENDAR
VERSION:2.0
PRODID:-//TASA Online - ECPv6.15.15//NONSGML v1.0//EN
CALSCALE:GREGORIAN
METHOD:PUBLISH
X-WR-CALNAME:TASA Online
X-ORIGINAL-URL:https://tasaonline.org.au
X-WR-CALDESC:Events for TASA Online
REFRESH-INTERVAL;VALUE=DURATION:PT1H
X-Robots-Tag:noindex
X-PUBLISHED-TTL:PT1H
BEGIN:VTIMEZONE
TZID:Australia/Adelaide
BEGIN:STANDARD
TZOFFSETFROM:+1030
TZOFFSETTO:+0930
TZNAME:ACST
DTSTART:20190406T163000
END:STANDARD
BEGIN:DAYLIGHT
TZOFFSETFROM:+0930
TZOFFSETTO:+1030
TZNAME:ACDT
DTSTART:20191005T163000
END:DAYLIGHT
BEGIN:STANDARD
TZOFFSETFROM:+1030
TZOFFSETTO:+0930
TZNAME:ACST
DTSTART:20200404T163000
END:STANDARD
BEGIN:DAYLIGHT
TZOFFSETFROM:+0930
TZOFFSETTO:+1030
TZNAME:ACDT
DTSTART:20201003T163000
END:DAYLIGHT
BEGIN:STANDARD
TZOFFSETFROM:+1030
TZOFFSETTO:+0930
TZNAME:ACST
DTSTART:20210403T163000
END:STANDARD
BEGIN:DAYLIGHT
TZOFFSETFROM:+0930
TZOFFSETTO:+1030
TZNAME:ACDT
DTSTART:20211002T163000
END:DAYLIGHT
END:VTIMEZONE
BEGIN:VEVENT
DTSTART;TZID=Australia/Adelaide:20200308T090000
DTEND;TZID=Australia/Adelaide:20200308T150000
DTSTAMP:20260425T014106
CREATED:20200226T100615Z
LAST-MODIFIED:20200226T100615Z
UID:4815-1583658000-1583679600@tasaonline.org.au
SUMMARY:“THAT’S NOT HOW I REMEMBER IT” & “ORANGE IS THE NEW GLASS”
DESCRIPTION:Written By: Don Zolidis\nDirected By: Alicia Zorkovic & Michelle Nightingale \n“That’s Not How I Remember It”\nMum and Dad love to tell the story of how they met in 1986 — “pretty much the most awesome year ever.” Trouble is\, they remember their courtship completely differently. Mum’s version makes their meeting sound like a sappy romantic comedy while Dad somehow makes himself the star of a karate battle. This tubular one-act is a crazy homage to bad 80s movies and the inadequacies of memory. \nPLUS \n“Orange is the New Glass”\nIn a fairy-tale kingdom obsessed with pop culture and social media\, fairy godmothers are lawyers and the Three Little Pig-arazzi chase celebrities. But when Cinderella leaves her self-absorbed prince and winds up in jail with an unlikely girl squad\, she doesn’t just cause a sensation–she starts a revolution. A warmhearted comedy full of clever characters. \nPlease visit our website and download the Audition Information Pack before booking an audition spot. Please contact us if you have any questions about the production. Thanks \n\n\n\nRole Name\nGender\nStage Age\nRole Information\n\n\nVarious\nUndefined\nAll actors to be aged 9-21\nMany roles to choose from over two plays\n\n\n\n 
URL:https://tasaonline.org.au/events/thats-not-how-i-remember-it-orange-is-the-new-glass/
LOCATION:SA\, Australia
CATEGORIES:Auditions
ATTACH;FMTTYPE=image/jpeg:https://tasaonline.org.au/wp-content/uploads/2020/01/wings2fly.jpg
ORGANIZER;CN="Wings2Fly Theatre":MAILTO:wings2flytheatre@gmail.com
END:VEVENT
END:VCALENDAR