BEGIN:VCALENDAR
VERSION:2.0
PRODID:-//TASA Online - ECPv6.15.15//NONSGML v1.0//EN
CALSCALE:GREGORIAN
METHOD:PUBLISH
X-WR-CALNAME:TASA Online
X-ORIGINAL-URL:https://tasaonline.org.au
X-WR-CALDESC:Events for TASA Online
REFRESH-INTERVAL;VALUE=DURATION:PT1H
X-Robots-Tag:noindex
X-PUBLISHED-TTL:PT1H
BEGIN:VTIMEZONE
TZID:Australia/Adelaide
BEGIN:STANDARD
TZOFFSETFROM:+1030
TZOFFSETTO:+0930
TZNAME:ACST
DTSTART:20250405T163000
END:STANDARD
BEGIN:DAYLIGHT
TZOFFSETFROM:+0930
TZOFFSETTO:+1030
TZNAME:ACDT
DTSTART:20251004T163000
END:DAYLIGHT
BEGIN:STANDARD
TZOFFSETFROM:+1030
TZOFFSETTO:+0930
TZNAME:ACST
DTSTART:20260404T163000
END:STANDARD
BEGIN:DAYLIGHT
TZOFFSETFROM:+0930
TZOFFSETTO:+1030
TZNAME:ACDT
DTSTART:20261003T163000
END:DAYLIGHT
BEGIN:STANDARD
TZOFFSETFROM:+1030
TZOFFSETTO:+0930
TZNAME:ACST
DTSTART:20270403T163000
END:STANDARD
BEGIN:DAYLIGHT
TZOFFSETFROM:+0930
TZOFFSETTO:+1030
TZNAME:ACDT
DTSTART:20271002T163000
END:DAYLIGHT
END:VTIMEZONE
BEGIN:VEVENT
DTSTART;TZID=Australia/Adelaide:20260425T140000
DTEND;TZID=Australia/Adelaide:20260425T163000
DTSTAMP:20260425T020734
CREATED:20260302T021717Z
LAST-MODIFIED:20260302T022908Z
UID:10025115-1777125600-1777134600@tasaonline.org.au
SUMMARY:The PIRATES of PENZANCE
DESCRIPTION:Gilbert and Sullivan’s well loved tale of Piracy and Burglary\, love and laughter… \nFrederic is 21\, and released from his apprenticeship. The Pirates will miss him – or will they… turns out he’s not really 21 after all\, and won’t be for over 60 years! \nWhich will win\, love or duty? \nEnjoy this full production of The Pirates of Penzance at the Tower Arts Centre this April\, with some of the best known G&S songs you’ll be tapping along with the cast. Book early online to choose the best seats!
URL:https://tasaonline.org.au/events/the-pirates-of-penzance-2/2026-04-25/1/
LOCATION:Tower Arts Centre\, cnr Daws Rd & Goodwood Rd\, Pasadena\, SA\, 5042\, Australia
CATEGORIES:Productions
ATTACH;FMTTYPE=image/jpeg:https://tasaonline.org.au/wp-content/uploads/2026/02/Pirates.avif
ORGANIZER;CN="South Australia Light Opera Society":MAILTO:salospublicity@gmail.com
END:VEVENT
BEGIN:VEVENT
DTSTART;TZID=Australia/Adelaide:20260425T193000
DTEND;TZID=Australia/Adelaide:20260425T220000
DTSTAMP:20260425T020734
CREATED:20260302T021717Z
LAST-MODIFIED:20260302T022908Z
UID:10025116-1777145400-1777154400@tasaonline.org.au
SUMMARY:The PIRATES of PENZANCE
DESCRIPTION:Gilbert and Sullivan’s well loved tale of Piracy and Burglary\, love and laughter… \nFrederic is 21\, and released from his apprenticeship. The Pirates will miss him – or will they… turns out he’s not really 21 after all\, and won’t be for over 60 years! \nWhich will win\, love or duty? \nEnjoy this full production of The Pirates of Penzance at the Tower Arts Centre this April\, with some of the best known G&S songs you’ll be tapping along with the cast. Book early online to choose the best seats!
URL:https://tasaonline.org.au/events/the-pirates-of-penzance-2/2026-04-25/2/
LOCATION:Tower Arts Centre\, cnr Daws Rd & Goodwood Rd\, Pasadena\, SA\, 5042\, Australia
CATEGORIES:Productions
ATTACH;FMTTYPE=image/jpeg:https://tasaonline.org.au/wp-content/uploads/2026/02/Pirates.avif
ORGANIZER;CN="South Australia Light Opera Society":MAILTO:salospublicity@gmail.com
END:VEVENT
BEGIN:VEVENT
DTSTART;TZID=Australia/Adelaide:20260426T140000
DTEND;TZID=Australia/Adelaide:20260426T163000
DTSTAMP:20260425T020734
CREATED:20260302T021717Z
LAST-MODIFIED:20260302T022908Z
UID:10025117-1777212000-1777221000@tasaonline.org.au
SUMMARY:The PIRATES of PENZANCE
DESCRIPTION:Gilbert and Sullivan’s well loved tale of Piracy and Burglary\, love and laughter… \nFrederic is 21\, and released from his apprenticeship. The Pirates will miss him – or will they… turns out he’s not really 21 after all\, and won’t be for over 60 years! \nWhich will win\, love or duty? \nEnjoy this full production of The Pirates of Penzance at the Tower Arts Centre this April\, with some of the best known G&S songs you’ll be tapping along with the cast. Book early online to choose the best seats!
URL:https://tasaonline.org.au/events/the-pirates-of-penzance-2/2026-04-26/
LOCATION:Tower Arts Centre\, cnr Daws Rd & Goodwood Rd\, Pasadena\, SA\, 5042\, Australia
CATEGORIES:Productions
ATTACH;FMTTYPE=image/jpeg:https://tasaonline.org.au/wp-content/uploads/2026/02/Pirates.avif
ORGANIZER;CN="South Australia Light Opera Society":MAILTO:salospublicity@gmail.com
END:VEVENT
BEGIN:VEVENT
DTSTART;TZID=Australia/Adelaide:20260430T193000
DTEND;TZID=Australia/Adelaide:20260430T221500
DTSTAMP:20260425T020734
CREATED:20260402T003702Z
LAST-MODIFIED:20260402T003702Z
UID:10025217-1777577400-1777587300@tasaonline.org.au
SUMMARY:AN ENEMY OF THE PEOPLE
DESCRIPTION:Dr. Katherine Stockman lives in a tight-knit community – she is woven into the town’s fabric and is viewed as a local hero after advocating for the popular local baths. One day she makes a disturbing discovery: the spa water for which the town is famed is severely polluted. Now the baths attract visitors and are central to the community’s prosperity\, but this prosperity has been built on poison\, and the truth must be told. Katherine believes it is her duty to alert the public. However\, this decision quickly backfires. To her horror\, people refuse to believe that there is a problem and argue that the economic well-being of the community must come first. What does she do? Does she fight for the truth if it means the loss of income\, family\, community\, identity? Stockmann’s struggle unfolds as a powerful indictment of the hypocrisy that often surrounds public sentiment.
URL:https://tasaonline.org.au/events/an-enemy-of-the-people-3/2026-04-30/
LOCATION:St. Jude’s Players\, 444 Brighton Rd\, Brighton\, South Australia\, 5048\, Australia
CATEGORIES:Productions
ATTACH;FMTTYPE=image/jpeg:https://tasaonline.org.au/wp-content/uploads/2026/03/Enemy.avif
ORGANIZER;CN="St. Jude's Players":MAILTO:info@stjudesplayers.asn.au
END:VEVENT
END:VCALENDAR